Workbook

Sheet ①出番表
B2: 大会登録No. | E2: 開催日： | J2: 主任審判員署名：
B3: 大会名： | P3: 公式発表時刻：
B4: 第 | D4: 競技 | E4: 競技名：
B5: 認定競技No. | E5: クラス：
A6: E: | B6: 会員番号 | D6: 審判名
A7: H: | B7: 会員番号 | D7: 審判名
A8: C: | B8: 会員番号 | D8: 審判名
A9: M: | B9: 会員番号 | D9: 審判名
A10: B: | B10: 会員番号 | D10: 審判名
H11: 得 点 率 | R11: 最終 | S11: 備考
A12: OPEN | B12: 出番 | C12: 選手名 | D12: 会員番号 | E12: 馬匹名 | F12: 登録番号 | G12: 所 属 | H12: E | J12: H | L12: C | N12: M | P12: B | R12: 得点率
B13: 1
B14: 2
B15: 3
B16: 4
B17: 5
B18: 6
B19: 7
B20: 8
B21: 9
B22: 10
B23: 11
B24: 12
... B62: 50

Sheet ②入力シート
A1: 競技名 | B1: =IF(①出番表!F4=0,"",①出番表!F4) | N1: 日付 | O1: =IF(①出番表!F2=0,"",①出番表!F2) | T1: 審判数 | U1: =COUNTA(①出番表!E6:E10) -> 0
A3: 出番 | B3: 1 | G3: 出場処理 | N3: 出番 | O3: =B3+1 -> 2 | T3: 出場処理 | AA3: 出番 | AB3: =O3+1 -> 3 | AG3: 出場処理 | AN3: 出番 | AO3: =AB3+1 -> 4 | AT3: 出場処理 | BA3: 出番 | BB3: =AO3+1 -> 5 | BG3: 出場処理 | BN3: 出番 | BO3: =BB3+1 -> 6 | BT3: 出場処理 | CA3: 出番 | CB3: =BO3+1 -> 7 | CG3: 出場処理 | CN3: 出番 | CO3: =CB3+1 -> 8 | CT3: 出場処理 | DA3: 出番 | DB3: =CO3+1 -> 9 | DG3: 出場処理 | DN3: 出番 | DO3: =DB3+1 -> 10 | DT3: 出場処理 | EA3: 出番 | EB3: =DO3+1 -> 11 | EG3: 出場処理 | EN3: 出番 | EO3: =EB3+1 -> 12 | ET3: 出場処理 | FA3: 出番 | FB3: =EO3+1 -> 13 | FG3: 出場処理 | FN3: 出番 | FO3: =FB3+1 -> 14 | FT3: 出場処理 | GA3: 出番 | GB3: =FO3+1 -> 15 | GG3: 出場処理 | GN3: 出番 | GO3: =GB3+1 -> 16 | GT3: 出場処理 | HA3: 出番 | HB3: =GO3+1 -> 17 | HG3: 出場処理 | HN3: 出番 | HO3: =HB3+1 -> 18 | HT3: 出場処理 | IA3: 出番 | IB3: =HO3+1 -> 19 | IG3: 出場処理 | IN3: 出番 | IO3: =IB3+1 -> 20 | IT3: 出場処理 | JA3: 出番 | JB3: =IO3+1 -> 21 | JG3: 出場処理 | JN3: 出番 | JO3: =JB3+1 -> 22 | JT3: 出場処理 | KA3: 出番 | KB3: =JO3+1 -> 23 | KG3: 出場処理 | KN3: 出番 | KO3: =KB3+1 -> 24 | KT3: 出場処理 | LA3: 出番 | LB3: =KO3+1 -> 25 | LG3: 出場処理 | LN3: 出番 | LO3: =LB3+1 -> 26 | LT3: 出場処理 | MA3: 出番 | MB3: =LO3+1 -> 27 | MG3: 出場処理 | MN3: 出番 | MO3: =MB3+1 -> 28 | MT3: 出場処理 | NA3: 出番 | NB3: =MO3+1 -> 29 | NG3: 出場処理 | NN3: 出番 | NO3: =NB3+1 -> 30 | NT3: 出場処理 | OA3: 出番 | OB3: =NO3+1 -> 31 | OG3: 出場処理 | ON3: 出番 | OO3: =OB3+1 -> 32 | OT3: 出場処理 | PA3: 出番 | PB3: =OO3+1 -> 33 | PG3: 出場処理 | PN3: 出番 | PO3: =PB3+1 -> 34 | PT3: 出場処理 | QA3: 出番 | QB3: =PO3+1 -> 35 | QG3: 出場処理 | QN3: 出番 | QO3: =QB3+1 -> 36 | QT3: 出場処理 | RA3: 出番 | RB3: =QO3+1 -> 37 | RG3: 出場処理 | RN3: 出番 | RO3: =RB3+1 -> 38 | RT3: 出場処理 | SA3: 出番 | SB3: =RO3+1 -> 39 | SG3: 出場処理 | SN3: 出番 | SO3: =SB3+1 -> 40 | ST3: 出場処理 | TA3: 出番 | TB3: =SO3+1 -> 41 | TG3: 出場処理 | TN3: 出番 | TO3: =TB3+1 -> 42 | TT3: 出場処理 | UA3: 出番 | UB3: =TO3+1 -> 43 | UG3: 出場処理 | UN3: 出番 | UO3: =UB3+1 -> 44 | UT3: 出場処理 | VA3: 出番 | VB3: =UO3+1 -> 45 | VG3: 出場処理 | VN3: 出番 | VO3: =VB3+1 -> 46 | VT3: 出場処理 | WA3: 出番 | WB3: =VO3+1 -> 47 | WG3: 出場処理 | WN3: 出番 | WO3: =WB3+1 -> 48 | WT3: 出場処理 | XA3: 出番 | XB3: =WO3+1 -> 49 | XG3: 出場処理 | XN3: 出番 | XO3: =XB3+1 -> 50 | XT3: 出場処理
A4: 選手 | B4: =IF(VLOOKUP(B$3,①出番表!$B$13:$G$62,2,1)=0,"",VLOOKUP(B$3,①出番表!$B$13:$G$62,2,1)) | G4: 馬名 | H4: =IF(VLOOKUP(B$3,①出番表!$B$13:$G$62,4,1)=0,"",VLOOKUP(B$3,①出番表!$B$13:$G$62,4,1)) | N4: 選手 | O4: =IF(VLOOKUP(O$3,①出番表!$B$13:$G$62,2,1)=0,"",VLOOKUP(O$3,①出番表!$B$13:$G$62,2,1)) | T4: 馬名 | U4: =IF(VLOOKUP(O$3,①出番表!$B$13:$G$62,4,1)=0,"",VLOOKUP(O$3,①出番表!$B$13:$G$62,4,1)) | AA4: 選手 | AB4: =IF(VLOOKUP(AB$3,①出番表!$B$13:$G$62,2,1)=0,"",VLOOKUP(AB$3,①出番表!$B$13:$G$62,2,1)) | AG4: 馬名 | AH4: =IF(VLOOKUP(AB$3,①出番表!$B$13:$G$62,4,1)=0,"",VLOOKUP(AB$3,①出番表!$B$13:$G$62,4,1)) | AN4: 選手 | AO4: =IF(VLOOKUP(AO$3,①出番表!$B$13:$G$62,2,1)=0,"",VLOOKUP(AO$3,①出番表!$B$13:$G$62,2,1)) | AT4: 馬名 | AU4: =IF(VLOOKUP(AO$3,①出番表!$B$13:$G$62,4,1)=0,"",VLOOKUP(AO$3,①出番表!$B$13:$G$62,4,1)) | BA4: 選手 | BB4: =IF(VLOOKUP(BB$3,①出番表!$B$13:$G$62,2,1)=0,"",VLOOKUP(BB$3,①出番表!$B$13:$G$62,2,1)) | BG4: 馬名 | BH4: =IF(VLOOKUP(BB$3,①出番表!$B$13:$G$62,4,1)=0,"",VLOOKUP(BB$3,①出番表!$B$13:$G$62,4,1)) | BN4: 選手 | BO4: =IF(VLOOKUP(BO$3,①出番表!$B$13:$G$62,2,1)=0,"",VLOOKUP(BO$3,①出番表!$B$13:$G$62,2,1)) | BT4: 馬名 | BU4: =IF(VLOOKUP(BO$3,①出番表!$B$13:$G$62,4,1)=0,"",VLOOKUP(BO$3,①出番表!$B$13:$G$62,4,1)) | CA4: 選手 | CB4: =IF(VLOOKUP(CB$3,①出番表!$B$13:$G$62,2,1)=0,"",VLOOKUP(CB$3,①出番表!$B$13:$G$62,2,1)) | CG4: 馬名 | CH4: =IF(VLOOKUP(CB$3,①出番表!$B$13:$G$62,4,1)=0,"",VLOOKUP(CB$3,①出番表!$B$13:$G$62,4,1)) | CN4: 選手 | CO4: =IF(VLOOKUP(CO$3,①出番表!$B$13:$G$62,2,1)=0,"",VLOOKUP(CO$3,①出番表!$B$13:$G$62,2,1)) | CT4: 馬名 | CU4: =IF(VLOOKUP(CO$3,①出番表!$B$13:$G$62,4,1)=0,"",VLOOKUP(CO$3,①出番表!$B$13:$G$62,4,1)) | DA4: 選手 | DB4: =IF(VLOOKUP(DB$3,①出番表!$B$13:$G$62,2,1)=0,"",VLOOKUP(DB$3,①出番表!$B$13:$G$62,2,1)) | DG4: 馬名 | DH4: =IF(VLOOKUP(DB$3,①出番表!$B$13:$G$62,4,1)=0,"",VLOOKUP(DB$3,①出番表!$B$13:$G$62,4,1)) | DN4: 選手 | DO4: =IF(VLOOKUP(DO$3,①出番表!$B$13:$G$62,2,1)=0,"",VLOOKUP(DO$3,①出番表!$B$13:$G$62,2,1)) | DT4: 馬名 | DU4: =IF(VLOOKUP(DO$3,①出番表!$B$13:$G$62,4,1)=0,"",VLOOKUP(DO$3,①出番表!$B$13:$G$62,4,1)) | EA4: 選手 | EB4: =IF(VLOOKUP(EB$3,①出番表!$B$13:$G$62,2,1)=0,"",VLOOKUP(EB$3,①出番表!$B$13:$G$62,2,1)) | EG4: 馬名 | EH4: =IF(VLOOKUP(EB$3,①出番表!$B$13:$G$62,4,1)=0,"",VLOOKUP(EB$3,①出番表!$B$13:$G$62,4,1)) | EN4: 選手 | EO4: =IF(VLOOKUP(EO$3,①出番表!$B$13:$G$62,2,1)=0,"",VLOOKUP(EO$3,①出番表!$B$13:$G$62,2,1)) | ET4: 馬名 | EU4: =IF(VLOOKUP(EO$3,①出番表!$B$13:$G$62,4,1)=0,"",VLOOKUP(EO$3,①出番表!$B$13:$G$62,4,1)) | FA4: 選手 | FB4: =IF(VLOOKUP(FB$3,①出番表!$B$13:$G$62,2,1)=0,"",VLOOKUP(FB$3,①出番表!$B$13:$G$62,2,1)) | FG4: 馬名 | FH4: =IF(VLOOKUP(FB$3,①出番表!$B$13:$G$62,4,1)=0,"",VLOOKUP(FB$3,①出番表!$B$13:$G$62,4,1)) | FN4: 選手 | FO4: =IF(VLOOKUP(FO$3,①出番表!$B$13:$G$62,2,1)=0,"",VLOOKUP(FO$3,①出番表!$B$13:$G$62,2,1)) | FT4: 馬名 | FU4: =IF(VLOOKUP(FO$3,①出番表!$B$13:$G$62,4,1)=0,"",VLOOKUP(FO$3,①出番表!$B$13:$G$62,4,1)) | GA4: 選手 | GB4: =IF(VLOOKUP(GB$3,①出番表!$B$13:$G$62,2,1)=0,"",VLOOKUP(GB$3,①出番表!$B$13:$G$62,2,1)) | GG4: 馬名 | GH4: =IF(VLOOKUP(GB$3,①出番表!$B$13:$G$62,4,1)=0,"",VLOOKUP(GB$3,①出番表!$B$13:$G$62,4,1)) | GN4: 選手 | GO4: =IF(VLOOKUP(GO$3,①出番表!$B$13:$G$62,2,1)=0,"",VLOOKUP(GO$3,①出番表!$B$13:$G$62,2,1)) | GT4: 馬名 | GU4: =IF(VLOOKUP(GO$3,①出番表!$B$13:$G$62,4,1)=0,"",VLOOKUP(GO$3,①出番表!$B$13:$G$62,4,1)) | HA4: 選手 | HB4: =IF(VLOOKUP(HB$3,①出番表!$B$13:$G$62,2,1)=0,"",VLOOKUP(HB$3,①出番表!$B$13:$G$62,2,1)) | HG4: 馬名 | HH4: =IF(VLOOKUP(HB$3,①出番表!$B$13:$G$62,4,1)=0,"",VLOOKUP(HB$3,①出番表!$B$13:$G$62,4,1)) | HN4: 選手 | HO4: =IF(VLOOKUP(HO$3,①出番表!$B$13:$G$62,2,1)=0,"",VLOOKUP(HO$3,①出番表!$B$13:$G$62,2,1)) | HT4: 馬名 | HU4: =IF(VLOOKUP(HO$3,①出番表!$B$13:$G$62,4,1)=0,"",VLOOKUP(HO$3,①出番表!$B$13:$G$62,4,1)) | IA4: 選手 | IB4: =IF(VLOOKUP(IB$3,①出番表!$B$13:$G$62,2,1)=0,"",VLOOKUP(IB$3,①出番表!$B$13:$G$62,2,1)) | IG4: 馬名 | IH4: =IF(VLOOKUP(IB$3,①出番表!$B$13:$G$62,4,1)=0,"",VLOOKUP(IB$3,①出番表!$B$13:$G$62,4,1)) | IN4: 選手 | IO4: =IF(VLOOKUP(IO$3,①出番表!$B$13:$G$62,2,1)=0,"",VLOOKUP(IO$3,①出番表!$B$13:$G$62,2,1)) | IT4: 馬名 | IU4: =IF(VLOOKUP(IO$3,①出番表!$B$13:$G$62,4,1)=0,"",VLOOKUP(IO$3,①出番表!$B$13:$G$62,4,1)) | JA4: 選手 | JB4: =IF(VLOOKUP(JB$3,①出番表!$B$13:$G$62,2,1)=0,"",VLOOKUP(JB$3,①出番表!$B$13:$G$62,2,1)) | JG4: 馬名 | JH4: =IF(VLOOKUP(JB$3,①出番表!$B$13:$G$62,4,1)=0,"",VLOOKUP(JB$3,①出番表!$B$13:$G$62,4,1)) | JN4: 選手 | JO4: =IF(VLOOKUP(JO$3,①出番表!$B$13:$G$62,2,1)=0,"",VLOOKUP(JO$3,①出番表!$B$13:$G$62,2,1)) | JT4: 馬名 | JU4: =IF(VLOOKUP(JO$3,①出番表!$B$13:$G$62,4,1)=0,"",VLOOKUP(JO$3,①出番表!$B$13:$G$62,4,1)) | KA4: 選手 | KB4: =IF(VLOOKUP(KB$3,①出番表!$B$13:$G$62,2,1)=0,"",VLOOKUP(KB$3,①出番表!$B$13:$G$62,2,1)) | KG4: 馬名 | KH4: =IF(VLOOKUP(KB$3,①出番表!$B$13:$G$62,4,1)=0,"",VLOOKUP(KB$3,①出番表!$B$13:$G$62,4,1)) | KN4: 選手 | KO4: =IF(VLOOKUP(KO$3,①出番表!$B$13:$G$62,2,1)=0,"",VLOOKUP(KO$3,①出番表!$B$13:$G$62,2,1)) | KT4: 馬名 | KU4: =IF(VLOOKUP(KO$3,①出番表!$B$13:$G$62,4,1)=0,"",VLOOKUP(KO$3,①出番表!$B$13:$G$62,4,1)) | LA4: 選手 | LB4: =IF(VLOOKUP(LB$3,①出番表!$B$13:$G$62,2,1)=0,"",VLOOKUP(LB$3,①出番表!$B$13:$G$62,2,1)) | LG4: 馬名 | LH4: =IF(VLOOKUP(LB$3,①出番表!$B$13:$G$62,4,1)=0,"",VLOOKUP(LB$3,①出番表!$B$13:$G$62,4,1)) | LN4: 選手 | LO4: =IF(VLOOKUP(LO$3,①出番表!$B$13:$G$62,2,1)=0,"",VLOOKUP(LO$3,①出番表!$B$13:$G$62,2,1)) | LT4: 馬名 | LU4: =IF(VLOOKUP(LO$3,①出番表!$B$13:$G$62,4,1)=0,"",VLOOKUP(LO$3,①出番表!$B$13:$G$62,4,1)) | MA4: 選手 | MB4: =IF(VLOOKUP(MB$3,①出番表!$B$13:$G$62,2,1)=0,"",VLOOKUP(MB$3,①出番表!$B$13:$G$62,2,1)) | MG4: 馬名 | MH4: =IF(VLOOKUP(MB$3,①出番表!$B$13:$G$62,4,1)=0,"",VLOOKUP(MB$3,①出番表!$B$13:$G$62,4,1)) | MN4: 選手 | MO4: =IF(VLOOKUP(MO$3,①出番表!$B$13:$G$62,2,1)=0,"",VLOOKUP(MO$3,①出番表!$B$13:$G$62,2,1)) | MT4: 馬名 | MU4: =IF(VLOOKUP(MO$3,①出番表!$B$13:$G$62,4,1)=0,"",VLOOKUP(MO$3,①出番表!$B$13:$G$62,4,1)) | NA4: 選手 | NB4: =IF(VLOOKUP(NB$3,①出番表!$B$13:$G$62,2,1)=0,"",VLOOKUP(NB$3,①出番表!$B$13:$G$62,2,1)) | NG4: 馬名 | NH4: =IF(VLOOKUP(NB$3,①出番表!$B$13:$G$62,4,1)=0,"",VLOOKUP(NB$3,①出番表!$B$13:$G$62,4,1)) | NN4: 選手 | NO4: =IF(VLOOKUP(NO$3,①出番表!$B$13:$G$62,2,1)=0,"",VLOOKUP(NO$3,①出番表!$B$13:$G$62,2,1)) | NT4: 馬名 | NU4: =IF(VLOOKUP(NO$3,①出番表!$B$13:$G$62,4,1)=0,"",VLOOKUP(NO$3,①出番表!$B$13:$G$62,4,1)) | OA4: 選手 | OB4: =IF(VLOOKUP(OB$3,①出番表!$B$13:$G$62,2,1)=0,"",VLOOKUP(OB$3,①出番表!$B$13:$G$62,2,1)) | OG4: 馬名 | OH4: =IF(VLOOKUP(OB$3,①出番表!$B$13:$G$62,4,1)=0,"",VLOOKUP(OB$3,①出番表!$B$13:$G$62,4,1)) | ON4: 選手 | OO4: =IF(VLOOKUP(OO$3,①出番表!$B$13:$G$62,2,1)=0,"",VLOOKUP(OO$3,①出番表!$B$13:$G$62,2,1)) | OT4: 馬名 | OU4: =IF(VLOOKUP(OO$3,①出番表!$B$13:$G$62,4,1)=0,"",VLOOKUP(OO$3,①出番表!$B$13:$G$62,4,1)) | PA4: 選手 | PB4: =IF(VLOOKUP(PB$3,①出番表!$B$13:$G$62,2,1)=0,"",VLOOKUP(PB$3,①出番表!$B$13:$G$62,2,1)) | PG4: 馬名 | PH4: =IF(VLOOKUP(PB$3,①出番表!$B$13:$G$62,4,1)=0,"",VLOOKUP(PB$3,①出番表!$B$13:$G$62,4,1)) | PN4: 選手 | PO4: =IF(VLOOKUP(PO$3,①出番表!$B$13:$G$62,2,1)=0,"",VLOOKUP(PO$3,①出番表!$B$13:$G$62,2,1)) | PT4: 馬名 | PU4: =IF(VLOOKUP(PO$3,①出番表!$B$13:$G$62,4,1)=0,"",VLOOKUP(PO$3,①出番表!$B$13:$G$62,4,1)) | QA4: 選手 | QB4: =IF(VLOOKUP(QB$3,①出番表!$B$13:$G$62,2,1)=0,"",VLOOKUP(QB$3,①出番表!$B$13:$G$62,2,1)) | QG4: 馬名 | QH4: =IF(VLOOKUP(QB$3,①出番表!$B$13:$G$62,4,1)=0,"",VLOOKUP(QB$3,①出番表!$B$13:$G$62,4,1)) | QN4: 選手 | QO4: =IF(VLOOKUP(QO$3,①出番表!$B$13:$G$62,2,1)=0,"",VLOOKUP(QO$3,①出番表!$B$13:$G$62,2,1)) | QT4: 馬名 | QU4: =IF(VLOOKUP(QO$3,①出番表!$B$13:$G$62,4,1)=0,"",VLOOKUP(QO$3,①出番表!$B$13:$G$62,4,1)) | RA4: 選手 | RB4: =IF(VLOOKUP(RB$3,①出番表!$B$13:$G$62,2,1)=0,"",VLOOKUP(RB$3,①出番表!$B$13:$G$62,2,1)) | RG4: 馬名 | RH4: =IF(VLOOKUP(RB$3,①出番表!$B$13:$G$62,4,1)=0,"",VLOOKUP(RB$3,①出番表!$B$13:$G$62,4,1)) | RN4: 選手 | RO4: =IF(VLOOKUP(RO$3,①出番表!$B$13:$G$62,2,1)=0,"",VLOOKUP(RO$3,①出番表!$B$13:$G$62,2,1)) | RT4: 馬名 | RU4: =IF(VLOOKUP(RO$3,①出番表!$B$13:$G$62,4,1)=0,"",VLOOKUP(RO$3,①出番表!$B$13:$G$62,4,1)) | SA4: 選手 | SB4: =IF(VLOOKUP(SB$3,①出番表!$B$13:$G$62,2,1)=0,"",VLOOKUP(SB$3,①出番表!$B$13:$G$62,2,1)) | SG4: 馬名 | SH4: =IF(VLOOKUP(SB$3,①出番表!$B$13:$G$62,4,1)=0,"",VLOOKUP(SB$3,①出番表!$B$13:$G$62,4,1)) | SN4: 選手 | SO4: =IF(VLOOKUP(SO$3,①出番表!$B$13:$G$62,2,1)=0,"",VLOOKUP(SO$3,①出番表!$B$13:$G$62,2,1)) | ST4: 馬名 | SU4: =IF(VLOOKUP(SO$3,①出番表!$B$13:$G$62,4,1)=0,"",VLOOKUP(SO$3,①出番表!$B$13:$G$62,4,1)) | TA4: 選手 | TB4: =IF(VLOOKUP(TB$3,①出番表!$B$13:$G$62,2,1)=0,"",VLOOKUP(TB$3,①出番表!$B$13:$G$62,2,1)) | TG4: 馬名 | TH4: =IF(VLOOKUP(TB$3,①出番表!$B$13:$G$62,4,1)=0,"",VLOOKUP(TB$3,①出番表!$B$13:$G$62,4,1)) | TN4: 選手 | TO4: =IF(VLOOKUP(TO$3,①出番表!$B$13:$G$62,2,1)=0,"",VLOOKUP(TO$3,①出番表!$B$13:$G$62,2,1)) | TT4: 馬名 | TU4: =IF(VLOOKUP(TO$3,①出番表!$B$13:$G$62,4,1)=0,"",VLOOKUP(TO$3,①出番表!$B$13:$G$62,4,1)) | UA4: 選手 | UB4: =IF(VLOOKUP(UB$3,①出番表!$B$13:$G$62,2,1)=0,"",VLOOKUP(UB$3,①出番表!$B$13:$G$62,2,1)) | UG4: 馬名 | UH4: =IF(VLOOKUP(UB$3,①出番表!$B$13:$G$62,4,1)=0,"",VLOOKUP(UB$3,①出番表!$B$13:$G$62,4,1)) | UN4: 選手 | UO4: =IF(VLOOKUP(UO$3,①出番表!$B$13:$G$62,2,1)=0,"",VLOOKUP(UO$3,①出番表!$B$13:$G$62,2,1)) | UT4: 馬名 | UU4: =IF(VLOOKUP(UO$3,①出番表!$B$13:$G$62,4,1)=0,"",VLOOKUP(UO$3,①出番表!$B$13:$G$62,4,1)) | VA4: 選手 | VB4: =IF(VLOOKUP(VB$3,①出番表!$B$13:$G$62,2,1)=0,"",VLOOKUP(VB$3,①出番表!$B$13:$G$62,2,1)) | VG4: 馬名 | VH4: =IF(VLOOKUP(VB$3,①出番表!$B$13:$G$62,4,1)=0,"",VLOOKUP(VB$3,①出番表!$B$13:$G$62,4,1)) | VN4: 選手 | VO4: =IF(VLOOKUP(VO$3,①出番表!$B$13:$G$62,2,1)=0,"",VLOOKUP(VO$3,①出番表!$B$13:$G$62,2,1)) | VT4: 馬名 | VU4: =IF(VLOOKUP(VO$3,①出番表!$B$13:$G$62,4,1)=0,"",VLOOKUP(VO$3,①出番表!$B$13:$G$62,4,1)) | WA4: 選手 | WB4: =IF(VLOOKUP(WB$3,①出番表!$B$13:$G$62,2,1)=0,"",VLOOKUP(WB$3,①出番表!$B$13:$G$62,2,1)) | WG4: 馬名 | WH4: =IF(VLOOKUP(WB$3,①出番表!$B$13:$G$62,4,1)=0,"",VLOOKUP(WB$3,①出番表!$B$13:$G$62,4,1)) | WN4: 選手 | WO4: =IF(VLOOKUP(WO$3,①出番表!$B$13:$G$62,2,1)=0,"",VLOOKUP(WO$3,①出番表!$B$13:$G$62,2,1)) | WT4: 馬名 | WU4: =IF(VLOOKUP(WO$3,①出番表!$B$13:$G$62,4,1)=0,"",VLOOKUP(WO$3,①出番表!$B$13:$G$62,4,1)) | XA4: 選手 | XB4: =IF(VLOOKUP(XB$3,①出番表!$B$13:$G$62,2,1)=0,"",VLOOKUP(XB$3,①出番表!$B$13:$G$62,2,1)) | XG4: 馬名 | XH4: =IF(VLOOKUP(XB$3,①出番表!$B$13:$G$62,4,1)=0,"",VLOOKUP(XB$3,①出番表!$B$13:$G$62,4,1)) | XN4: 選手 | XO4: =IF(VLOOKUP(XO$3,①出番表!$B$13:$G$62,2,1)=0,"",VLOOKUP(XO$3,①出番表!$B$13:$G$62,2,1)) | XT4: 馬名 | XU4: =IF(VLOOKUP(XO$3,①出番表!$B$13:$G$62,4,1)=0,"",VLOOKUP(XO$3,①出番表!$B$13:$G$62,4,1))
A5: 所属 | B5: =IF(VLOOKUP(B$3,①出番表!$B$13:$G$62,6,1)=0,"",VLOOKUP(B$3,①出番表!$B$13:$G$62,6,1)) | N5: 所属 | O5: =IF(VLOOKUP(O$3,①出番表!$B$13:$G$62,6,1)=0,"",VLOOKUP(O$3,①出番表!$B$13:$G$62,6,1)) | AA5: 所属 | AB5: =IF(VLOOKUP(AB$3,①出番表!$B$13:$G$62,6,1)=0,"",VLOOKUP(AB$3,①出番表!$B$13:$G$62,6,1)) | AN5: 所属 | AO5: =IF(VLOOKUP(AO$3,①出番表!$B$13:$G$62,6,1)=0,"",VLOOKUP(AO$3,①出番表!$B$13:$G$62,6,1)) | BA5: 所属 | BB5: =IF(VLOOKUP(BB$3,①出番表!$B$13:$G$62,6,1)=0,"",VLOOKUP(BB$3,①出番表!$B$13:$G$62,6,1)) | BN5: 所属 | BO5: =IF(VLOOKUP(BO$3,①出番表!$B$13:$G$62,6,1)=0,"",VLOOKUP(BO$3,①出番表!$B$13:$G$62,6,1)) | CA5: 所属 | CB5: =IF(VLOOKUP(CB$3,①出番表!$B$13:$G$62,6,1)=0,"",VLOOKUP(CB$3,①出番表!$B$13:$G$62,6,1)) | CN5: 所属 | CO5: =IF(VLOOKUP(CO$3,①出番表!$B$13:$G$62,6,1)=0,"",VLOOKUP(CO$3,①出番表!$B$13:$G$62,6,1)) | DA5: 所属 | DB5: =IF(VLOOKUP(DB$3,①出番表!$B$13:$G$62,6,1)=0,"",VLOOKUP(DB$3,①出番表!$B$13:$G$62,6,1)) | DN5: 所属 | DO5: =IF(VLOOKUP(DO$3,①出番表!$B$13:$G$62,6,1)=0,"",VLOOKUP(DO$3,①出番表!$B$13:$G$62,6,1)) | EA5: 所属 | EB5: =IF(VLOOKUP(EB$3,①出番表!$B$13:$G$62,6,1)=0,"",VLOOKUP(EB$3,①出番表!$B$13:$G$62,6,1)) | EN5: 所属 | EO5: =IF(VLOOKUP(EO$3,①出番表!$B$13:$G$62,6,1)=0,"",VLOOKUP(EO$3,①出番表!$B$13:$G$62,6,1)) | FA5: 所属 | FB5: =IF(VLOOKUP(FB$3,①出番表!$B$13:$G$62,6,1)=0,"",VLOOKUP(FB$3,①出番表!$B$13:$G$62,6,1)) | FN5: 所属 | FO5: =IF(VLOOKUP(FO$3,①出番表!$B$13:$G$62,6,1)=0,"",VLOOKUP(FO$3,①出番表!$B$13:$G$62,6,1)) | GA5: 所属 | GB5: =IF(VLOOKUP(GB$3,①出番表!$B$13:$G$62,6,1)=0,"",VLOOKUP(GB$3,①出番表!$B$13:$G$62,6,1)) | GN5: 所属 | GO5: =IF(VLOOKUP(GO$3,①出番表!$B$13:$G$62,6,1)=0,"",VLOOKUP(GO$3,①出番表!$B$13:$G$62,6,1)) | HA5: 所属 | HB5: =IF(VLOOKUP(HB$3,①出番表!$B$13:$G$62,6,1)=0,"",VLOOKUP(HB$3,①出番表!$B$13:$G$62,6,1)) | HN5: 所属 | HO5: =IF(VLOOKUP(HO$3,①出番表!$B$13:$G$62,6,1)=0,"",VLOOKUP(HO$3,①出番表!$B$13:$G$62,6,1)) | IA5: 所属 | IB5: =IF(VLOOKUP(IB$3,①出番表!$B$13:$G$62,6,1)=0,"",VLOOKUP(IB$3,①出番表!$B$13:$G$62,6,1)) | IN5: 所属 | IO5: =IF(VLOOKUP(IO$3,①出番表!$B$13:$G$62,6,1)=0,"",VLOOKUP(IO$3,①出番表!$B$13:$G$62,6,1)) | JA5: 所属 | JB5: =IF(VLOOKUP(JB$3,①出番表!$B$13:$G$62,6,1)=0,"",VLOOKUP(JB$3,①出番表!$B$13:$G$62,6,1)) | JN5: 所属 | JO5: =IF(VLOOKUP(JO$3,①出番表!$B$13:$G$62,6,1)=0,"",VLOOKUP(JO$3,①出番表!$B$13:$G$62,6,1)) | KA5: 所属 | KB5: =IF(VLOOKUP(KB$3,①出番表!$B$13:$G$62,6,1)=0,"",VLOOKUP(KB$3,①出番表!$B$13:$G$62,6,1)) | KN5: 所属 | KO5: =IF(VLOOKUP(KO$3,①出番表!$B$13:$G$62,6,1)=0,"",VLOOKUP(KO$3,①出番表!$B$13:$G$62,6,1)) | LA5: 所属 | LB5: =IF(VLOOKUP(LB$3,①出番表!$B$13:$G$62,6,1)=0,"",VLOOKUP(LB$3,①出番表!$B$13:$G$62,6,1)) | LN5: 所属 | LO5: =IF(VLOOKUP(LO$3,①出番表!$B$13:$G$62,6,1)=0,"",VLOOKUP(LO$3,①出番表!$B$13:$G$62,6,1)) | MA5: 所属 | MB5: =IF(VLOOKUP(MB$3,①出番表!$B$13:$G$62,6,1)=0,"",VLOOKUP(MB$3,①出番表!$B$13:$G$62,6,1)) | MN5: 所属 | MO5: =IF(VLOOKUP(MO$3,①出番表!$B$13:$G$62,6,1)=0,"",VLOOKUP(MO$3,①出番表!$B$13:$G$62,6,1)) | NA5: 所属 | NB5: =IF(VLOOKUP(NB$3,①出番表!$B$13:$G$62,6,1)=0,"",VLOOKUP(NB$3,①出番表!$B$13:$G$62,6,1)) | NN5: 所属 | NO5: =IF(VLOOKUP(NO$3,①出番表!$B$13:$G$62,6,1)=0,"",VLOOKUP(NO$3,①出番表!$B$13:$G$62,6,1)) | OA5: 所属 | OB5: =IF(VLOOKUP(OB$3,①出番表!$B$13:$G$62,6,1)=0,"",VLOOKUP(OB$3,①出番表!$B$13:$G$62,6,1)) | ON5: 所属 | OO5: =IF(VLOOKUP(OO$3,①出番表!$B$13:$G$62,6,1)=0,"",VLOOKUP(OO$3,①出番表!$B$13:$G$62,6,1)) | PA5: 所属 | PB5: =IF(VLOOKUP(PB$3,①出番表!$B$13:$G$62,6,1)=0,"",VLOOKUP(PB$3,①出番表!$B$13:$G$62,6,1)) | PN5: 所属 | PO5: =IF(VLOOKUP(PO$3,①出番表!$B$13:$G$62,6,1)=0,"",VLOOKUP(PO$3,①出番表!$B$13:$G$62,6,1)) | QA5: 所属 | QB5: =IF(VLOOKUP(QB$3,①出番表!$B$13:$G$62,6,1)=0,"",VLOOKUP(QB$3,①出番表!$B$13:$G$62,6,1)) | QN5: 所属 | QO5: =IF(VLOOKUP(QO$3,①出番表!$B$13:$G$62,6,1)=0,"",VLOOKUP(QO$3,①出番表!$B$13:$G$62,6,1)) | RA5: 所属 | RB5: =IF(VLOOKUP(RB$3,①出番表!$B$13:$G$62,6,1)=0,"",VLOOKUP(RB$3,①出番表!$B$13:$G$62,6,1)) | RN5: 所属 | RO5: =IF(VLOOKUP(RO$3,①出番表!$B$13:$G$62,6,1)=0,"",VLOOKUP(RO$3,①出番表!$B$13:$G$62,6,1)) | SA5: 所属 | SB5: =IF(VLOOKUP(SB$3,①出番表!$B$13:$G$62,6,1)=0,"",VLOOKUP(SB$3,①出番表!$B$13:$G$62,6,1)) | SN5: 所属 | SO5: =IF(VLOOKUP(SO$3,①出番表!$B$13:$G$62,6,1)=0,"",VLOOKUP(SO$3,①出番表!$B$13:$G$62,6,1)) | TA5: 所属 | TB5: =IF(VLOOKUP(TB$3,①出番表!$B$13:$G$62,6,1)=0,"",VLOOKUP(TB$3,①出番表!$B$13:$G$62,6,1)) | TN5: 所属 | TO5: =IF(VLOOKUP(TO$3,①出番表!$B$13:$G$62,6,1)=0,"",VLOOKUP(TO$3,①出番表!$B$13:$G$62,6,1)) | UA5: 所属 | UB5: =IF(VLOOKUP(UB$3,①出番表!$B$13:$G$62,6,1)=0,"",VLOOKUP(UB$3,①出番表!$B$13:$G$62,6,1)) | UN5: 所属 | UO5: =IF(VLOOKUP(UO$3,①出番表!$B$13:$G$62,6,1)=0,"",VLOOKUP(UO$3,①出番表!$B$13:$G$62,6,1)) | VA5: 所属 | VB5: =IF(VLOOKUP(VB$3,①出番表!$B$13:$G$62,6,1)=0,"",VLOOKUP(VB$3,①出番表!$B$13:$G$62,6,1)) | VN5: 所属 | VO5: =IF(VLOOKUP(VO$3,①出番表!$B$13:$G$62,6,1)=0,"",VLOOKUP(VO$3,①出番表!$B$13:$G$62,6,1)) | WA5: 所属 | WB5: =IF(VLOOKUP(WB$3,①出番表!$B$13:$G$62,6,1)=0,"",VLOOKUP(WB$3,①出番表!$B$13:$G$62,6,1)) | WN5: 所属 | WO5: =IF(VLOOKUP(WO$3,①出番表!$B$13:$G$62,6,1)=0,"",VLOOKUP(WO$3,①出番表!$B$13:$G$62,6,1)) | XA5: 所属 | XB5: =IF(VLOOKUP(XB$3,①出番表!$B$13:$G$62,6,1)=0,"",VLOOKUP(XB$3,①出番表!$B$13:$G$62,6,1)) | XN5: 所属 | XO5: =IF(VLOOKUP(XO$3,①出番表!$B$13:$G$62,6,1)=0,"",VLOOKUP(XO$3,①出番表!$B$13:$G$62,6,1))
C6: =①出番表!$A$6&①出番表!$E$6 -> E: | E6: =①出番表!$A$7&①出番表!$E$7 -> H: | G6: =①出番表!$A$8&①出番表!$E$8 -> C: | I6: =①出番表!$A$9&①出番表!$E$9 -> M: | K6: =①出番表!$A$10&①出番表!$E$10 -> B: | P6: =①出番表!$A$6&①出番表!$E$6 -> E: | R6: =①出番表!$A$7&①出番表!$E$7 -> H: | T6: =①出番表!$A$8&①出番表!$E$8 -> C: | V6: =①出番表!$A$9&①出番表!$E$9 -> M: | X6: =①出番表!$A$10&①出番表!$E$10 -> B: | AC6: =①出番表!$A$6&①出番表!$E$6 -> E: | AE6: =①出番表!$A$7&①出番表!$E$7 -> H: | AG6: =①出番表!$A$8&①出番表!$E$8 -> C: | AI6: =①出番表!$A$9&①出番表!$E$9 -> M: | AK6: =①出番表!$A$10&①出番表!$E$10 -> B: | AP6: =①出番表!$A$6&①出番表!$E$6 -> E: | AR6: =①出番表!$A$7&①出番表!$E$7 -> H: | AT6: =①出番表!$A$8&①出番表!$E$8 -> C: | AV6: =①出番表!$A$9&①出番表!$E$9 -> M: | AX6: =①出番表!$A$10&①出番表!$E$10 -> B: | BC6: =①出番表!$A$6&①出番表!$E$6 -> E: | BE6: =①出番表!$A$7&①出番表!$E$7 -> H: | BG6: =①出番表!$A$8&①出番表!$E$8 -> C: | BI6: =①出番表!$A$9&①出番表!$E$9 -> M: | BK6: =①出番表!$A$10&①出番表!$E$10 -> B: | BP6: =①出番表!$A$6&①出番表!$E$6 -> E: | BR6: =①出番表!$A$7&①出番表!$E$7 -> H: | BT6: =①出番表!$A$8&①出番表!$E$8 -> C: | BV6: =①出番表!$A$9&①出番表!$E$9 -> M: | BX6: =①出番表!$A$10&①出番表!$E$10 -> B: | CC6: =①出番表!$A$6&①出番表!$E$6 -> E: | CE6: =①出番表!$A$7&①出番表!$E$7 -> H: | CG6: =①出番表!$A$8&①出番表!$E$8 -> C: | CI6: =①出番表!$A$9&①出番表!$E$9 -> M: | CK6: =①出番表!$A$10&①出番表!$E$10 -> B: | CP6: =①出番表!$A$6&①出番表!$E$6 -> E: | CR6: =①出番表!$A$7&①出番表!$E$7 -> H: | CT6: =①出番表!$A$8&①出番表!$E$8 -> C: | CV6: =①出番表!$A$9&①出番表!$E$9 -> M: | CX6: =①出番表!$A$10&①出番表!$E$10 -> B: | DC6: =①出番表!$A$6&①出番表!$E$6 -> E: | DE6: =①出番表!$A$7&①出番表!$E$7 -> H: | DG6: =①出番表!$A$8&①出番表!$E$8 -> C: | DI6: =①出番表!$A$9&①出番表!$E$9 -> M: | DK6: =①出番表!$A$10&①出番表!$E$10 -> B: | DP6: =①出番表!$A$6&①出番表!$E$6 -> E: | DR6: =①出番表!$A$7&①出番表!$E$7 -> H: | DT6: =①出番表!$A$8&①出番表!$E$8 -> C: | DV6: =①出番表!$A$9&①出番表!$E$9 -> M: | DX6: =①出番表!$A$10&①出番表!$E$10 -> B: | EC6: =①出番表!$A$6&①出番表!$E$6 -> E: | EE6: =①出番表!$A$7&①出番表!$E$7 -> H: | EG6: =①出番表!$A$8&①出番表!$E$8 -> C: | EI6: =①出番表!$A$9&①出番表!$E$9 -> M: | EK6: =①出番表!$A$10&①出番表!$E$10 -> B: | EP6: =①出番表!$A$6&①出番表!$E$6 -> E: | ER6: =①出番表!$A$7&①出番表!$E$7 -> H: | ET6: =①出番表!$A$8&①出番表!$E$8 -> C: | EV6: =①出番表!$A$9&①出番表!$E$9 -> M: | EX6: =①出番表!$A$10&①出番表!$E$10 -> B: | FC6: =①出番表!$A$6&①出番表!$E$6 -> E: | FE6: =①出番表!$A$7&①出番表!$E$7 -> H: | FG6: =①出番表!$A$8&①出番表!$E$8 -> C: | FI6: =①出番表!$A$9&①出番表!$E$9 -> M: | FK6: =①出番表!$A$10&①出番表!$E$10 -> B: | FP6: =①出番表!$A$6&①出番表!$E$6 -> E: | FR6: =①出番表!$A$7&①出番表!$E$7 -> H: | FT6: =①出番表!$A$8&①出番表!$E$8 -> C: | FV6: =①出番表!$A$9&①出番表!$E$9 -> M: | FX6: =①出番表!$A$10&①出番表!$E$10 -> B: | GC6: =①出番表!$A$6&①出番表!$E$6 -> E: | GE6: =①出番表!$A$7&①出番表!$E$7 -> H: | GG6: =①出番表!$A$8&①出番表!$E$8 -> C: | GI6: =①出番表!$A$9&①出番表!$E$9 -> M: | GK6: =①出番表!$A$10&①出番表!$E$10 -> B: | GP6: =①出番表!$A$6&①出番表!$E$6 -> E: | GR6: =①出番表!$A$7&①出番表!$E$7 -> H: | GT6: =①出番表!$A$8&①出番表!$E$8 -> C: | GV6: =①出番表!$A$9&①出番表!$E$9 -> M: | GX6: =①出番表!$A$10&①出番表!$E$10 -> B: | HC6: =①出番表!$A$6&①出番表!$E$6 -> E: | HE6: =①出番表!$A$7&①出番表!$E$7 -> H: | HG6: =①出番表!$A$8&①出番表!$E$8 -> C: | HI6: =①出番表!$A$9&①出番表!$E$9 -> M: | HK6: =①出番表!$A$10&①出番表!$E$10 -> B: | HP6: =①出番表!$A$6&①出番表!$E$6 -> E: | HR6: =①出番表!$A$7&①出番表!$E$7 -> H: | HT6: =①出番表!$A$8&①出番表!$E$8 -> C: | HV6: =①出番表!$A$9&①出番表!$E$9 -> M: | HX6: =①出番表!$A$10&①出番表!$E$10 -> B: | IC6: =①出番表!$A$6&①出番表!$E$6 -> E: | IE6: =①出番表!$A$7&①出番表!$E$7 -> H: | IG6: =①出番表!$A$8&①出番表!$E$8 -> C: | II6: =①出番表!$A$9&①出番表!$E$9 -> M: | IK6: =①出番表!$A$10&①出番表!$E$10 -> B: | IP6: =①出番表!$A$6&①出番表!$E$6 -> E: | IR6: =①出番表!$A$7&①出番表!$E$7 -> H: | IT6: =①出番表!$A$8&①出番表!$E$8 -> C: | IV6: =①出番表!$A$9&①出番表!$E$9 -> M: | IX6: =①出番表!$A$10&①出番表!$E$10 -> B: | JC6: =①出番表!$A$6&①出番表!$E$6 -> E: | JE6: =①出番表!$A$7&①出番表!$E$7 -> H: | JG6: =①出番表!$A$8&①出番表!$E$8 -> C: | JI6: =①出番表!$A$9&①出番表!$E$9 -> M: | JK6: =①出番表!$A$10&①出番表!$E$10 -> B: | JP6: =①出番表!$A$6&①出番表!$E$6 -> E: | JR6: =①出番表!$A$7&①出番表!$E$7 -> H: | JT6: =①出番表!$A$8&①出番表!$E$8 -> C: | JV6: =①出番表!$A$9&①出番表!$E$9 -> M: | JX6: =①出番表!$A$10&①出番表!$E$10 -> B: | KC6: =①出番表!$A$6&①出番表!$E$6 -> E: | KE6: =①出番表!$A$7&①出番表!$E$7 -> H: | KG6: =①出番表!$A$8&①出番表!$E$8 -> C: | KI6: =①出番表!$A$9&①出番表!$E$9 -> M: | KK6: =①出番表!$A$10&①出番表!$E$10 -> B: | KP6: =①出番表!$A$6&①出番表!$E$6 -> E: | KR6: =①出番表!$A$7&①出番表!$E$7 -> H: | KT6: =①出番表!$A$8&①出番表!$E$8 -> C: | KV6: =①出番表!$A$9&①出番表!$E$9 -> M: | KX6: =①出番表!$A$10&①出番表!$E$10 -> B: | LC6: =①出番表!$A$6&①出番表!$E$6 -> E: | LE6: =①出番表!$A$7&①出番表!$E$7 -> H: | LG6: =①出番表!$A$8&①出番表!$E$8 -> C: | LI6: =①出番表!$A$9&①出番表!$E$9 -> M: | LK6: =①出番表!$A$10&①出番表!$E$10 -> B: | LP6: =①出番表!$A$6&①出番表!$E$6 -> E: | LR6: =①出番表!$A$7&①出番表!$E$7 -> H: | LT6: =①出番表!$A$8&①出番表!$E$8 -> C: | LV6: =①出番表!$A$9&①出番表!$E$9 -> M: | LX6: =①出番表!$A$10&①出番表!$E$10 -> B: | MC6: =①出番表!$A$6&①出番表!$E$6 -> E: | ME6: =①出番表!$A$7&①出番表!$E$7 -> H: | MG6: =①出番表!$A$8&①出番表!$E$8 -> C: | MI6: =①出番表!$A$9&①出番表!$E$9 -> M: | MK6: =①出番表!$A$10&①出番表!$E$10 -> B: | MP6: =①出番表!$A$6&①出番表!$E$6 -> E: | MR6: =①出番表!$A$7&①出番表!$E$7 -> H: | MT6: =①出番表!$A$8&①出番表!$E$8 -> C: | MV6: =①出番表!$A$9&①出番表!$E$9 -> M: | MX6: =①出番表!$A$10&①出番表!$E$10 -> B: | NC6: =①出番表!$A$6&①出番表!$E$6 -> E: | NE6: =①出番表!$A$7&①出番表!$E$7 -> H: | NG6: =①出番表!$A$8&①出番表!$E$8 -> C: | NI6: =①出番表!$A$9&①出番表!$E$9 -> M: | NK6: =①出番表!$A$10&①出番表!$E$10 -> B: | NP6: =①出番表!$A$6&①出番表!$E$6 -> E: | NR6: =①出番表!$A$7&①出番表!$E$7 -> H: | NT6: =①出番表!$A$8&①出番表!$E$8 -> C: | NV6: =①出番表!$A$9&①出番表!$E$9 -> M: | NX6: =①出番表!$A$10&①出番表!$E$10 -> B: | OC6: =①出番表!$A$6&①出番表!$E$6 -> E: | OE6: =①出番表!$A$7&①出番表!$E$7 -> H: | OG6: =①出番表!$A$8&①出番表!$E$8 -> C: | OI6: =①出番表!$A$9&①出番表!$E$9 -> M: | OK6: =①出番表!$A$10&①出番表!$E$10 -> B: | OP6: =①出番表!$A$6&①出番表!$E$6 -> E: | OR6: =①出番表!$A$7&①出番表!$E$7 -> H: | OT6: =①出番表!$A$8&①出番表!$E$8 -> C: | OV6: =①出番表!$A$9&①出番表!$E$9 -> M: | OX6: =①出番表!$A$10&①出番表!$E$10 -> B: | PC6: =①出番表!$A$6&①出番表!$E$6 -> E: | PE6: =①出番表!$A$7&①出番表!$E$7 -> H: | PG6: =①出番表!$A$8&①出番表!$E$8 -> C: | PI6: =①出番表!$A$9&①出番表!$E$9 -> M: | PK6: =①出番表!$A$10&①出番表!$E$10 -> B: | PP6: =①出番表!$A$6&①出番表!$E$6 -> E: | PR6: =①出番表!$A$7&①出番表!$E$7 -> H: | PT6: =①出番表!$A$8&①出番表!$E$8 -> C: | PV6: =①出番表!$A$9&①出番表!$E$9 -> M: | PX6: =①出番表!$A$10&①出番表!$E$10 -> B: | QC6: =①出番表!$A$6&①出番表!$E$6 -> E: | QE6: =①出番表!$A$7&①出番表!$E$7 -> H: | QG6: =①出番表!$A$8&①出番表!$E$8 -> C: | QI6: =①出番表!$A$9&①出番表!$E$9 -> M: | QK6: =①出番表!$A$10&①出番表!$E$10 -> B: | QP6: =①出番表!$A$6&①出番表!$E$6 -> E: | QR6: =①出番表!$A$7&①出番表!$E$7 -> H: | QT6: =①出番表!$A$8&①出番表!$E$8 -> C: | QV6: =①出番表!$A$9&①出番表!$E$9 -> M: | QX6: =①出番表!$A$10&①出番表!$E$10 -> B: | RC6: =①出番表!$A$6&①出番表!$E$6 -> E: | RE6: =①出番表!$A$7&①出番表!$E$7 -> H: | RG6: =①出番表!$A$8&①出番表!$E$8 -> C: | RI6: =①出番表!$A$9&①出番表!$E$9 -> M: | RK6: =①出番表!$A$10&①出番表!$E$10 -> B: | RP6: =①出番表!$A$6&①出番表!$E$6 -> E: | RR6: =①出番表!$A$7&①出番表!$E$7 -> H: | RT6: =①出番表!$A$8&①出番表!$E$8 -> C: | RV6: =①出番表!$A$9&①出番表!$E$9 -> M: | RX6: =①出番表!$A$10&①出番表!$E$10 -> B: | SC6: =①出番表!$A$6&①出番表!$E$6 -> E: | SE6: =①出番表!$A$7&①出番表!$E$7 -> H: | SG6: =①出番表!$A$8&①出番表!$E$8 -> C: | SI6: =①出番表!$A$9&①出番表!$E$9 -> M: | SK6: =①出番表!$A$10&①出番表!$E$10 -> B: | SP6: =①出番表!$A$6&①出番表!$E$6 -> E: | SR6: =①出番表!$A$7&①出番表!$E$7 -> H: | ST6: =①出番表!$A$8&①出番表!$E$8 -> C: | SV6: =①出番表!$A$9&①出番表!$E$9 -> M: | SX6: =①出番表!$A$10&①出番表!$E$10 -> B: | TC6: =①出番表!$A$6&①出番表!$E$6 -> E: | TE6: =①出番表!$A$7&①出番表!$E$7 -> H: | TG6: =①出番表!$A$8&①出番表!$E$8 -> C: | TI6: =①出番表!$A$9&①出番表!$E$9 -> M: | TK6: =①出番表!$A$10&①出番表!$E$10 -> B: | TP6: =①出番表!$A$6&①出番表!$E$6 -> E: | TR6: =①出番表!$A$7&①出番表!$E$7 -> H: | TT6: =①出番表!$A$8&①出番表!$E$8 -> C: | TV6: =①出番表!$A$9&①出番表!$E$9 -> M: | TX6: =①出番表!$A$10&①出番表!$E$10 -> B: | UC6: =①出番表!$A$6&①出番表!$E$6 -> E: | UE6: =①出番表!$A$7&①出番表!$E$7 -> H: | UG6: =①出番表!$A$8&①出番表!$E$8 -> C: | UI6: =①出番表!$A$9&①出番表!$E$9 -> M: | UK6: =①出番表!$A$10&①出番表!$E$10 -> B: | UP6: =①出番表!$A$6&①出番表!$E$6 -> E: | UR6: =①出番表!$A$7&①出番表!$E$7 -> H: | UT6: =①出番表!$A$8&①出番表!$E$8 -> C: | UV6: =①出番表!$A$9&①出番表!$E$9 -> M: | UX6: =①出番表!$A$10&①出番表!$E$10 -> B: | VC6: =①出番表!$A$6&①出番表!$E$6 -> E: | VE6: =①出番表!$A$7&①出番表!$E$7 -> H: | VG6: =①出番表!$A$8&①出番表!$E$8 -> C: | VI6: =①出番表!$A$9&①出番表!$E$9 -> M: | VK6: =①出番表!$A$10&①出番表!$E$10 -> B: | VP6: =①出番表!$A$6&①出番表!$E$6 -> E: | VR6: =①出番表!$A$7&①出番表!$E$7 -> H: | VT6: =①出番表!$A$8&①出番表!$E$8 -> C: | VV6: =①出番表!$A$9&①出番表!$E$9 -> M: | VX6: =①出番表!$A$10&①出番表!$E$10 -> B: | WC6: =①出番表!$A$6&①出番表!$E$6 -> E: | WE6: =①出番表!$A$7&①出番表!$E$7 -> H: | WG6: =①出番表!$A$8&①出番表!$E$8 -> C: | WI6: =①出番表!$A$9&①出番表!$E$9 -> M: | WK6: =①出番表!$A$10&①出番表!$E$10 -> B: | WP6: =①出番表!$A$6&①出番表!$E$6 -> E: | WR6: =①出番表!$A$7&①出番表!$E$7 -> H: | WT6: =①出番表!$A$8&①出番表!$E$8 -> C: | WV6: =①出番表!$A$9&①出番表!$E$9 -> M: | WX6: =①出番表!$A$10&①出番表!$E$10 -> B: | XC6: =①出番表!$A$6&①出番表!$E$6 -> E: | XE6: =①出番表!$A$7&①出番表!$E$7 -> H: | XG6: =①出番表!$A$8&①出番表!$E$8 -> C: | XI6: =①出番表!$A$9&①出番表!$E$9 -> M: | XK6: =①出番表!$A$10&①出番表!$E$10 -> B: | XP6: =①出番表!$A$6&①出番表!$E$6 -> E: | XR6: =①出番表!$A$7&①出番表!$E$7 -> H: | XT6: =①出番表!$A$8&①出番表!$E$8 -> C: | XV6: =①出番表!$A$9&①出番表!$E$9 -> M: | XX6: =①出番表!$A$10&①出番表!$E$10 -> B:
A7: 項目 | B7: 係数 | C7: 入力 | D7: 得点 | E7: 入力 | F7: 得点 | G7: 入力 | H7: 得点 | I7: 入力 | J7: 得点 | K7: 入力 | L7: 得点 | N7: 項目 | O7: 係数 | P7: 入力 | Q7: 得点 | R7: 入力 | S7: 得点 | T7: 入力 | U7: 得点 | V7: 入力 | W7: 得点 | X7: 入力 | Y7: 得点 | AA7: 項目 | AB7: 係数 | AC7: 入力 | AD7: 得点 | AE7: 入力 | AF7: 得点 | AG7: 入力 | AH7: 得点 | AI7: 入力 | AJ7: 得点 | AK7: 入力 | AL7: 得点 | AN7: 項目 | AO7: 係数 | AP7: 入力 | AQ7: 得点 | AR7: 入力 | AS7: 得点 | AT7: 入力 | AU7: 得点 | AV7: 入力 | AW7: 得点 | AX7: 入力 | AY7: 得点 | BA7: 項目 | BB7: 係数 | BC7: 入力 | BD7: 得点 | BE7: 入力 | BF7: 得点 | BG7: 入力 | BH7: 得点 | BI7: 入力 | BJ7: 得点 | BK7: 入力 | BL7: 得点 | BN7: 項目 | BO7: 係数 | BP7: 入力 | BQ7: 得点 | BR7: 入力 | BS7: 得点 | BT7: 入力 | BU7: 得点 | BV7: 入力 | BW7: 得点 | BX7: 入力 | BY7: 得点 | CA7: 項目 | CB7: 係数 | CC7: 入力 | CD7: 得点 | CE7: 入力 | CF7: 得点 | CG7: 入力 | CH7: 得点 | CI7: 入力 | CJ7: 得点 | CK7: 入力 | CL7: 得点 | CN7: 項目 | CO7: 係数 | CP7: 入力 | CQ7: 得点 | CR7: 入力 | CS7: 得点 | CT7: 入力 | CU7: 得点 | CV7: 入力 | CW7: 得点 | CX7: 入力 | CY7: 得点 | DA7: 項目 | DB7: 係数 | DC7: 入力 | DD7: 得点 | DE7: 入力 | DF7: 得点 | DG7: 入力 | DH7: 得点 | DI7: 入力 | DJ7: 得点 | DK7: 入力 | DL7: 得点 | DN7: 項目 | DO7: 係数 | DP7: 入力 | DQ7: 得点 | DR7: 入力 | DS7: 得点 | DT7: 入力 | DU7: 得点 | DV7: 入力 | DW7: 得点 | DX7: 入力 | DY7: 得点 | EA7: 項目 | EB7: 係数 | EC7: 入力 | ED7: 得点 | EE7: 入力 | EF7: 得点 | EG7: 入力 | EH7: 得点 | EI7: 入力 | EJ7: 得点 | EK7: 入力 | EL7: 得点 | EN7: 項目 | EO7: 係数 | EP7: 入力 | EQ7: 得点 | ER7: 入力 | ES7: 得点 | ET7: 入力 | EU7: 得点 | EV7: 入力 | EW7: 得点 | EX7: 入力 | EY7: 得点 | FA7: 項目 | FB7: 係数 | FC7: 入力 | FD7: 得点 | FE7: 入力 | FF7: 得点 | FG7: 入力 | FH7: 得点 | FI7: 入力 | FJ7: 得点 | FK7: 入力 | FL7: 得点 | FN7: 項目 | FO7: 係数 | FP7: 入力 | FQ7: 得点 | FR7: 入力 | FS7: 得点 | FT7: 入力 | FU7: 得点 | FV7: 入力 | FW7: 得点 | FX7: 入力 | FY7: 得点 | GA7: 項目 | GB7: 係数 | GC7: 入力 | GD7: 得点 | GE7: 入力 | GF7: 得点 | GG7: 入力 | GH7: 得点 | GI7: 入力 | GJ7: 得点 | GK7: 入力 | GL7: 得点 | GN7: 項目 | GO7: 係数 | GP7: 入力 | GQ7: 得点 | GR7: 入力 | GS7: 得点 | GT7: 入力 | GU7: 得点 | GV7: 入力 | GW7: 得点 | GX7: 入力 | GY7: 得点 | HA7: 項目 | HB7: 係数 | HC7: 入力 | HD7: 得点 | HE7: 入力 | HF7: 得点 | HG7: 入力 | HH7: 得点 | HI7: 入力 | HJ7: 得点 | HK7: 入力 | HL7: 得点 | HN7: 項目 | HO7: 係数 | HP7: 入力 | HQ7: 得点 | HR7: 入力 | HS7: 得点 | HT7: 入力 | HU7: 得点 | HV7: 入力 | HW7: 得点 | HX7: 入力 | HY7: 得点 | IA7: 項目 | IB7: 係数 | IC7: 入力 | ID7: 得点 | IE7: 入力 | IF7: 得点 | IG7: 入力 | IH7: 得点 | II7: 入力 | IJ7: 得点 | IK7: 入力 | IL7: 得点 | IN7: 項目 | IO7: 係数 | IP7: 入力 | IQ7: 得点 | IR7: 入力 | IS7: 得点 | IT7: 入力 | IU7: 得点 | IV7: 入力 | IW7: 得点 | IX7: 入力 | IY7: 得点 | JA7: 項目 | JB7: 係数 | JC7: 入力 | JD7: 得点 | JE7: 入力 | JF7: 得点 | JG7: 入力 | JH7: 得点 | JI7: 入力 | JJ7: 得点 | JK7: 入力 | JL7: 得点 | JN7: 項目 | JO7: 係数 | JP7: 入力 | JQ7: 得点 | JR7: 入力 | JS7: 得点 | JT7: 入力 | JU7: 得点 | JV7: 入力 | JW7: 得点 | JX7: 入力 | JY7: 得点 | KA7: 項目 | KB7: 係数 | KC7: 入力 | KD7: 得点 | KE7: 入力 | KF7: 得点 | KG7: 入力 | KH7: 得点 | KI7: 入力 | KJ7: 得点 | KK7: 入力 | KL7: 得点 | KN7: 項目 | KO7: 係数 | KP7: 入力 | KQ7: 得点 | KR7: 入力 | KS7: 得点 | KT7: 入力 | KU7: 得点 | KV7: 入力 | KW7: 得点 | KX7: 入力 | KY7: 得点 | LA7: 項目 | LB7: 係数 | LC7: 入力 | LD7: 得点 | LE7: 入力 | LF7: 得点 | LG7: 入力 | LH7: 得点 | LI7: 入力 | LJ7: 得点 | LK7: 入力 | LL7: 得点 | LN7: 項目 | LO7: 係数 | LP7: 入力 | LQ7: 得点 | LR7: 入力 | LS7: 得点 | LT7: 入力 | LU7: 得点 | LV7: 入力 | LW7: 得点 | LX7: 入力 | LY7: 得点 | MA7: 項目 | MB7: 係数 | MC7: 入力 | MD7: 得点 | ME7: 入力 | MF7: 得点 | MG7: 入力 | MH7: 得点 | MI7: 入力 | MJ7: 得点 | MK7: 入力 | ML7: 得点 | MN7: 項目 | MO7: 係数 | MP7: 入力 | MQ7: 得点 | MR7: 入力 | MS7: 得点 | MT7: 入力 | MU7: 得点 | MV7: 入力 | MW7: 得点 | MX7: 入力 | MY7: 得点 | NA7: 項目 | NB7: 係数 | NC7: 入力 | ND7: 得点 | NE7: 入力 | NF7: 得点 | NG7: 入力 | NH7: 得点 | NI7: 入力 | NJ7: 得点 | NK7: 入力 | NL7: 得点 | NN7: 項目 | NO7: 係数 | NP7: 入力 | NQ7: 得点 | NR7: 入力 | NS7: 得点 | NT7: 入力 | NU7: 得点 | NV7: 入力 | NW7: 得点 | NX7: 入力 | NY7: 得点 | OA7: 項目 | OB7: 係数 | OC7: 入力 | OD7: 得点 | OE7: 入力 | OF7: 得点 | OG7: 入力 | OH7: 得点 | OI7: 入力 | OJ7: 得点 | OK7: 入力 | OL7: 得点 | ON7: 項目 | OO7: 係数 | OP7: 入力 | OQ7: 得点 | OR7: 入力 | OS7: 得点 | OT7: 入力 | OU7: 得点 | OV7: 入力 | OW7: 得点 | OX7: 入力 | OY7: 得点 | PA7: 項目 | PB7: 係数 | PC7: 入力 | PD7: 得点 | PE7: 入力 | PF7: 得点 | PG7: 入力 | PH7: 得点 | PI7: 入力 | PJ7: 得点 | PK7: 入力 | PL7: 得点 | PN7: 項目 | PO7: 係数 | PP7: 入力 | PQ7: 得点 | PR7: 入力 | PS7: 得点 | PT7: 入力 | PU7: 得点 | PV7: 入力 | PW7: 得点 | PX7: 入力 | PY7: 得点 | QA7: 項目 | QB7: 係数 | QC7: 入力 | QD7: 得点 | QE7: 入力 | QF7: 得点 | QG7: 入力 | QH7: 得点 | QI7: 入力 | QJ7: 得点 | QK7: 入力 | QL7: 得点 | QN7: 項目 | QO7: 係数 | QP7: 入力 | QQ7: 得点 | QR7: 入力 | QS7: 得点 | QT7: 入力 | QU7: 得点 | QV7: 入力 | QW7: 得点 | QX7: 入力 | QY7: 得点 | RA7: 項目 | RB7: 係数 | RC7: 入力 | RD7: 得点 | RE7: 入力 | RF7: 得点 | RG7: 入力 | RH7: 得点 | RI7: 入力 | RJ7: 得点 | RK7: 入力 | RL7: 得点 | RN7: 項目 | RO7: 係数 | RP7: 入力 | RQ7: 得点 | RR7: 入力 | RS7: 得点 | RT7: 入力 | RU7: 得点 | RV7: 入力 | RW7: 得点 | RX7: 入力 | RY7: 得点 | SA7: 項目 | SB7: 係数 | SC7: 入力 | SD7: 得点 | SE7: 入力 | SF7: 得点 | SG7: 入力 | SH7: 得点 | SI7: 入力 | SJ7: 得点 | SK7: 入力 | SL7: 得点 | SN7: 項目 | SO7: 係数 | SP7: 入力 | SQ7: 得点 | SR7: 入力 | SS7: 得点 | ST7: 入力 | SU7: 得点 | SV7: 入力 | SW7: 得点 | SX7: 入力 | SY7: 得点 | TA7: 項目 | TB7: 係数 | TC7: 入力 | TD7: 得点 | TE7: 入力 | TF7: 得点 | TG7: 入力 | TH7: 得点 | TI7: 入力 | TJ7: 得点 | TK7: 入力 | TL7: 得点 | TN7: 項目 | TO7: 係数 | TP7: 入力 | TQ7: 得点 | TR7: 入力 | TS7: 得点 | TT7: 入力 | TU7: 得点 | TV7: 入力 | TW7: 得点 | TX7: 入力 | TY7: 得点 | UA7: 項目 | UB7: 係数 | UC7: 入力 | UD7: 得点 | UE7: 入力 | UF7: 得点 | UG7: 入力 | UH7: 得点 | UI7: 入力 | UJ7: 得点 | UK7: 入力 | UL7: 得点 | UN7: 項目 | UO7: 係数 | UP7: 入力 | UQ7: 得点 | UR7: 入力 | US7: 得点 | UT7: 入力 | UU7: 得点 | UV7: 入力 | UW7: 得点 | UX7: 入力 | UY7: 得点 | VA7: 項目 | VB7: 係数 | VC7: 入力 | VD7: 得点 | VE7: 入力 | VF7: 得点 | VG7: 入力 | VH7: 得点 | VI7: 入力 | VJ7: 得点 | VK7: 入力 | VL7: 得点 | VN7: 項目 | VO7: 係数 | VP7: 入力 | VQ7: 得点 | VR7: 入力 | VS7: 得点 | VT7: 入力 | VU7: 得点 | VV7: 入力 | VW7: 得点 | VX7: 入力 | VY7: 得点 | WA7: 項目 | WB7: 係数 | WC7: 入力 | WD7: 得点 | WE7: 入力 | WF7: 得点 | WG7: 入力 | WH7: 得点 | WI7: 入力 | WJ7: 得点 | WK7: 入力 | WL7: 得点 | WN7: 項目 | WO7: 係数 | WP7: 入力 | WQ7: 得点 | WR7: 入力 | WS7: 得点 | WT7: 入力 | WU7: 得点 | WV7: 入力 | WW7: 得点 | WX7: 入力 | WY7: 得点 | XA7: 項目 | XB7: 係数 | XC7: 入力 | XD7: 得点 | XE7: 入力 | XF7: 得点 | XG7: 入力 | XH7: 得点 | XI7: 入力 | XJ7: 得点 | XK7: 入力 | XL7: 得点 | XN7: 項目 | XO7: 係数 | XP7: 入力 | XQ7: 得点 | XR7: 入力 | XS7: 得点 | XT7: 入力 | XU7: 得点 | XV7: 入力 | XW7: 得点 | XX7: 入力 | XY7: 得点
A8: =係数マスタ!$A$4 -> 1 | B8: =係数マスタ!$B4 | D8: =C8*$B8 -> #VALUE! | F8: =E8*$B8 -> #VALUE! | H8: =G8*$B8 -> #VALUE! | J8: =I8*$B8 -> #VALUE! | L8: =K8*$B8 -> #VALUE! | N8: =係数マスタ!$A$4 -> 1 | O8: =係数マスタ!$B4 | Q8: =P8*$B8 -> #VALUE! | S8: =R8*$B8 -> #VALUE! | U8: =T8*$B8 -> #VALUE! | W8: =V8*$B8 -> #VALUE! | Y8: =X8*$B8 -> #VALUE! | AA8: =係数マスタ!$A$4 -> 1 | AB8: =係数マスタ!$B4 | AD8: =AC8*$B8 -> #VALUE! | AF8: =AE8*$B8 -> #VALUE! | AH8: =AG8*$B8 -> #VALUE! | AJ8: =AI8*$B8 -> #VALUE! | AL8: =AK8*$B8 -> #VALUE! | AN8: =係数マスタ!$A$4 -> 1 | AO8: =係数マスタ!$B4 | AQ8: =AP8*$B8 -> #VALUE! | AS8: =AR8*$B8 -> #VALUE! | AU8: =AT8*$B8 -> #VALUE! | AW8: =AV8*$B8 -> #VALUE! | AY8: =AX8*$B8 -> #VALUE! | BA8: =係数マスタ!$A$4 -> 1 | BB8: =係数マスタ!$B4 | BD8: =BC8*$B8 -> #VALUE! | BF8: =BE8*$B8 -> #VALUE! | BH8: =BG8*$B8 -> #VALUE! | BJ8: =BI8*$B8 -> #VALUE! | BL8: =BK8*$B8 -> #VALUE! | BN8: =係数マスタ!$A$4 -> 1 | BO8: =係数マスタ!$B4 | BQ8: =BP8*$B8 -> #VALUE! | BS8: =BR8*$B8 -> #VALUE! | BU8: =BT8*$B8 -> #VALUE! | BW8: =BV8*$B8 -> #VALUE! | BY8: =BX8*$B8 -> #VALUE! | CA8: =係数マスタ!$A$4 -> 1 | CB8: =係数マスタ!$B4 | CD8: =CC8*$B8 -> #VALUE! | CF8: =CE8*$B8 -> #VALUE! | CH8: =CG8*$B8 -> #VALUE! | CJ8: =CI8*$B8 -> #VALUE! | CL8: =CK8*$B8 -> #VALUE! | CN8: =係数マスタ!$A$4 -> 1 | CO8: =係数マスタ!$B4 | CQ8: =CP8*$B8 -> #VALUE! | CS8: =CR8*$B8 -> #VALUE! | CU8: =CT8*$B8 -> #VALUE! | CW8: =CV8*$B8 -> #VALUE! | CY8: =CX8*$B8 -> #VALUE! | DA8: =係数マスタ!$A$4 -> 1 | DB8: =係数マスタ!$B4 | DD8: =DC8*$B8 -> #VALUE! | DF8: =DE8*$B8 -> #VALUE! | DH8: =DG8*$B8 -> #VALUE! | DJ8: =DI8*$B8 -> #VALUE! | DL8: =DK8*$B8 -> #VALUE! | DN8: =係数マスタ!$A$4 -> 1 | DO8: =係数マスタ!$B4 | DQ8: =DP8*$B8 -> #VALUE! | DS8: =DR8*$B8 -> #VALUE! | DU8: =DT8*$B8 -> #VALUE! | DW8: =DV8*$B8 -> #VALUE! | DY8: =DX8*$B8 -> #VALUE! | EA8: =係数マスタ!$A$4 -> 1 | EB8: =係数マスタ!$B4 | ED8: =EC8*$B8 -> #VALUE! | EF8: =EE8*$B8 -> #VALUE! | EH8: =EG8*$B8 -> #VALUE! | EJ8: =EI8*$B8 -> #VALUE! | EL8: =EK8*$B8 -> #VALUE! | EN8: =係数マスタ!$A$4 -> 1 | EO8: =係数マスタ!$B4 | EQ8: =EP8*$B8 -> #VALUE! | ES8: =ER8*$B8 -> #VALUE! | EU8: =ET8*$B8 -> #VALUE! | EW8: =EV8*$B8 -> #VALUE! | EY8: =EX8*$B8 -> #VALUE! | FA8: =係数マスタ!$A$4 -> 1 | FB8: =係数マスタ!$B4 | FD8: =FC8*$B8 -> #VALUE! | FF8: =FE8*$B8 -> #VALUE! | FH8: =FG8*$B8 -> #VALUE! | FJ8: =FI8*$B8 -> #VALUE! | FL8: =FK8*$B8 -> #VALUE! | FN8: =係数マスタ!$A$4 -> 1 | FO8: =係数マスタ!$B4 | FQ8: =FP8*$B8 -> #VALUE! | FS8: =FR8*$B8 -> #VALUE! | FU8: =FT8*$B8 -> #VALUE! | FW8: =FV8*$B8 -> #VALUE! | FY8: =FX8*$B8 -> #VALUE! | GA8: =係数マスタ!$A$4 -> 1 | GB8: =係数マスタ!$B4 | GD8: =GC8*$B8 -> #VALUE! | GF8: =GE8*$B8 -> #VALUE! | GH8: =GG8*$B8 -> #VALUE! | GJ8: =GI8*$B8 -> #VALUE! | GL8: =GK8*$B8 -> #VALUE! | GN8: =係数マスタ!$A$4 -> 1 | GO8: =係数マスタ!$B4 | GQ8: =GP8*$B8 -> #VALUE! | GS8: =GR8*$B8 -> #VALUE! | GU8: =GT8*$B8 -> #VALUE! | GW8: =GV8*$B8 -> #VALUE! | GY8: =GX8*$B8 -> #VALUE! | HA8: =係数マスタ!$A$4 -> 1 | HB8: =係数マスタ!$B4 | HD8: =HC8*$B8 -> #VALUE! | HF8: =HE8*$B8 -> #VALUE! | HH8: =HG8*$B8 -> #VALUE! | HJ8: =HI8*$B8 -> #VALUE! | HL8: =HK8*$B8 -> #VALUE! | HN8: =係数マスタ!$A$4 -> 1 | HO8: =係数マスタ!$B4 | HQ8: =HP8*$B8 -> #VALUE! | HS8: =HR8*$B8 -> #VALUE! | HU8: =HT8*$B8 -> #VALUE! | HW8: =HV8*$B8 -> #VALUE! | HY8: =HX8*$B8 -> #VALUE! | IA8: =係数マスタ!$A$4 -> 1 | IB8: =係数マスタ!$B4 | ID8: =IC8*$B8 -> #VALUE! | IF8: =IE8*$B8 -> #VALUE! | IH8: =IG8*$B8 -> #VALUE! | IJ8: =II8*$B8 -> #VALUE! | IL8: =IK8*$B8 -> #VALUE! | IN8: =係数マスタ!$A$4 -> 1 | IO8: =係数マスタ!$B4 | IQ8: =IP8*$B8 -> #VALUE! | IS8: =IR8*$B8 -> #VALUE! | IU8: =IT8*$B8 -> #VALUE! | IW8: =IV8*$B8 -> #VALUE! | IY8: =IX8*$B8 -> #VALUE! | JA8: =係数マスタ!$A$4 -> 1 | JB8: =係数マスタ!$B4 | JD8: =JC8*$B8 -> #VALUE! | JF8: =JE8*$B8 -> #VALUE! | JH8: =JG8*$B8 -> #VALUE! | JJ8: =JI8*$B8 -> #VALUE! | JL8: =JK8*$B8 -> #VALUE! | JN8: =係数マスタ!$A$4 -> 1 | JO8: =係数マスタ!$B4 | JQ8: =JP8*$B8 -> #VALUE! | JS8: =JR8*$B8 -> #VALUE! | JU8: =JT8*$B8 -> #VALUE! | JW8: =JV8*$B8 -> #VALUE! | JY8: =JX8*$B8 -> #VALUE! | KA8: =係数マスタ!$A$4 -> 1 | KB8: =係数マスタ!$B4 | KD8: =KC8*$B8 -> #VALUE! | KF8: =KE8*$B8 -> #VALUE! | KH8: =KG8*$B8 -> #VALUE! | KJ8: =KI8*$B8 -> #VALUE! | KL8: =KK8*$B8 -> #VALUE! | KN8: =係数マスタ!$A$4 -> 1 | KO8: =係数マスタ!$B4 | KQ8: =KP8*$B8 -> #VALUE! | KS8: =KR8*$B8 -> #VALUE! | KU8: =KT8*$B8 -> #VALUE! | KW8: =KV8*$B8 -> #VALUE! | KY8: =KX8*$B8 -> #VALUE! | LA8: =係数マスタ!$A$4 -> 1 | LB8: =係数マスタ!$B4 | LD8: =LC8*$B8 -> #VALUE! | LF8: =LE8*$B8 -> #VALUE! | LH8: =LG8*$B8 -> #VALUE! | LJ8: =LI8*$B8 -> #VALUE! | LL8: =LK8*$B8 -> #VALUE! | LN8: =係数マスタ!$A$4 -> 1 | LO8: =係数マスタ!$B4 | LQ8: =LP8*$B8 -> #VALUE! | LS8: =LR8*$B8 -> #VALUE! | LU8: =LT8*$B8 -> #VALUE! | LW8: =LV8*$B8 -> #VALUE! | LY8: =LX8*$B8 -> #VALUE! | MA8: =係数マスタ!$A$4 -> 1 | MB8: =係数マスタ!$B4 | MD8: =MC8*$B8 -> #VALUE! | MF8: =ME8*$B8 -> #VALUE! | MH8: =MG8*$B8 -> #VALUE! | MJ8: =MI8*$B8 -> #VALUE! | ML8: =MK8*$B8 -> #VALUE! | MN8: =係数マスタ!$A$4 -> 1 | MO8: =係数マスタ!$B4 | MQ8: =MP8*$B8 -> #VALUE! | MS8: =MR8*$B8 -> #VALUE! | MU8: =MT8*$B8 -> #VALUE! | MW8: =MV8*$B8 -> #VALUE! | MY8: =MX8*$B8 -> #VALUE! | NA8: =係数マスタ!$A$4 -> 1 | NB8: =係数マスタ!$B4 | ND8: =NC8*$B8 -> #VALUE! | NF8: =NE8*$B8 -> #VALUE! | NH8: =NG8*$B8 -> #VALUE! | NJ8: =NI8*$B8 -> #VALUE! | NL8: =NK8*$B8 -> #VALUE! | NN8: =係数マスタ!$A$4 -> 1 | NO8: =係数マスタ!$B4 | NQ8: =NP8*$B8 -> #VALUE! | NS8: =NR8*$B8 -> #VALUE! | NU8: =NT8*$B8 -> #VALUE! | NW8: =NV8*$B8 -> #VALUE! | NY8: =NX8*$B8 -> #VALUE! | OA8: =係数マスタ!$A$4 -> 1 | OB8: =係数マスタ!$B4 | OD8: =OC8*$B8 -> #VALUE! | OF8: =OE8*$B8 -> #VALUE! | OH8: =OG8*$B8 -> #VALUE! | OJ8: =OI8*$B8 -> #VALUE! | OL8: =OK8*$B8 -> #VALUE! | ON8: =係数マスタ!$A$4 -> 1 | OO8: =係数マスタ!$B4 | OQ8: =OP8*$B8 -> #VALUE! | OS8: =OR8*$B8 -> #VALUE! | OU8: =OT8*$B8 -> #VALUE! | OW8: =OV8*$B8 -> #VALUE! | OY8: =OX8*$B8 -> #VALUE! | PA8: =係数マスタ!$A$4 -> 1 | PB8: =係数マスタ!$B4 | PD8: =PC8*$B8 -> #VALUE! | PF8: =PE8*$B8 -> #VALUE! | PH8: =PG8*$B8 -> #VALUE! | PJ8: =PI8*$B8 -> #VALUE! | PL8: =PK8*$B8 -> #VALUE! | PN8: =係数マスタ!$A$4 -> 1 | PO8: =係数マスタ!$B4 | PQ8: =PP8*$B8 -> #VALUE! | PS8: =PR8*$B8 -> #VALUE! | PU8: =PT8*$B8 -> #VALUE! | PW8: =PV8*$B8 -> #VALUE! | PY8: =PX8*$B8 -> #VALUE! | QA8: =係数マスタ!$A$4 -> 1 | QB8: =係数マスタ!$B4 | QD8: =QC8*$B8 -> #VALUE! | QF8: =QE8*$B8 -> #VALUE! | QH8: =QG8*$B8 -> #VALUE! | QJ8: =QI8*$B8 -> #VALUE! | QL8: =QK8*$B8 -> #VALUE! | QN8: =係数マスタ!$A$4 -> 1 | QO8: =係数マスタ!$B4 | QQ8: =QP8*$B8 -> #VALUE! | QS8: =QR8*$B8 -> #VALUE! | QU8: =QT8*$B8 -> #VALUE! | QW8: =QV8*$B8 -> #VALUE! | QY8: =QX8*$B8 -> #VALUE! | RA8: =係数マスタ!$A$4 -> 1 | RB8: =係数マスタ!$B4 | RD8: =RC8*$B8 -> #VALUE! | RF8: =RE8*$B8 -> #VALUE! | RH8: =RG8*$B8 -> #VALUE! | RJ8: =RI8*$B8 -> #VALUE! | RL8: =RK8*$B8 -> #VALUE! | RN8: =係数マスタ!$A$4 -> 1 | RO8: =係数マスタ!$B4 | RQ8: =RP8*$B8 -> #VALUE! | RS8: =RR8*$B8 -> #VALUE! | RU8: =RT8*$B8 -> #VALUE! | RW8: =RV8*$B8 -> #VALUE! | RY8: =RX8*$B8 -> #VALUE! | SA8: =係数マスタ!$A$4 -> 1 | SB8: =係数マスタ!$B4 | SD8: =SC8*$B8 -> #VALUE! | SF8: =SE8*$B8 -> #VALUE! | SH8: =SG8*$B8 -> #VALUE! | SJ8: =SI8*$B8 -> #VALUE! | SL8: =SK8*$B8 -> #VALUE! | SN8: =係数マスタ!$A$4 -> 1 | SO8: =係数マスタ!$B4 | SQ8: =SP8*$B8 -> #VALUE! | SS8: =SR8*$B8 -> #VALUE! | SU8: =ST8*$B8 -> #VALUE! | SW8: =SV8*$B8 -> #VALUE! | SY8: =SX8*$B8 -> #VALUE! | TA8: =係数マスタ!$A$4 -> 1 | TB8: =係数マスタ!$B4 | TD8: =TC8*$B8 -> #VALUE! | TF8: =TE8*$B8 -> #VALUE! | TH8: =TG8*$B8 -> #VALUE! | TJ8: =TI8*$B8 -> #VALUE! | TL8: =TK8*$B8 -> #VALUE! | TN8: =係数マスタ!$A$4 -> 1 | TO8: =係数マスタ!$B4 | TQ8: =TP8*$B8 -> #VALUE! | TS8: =TR8*$B8 -> #VALUE! | TU8: =TT8*$B8 -> #VALUE! | TW8: =TV8*$B8 -> #VALUE! | TY8: =TX8*$B8 -> #VALUE! | UA8: =係数マスタ!$A$4 -> 1 | UB8: =係数マスタ!$B4 | UD8: =UC8*$B8 -> #VALUE! | UF8: =UE8*$B8 -> #VALUE! | UH8: =UG8*$B8 -> #VALUE! | UJ8: =UI8*$B8 -> #VALUE! | UL8: =UK8*$B8 -> #VALUE! | UN8: =係数マスタ!$A$4 -> 1 | UO8: =係数マスタ!$B4 | UQ8: =UP8*$B8 -> #VALUE! | US8: =UR8*$B8 -> #VALUE! | UU8: =UT8*$B8 -> #VALUE! | UW8: =UV8*$B8 -> #VALUE! | UY8: =UX8*$B8 -> #VALUE! | VA8: =係数マスタ!$A$4 -> 1 | VB8: =係数マスタ!$B4 | VD8: =VC8*$B8 -> #VALUE! | VF8: =VE8*$B8 -> #VALUE! | VH8: =VG8*$B8 -> #VALUE! | VJ8: =VI8*$B8 -> #VALUE! | VL8: =VK8*$B8 -> #VALUE! | VN8: =係数マスタ!$A$4 -> 1 | VO8: =係数マスタ!$B4 | VQ8: =VP8*$B8 -> #VALUE! | VS8: =VR8*$B8 -> #VALUE! | VU8: =VT8*$B8 -> #VALUE! | VW8: =VV8*$B8 -> #VALUE! | VY8: =VX8*$B8 -> #VALUE! | WA8: =係数マスタ!$A$4 -> 1 | WB8: =係数マスタ!$B4 | WD8: =WC8*$B8 -> #VALUE! | WF8: =WE8*$B8 -> #VALUE! | WH8: =WG8*$B8 -> #VALUE! | WJ8: =WI8*$B8 -> #VALUE! | WL8: =WK8*$B8 -> #VALUE! | WN8: =係数マスタ!$A$4 -> 1 | WO8: =係数マスタ!$B4 | WQ8: =WP8*$B8 -> #VALUE! | WS8: =WR8*$B8 -> #VALUE! | WU8: =WT8*$B8 -> #VALUE! | WW8: =WV8*$B8 -> #VALUE! | WY8: =WX8*$B8 -> #VALUE! | XA8: =係数マスタ!$A$4 -> 1 | XB8: =係数マスタ!$B4 | XD8: =XC8*$B8 -> #VALUE! | XF8: =XE8*$B8 -> #VALUE! | XH8: =XG8*$B8 -> #VALUE! | XJ8: =XI8*$B8 -> #VALUE! | XL8: =XK8*$B8 -> #VALUE! | XN8: =係数マスタ!$A$4 -> 1 | XO8: =係数マスタ!$B4 | XQ8: =XP8*$B8 -> #VALUE! | XS8: =XR8*$B8 -> #VALUE! | XU8: =XT8*$B8 -> #VALUE! | XW8: =XV8*$B8 -> #VALUE! | XY8: =XX8*$B8 -> #VALUE!
A9: =係数マスタ!$A$5 -> 2 | B9: =係数マスタ!$B5 | D9: =C9*$B9 -> #VALUE! | F9: =E9*$B9 -> #VALUE! | H9: =G9*$B9 -> #VALUE! | J9: =I9*$B9 -> #VALUE! | L9: =K9*$B9 -> #VALUE! | N9: =係数マスタ!$A$5 -> 2 | O9: =係数マスタ!$B5 | Q9: =P9*$B9 -> #VALUE! | S9: =R9*$B9 -> #VALUE! | U9: =T9*$B9 -> #VALUE! | W9: =V9*$B9 -> #VALUE! | Y9: =X9*$B9 -> #VALUE! | AA9: =係数マスタ!$A$5 -> 2 | AB9: =係数マスタ!$B5 | AD9: =AC9*$B9 -> #VALUE! | AF9: =AE9*$B9 -> #VALUE! | AH9: =AG9*$B9 -> #VALUE! | AJ9: =AI9*$B9 -> #VALUE! | AL9: =AK9*$B9 -> #VALUE! | AN9: =係数マスタ!$A$5 -> 2 | AO9: =係数マスタ!$B5 | AQ9: =AP9*$B9 -> #VALUE! | AS9: =AR9*$B9 -> #VALUE! | AU9: =AT9*$B9 -> #VALUE! | AW9: =AV9*$B9 -> #VALUE! | AY9: =AX9*$B9 -> #VALUE! | BA9: =係数マスタ!$A$5 -> 2 | BB9: =係数マスタ!$B5 | BD9: =BC9*$B9 -> #VALUE! | BF9: =BE9*$B9 -> #VALUE! | BH9: =BG9*$B9 -> #VALUE! | BJ9: =BI9*$B9 -> #VALUE! | BL9: =BK9*$B9 -> #VALUE! | BN9: =係数マスタ!$A$5 -> 2 | BO9: =係数マスタ!$B5 | BQ9: =BP9*$B9 -> #VALUE! | BS9: =BR9*$B9 -> #VALUE! | BU9: =BT9*$B9 -> #VALUE! | BW9: =BV9*$B9 -> #VALUE! | BY9: =BX9*$B9 -> #VALUE! | CA9: =係数マスタ!$A$5 -> 2 | CB9: =係数マスタ!$B5 | CD9: =CC9*$B9 -> #VALUE! | CF9: =CE9*$B9 -> #VALUE! | CH9: =CG9*$B9 -> #VALUE! | CJ9: =CI9*$B9 -> #VALUE! | CL9: =CK9*$B9 -> #VALUE! | CN9: =係数マスタ!$A$5 -> 2 | CO9: =係数マスタ!$B5 | CQ9: =CP9*$B9 -> #VALUE! | CS9: =CR9*$B9 -> #VALUE! | CU9: =CT9*$B9 -> #VALUE! | CW9: =CV9*$B9 -> #VALUE! | CY9: =CX9*$B9 -> #VALUE! | DA9: =係数マスタ!$A$5 -> 2 | DB9: =係数マスタ!$B5 | DD9: =DC9*$B9 -> #VALUE! | DF9: =DE9*$B9 -> #VALUE! | DH9: =DG9*$B9 -> #VALUE! | DJ9: =DI9*$B9 -> #VALUE! | DL9: =DK9*$B9 -> #VALUE! | DN9: =係数マスタ!$A$5 -> 2 | DO9: =係数マスタ!$B5 | DQ9: =DP9*$B9 -> #VALUE! | DS9: =DR9*$B9 -> #VALUE! | DU9: =DT9*$B9 -> #VALUE! | DW9: =DV9*$B9 -> #VALUE! | DY9: =DX9*$B9 -> #VALUE! | EA9: =係数マスタ!$A$5 -> 2 | EB9: =係数マスタ!$B5 | ED9: =EC9*$B9 -> #VALUE! | EF9: =EE9*$B9 -> #VALUE! | EH9: =EG9*$B9 -> #VALUE! | EJ9: =EI9*$B9 -> #VALUE! | EL9: =EK9*$B9 -> #VALUE! | EN9: =係数マスタ!$A$5 -> 2 | EO9: =係数マスタ!$B5 | EQ9: =EP9*$B9 -> #VALUE! | ES9: =ER9*$B9 -> #VALUE! | EU9: =ET9*$B9 -> #VALUE! | EW9: =EV9*$B9 -> #VALUE! | EY9: =EX9*$B9 -> #VALUE! | FA9: =係数マスタ!$A$5 -> 2 | FB9: =係数マスタ!$B5 | FD9: =FC9*$B9 -> #VALUE! | FF9: =FE9*$B9 -> #VALUE! | FH9: =FG9*$B9 -> #VALUE! | FJ9: =FI9*$B9 -> #VALUE! | FL9: =FK9*$B9 -> #VALUE! | FN9: =係数マスタ!$A$5 -> 2 | FO9: =係数マスタ!$B5 | FQ9: =FP9*$B9 -> #VALUE! | FS9: =FR9*$B9 -> #VALUE! | FU9: =FT9*$B9 -> #VALUE! | FW9: =FV9*$B9 -> #VALUE! | FY9: =FX9*$B9 -> #VALUE! | GA9: =係数マスタ!$A$5 -> 2 | GB9: =係数マスタ!$B5 | GD9: =GC9*$B9 -> #VALUE! | GF9: =GE9*$B9 -> #VALUE! | GH9: =GG9*$B9 -> #VALUE! | GJ9: =GI9*$B9 -> #VALUE! | GL9: =GK9*$B9 -> #VALUE! | GN9: =係数マスタ!$A$5 -> 2 | GO9: =係数マスタ!$B5 | GQ9: =GP9*$B9 -> #VALUE! | GS9: =GR9*$B9 -> #VALUE! | GU9: =GT9*$B9 -> #VALUE! | GW9: =GV9*$B9 -> #VALUE! | GY9: =GX9*$B9 -> #VALUE! | HA9: =係数マスタ!$A$5 -> 2 | HB9: =係数マスタ!$B5 | HD9: =HC9*$B9 -> #VALUE! | HF9: =HE9*$B9 -> #VALUE! | HH9: =HG9*$B9 -> #VALUE! | HJ9: =HI9*$B9 -> #VALUE! | HL9: =HK9*$B9 -> #VALUE! | HN9: =係数マスタ!$A$5 -> 2 | HO9: =係数マスタ!$B5 | HQ9: =HP9*$B9 -> #VALUE! | HS9: =HR9*$B9 -> #VALUE! | HU9: =HT9*$B9 -> #VALUE! | HW9: =HV9*$B9 -> #VALUE! | HY9: =HX9*$B9 -> #VALUE! | IA9: =係数マスタ!$A$5 -> 2 | IB9: =係数マスタ!$B5 | ID9: =IC9*$B9 -> #VALUE! | IF9: =IE9*$B9 -> #VALUE! | IH9: =IG9*$B9 -> #VALUE! | IJ9: =II9*$B9 -> #VALUE! | IL9: =IK9*$B9 -> #VALUE! | IN9: =係数マスタ!$A$5 -> 2 | IO9: =係数マスタ!$B5 | IQ9: =IP9*$B9 -> #VALUE! | IS9: =IR9*$B9 -> #VALUE! | IU9: =IT9*$B9 -> #VALUE! | IW9: =IV9*$B9 -> #VALUE! | IY9: =IX9*$B9 -> #VALUE! | JA9: =係数マスタ!$A$5 -> 2 | JB9: =係数マスタ!$B5 | JD9: =JC9*$B9 -> #VALUE! | JF9: =JE9*$B9 -> #VALUE! | JH9: =JG9*$B9 -> #VALUE! | JJ9: =JI9*$B9 -> #VALUE! | JL9: =JK9*$B9 -> #VALUE! | JN9: =係数マスタ!$A$5 -> 2 | JO9: =係数マスタ!$B5 | JQ9: =JP9*$B9 -> #VALUE! | JS9: =JR9*$B9 -> #VALUE! | JU9: =JT9*$B9 -> #VALUE! | JW9: =JV9*$B9 -> #VALUE! | JY9: =JX9*$B9 -> #VALUE! | KA9: =係数マスタ!$A$5 -> 2 | KB9: =係数マスタ!$B5 | KD9: =KC9*$B9 -> #VALUE! | KF9: =KE9*$B9 -> #VALUE! | KH9: =KG9*$B9 -> #VALUE! | KJ9: =KI9*$B9 -> #VALUE! | KL9: =KK9*$B9 -> #VALUE! | KN9: =係数マスタ!$A$5 -> 2 | KO9: =係数マスタ!$B5 | KQ9: =KP9*$B9 -> #VALUE! | KS9: =KR9*$B9 -> #VALUE! | KU9: =KT9*$B9 -> #VALUE! | KW9: =KV9*$B9 -> #VALUE! | KY9: =KX9*$B9 -> #VALUE! | LA9: =係数マスタ!$A$5 -> 2 | LB9: =係数マスタ!$B5 | LD9: =LC9*$B9 -> #VALUE! | LF9: =LE9*$B9 -> #VALUE! | LH9: =LG9*$B9 -> #VALUE! | LJ9: =LI9*$B9 -> #VALUE! | LL9: =LK9*$B9 -> #VALUE! | LN9: =係数マスタ!$A$5 -> 2 | LO9: =係数マスタ!$B5 | LQ9: =LP9*$B9 -> #VALUE! | LS9: =LR9*$B9 -> #VALUE! | LU9: =LT9*$B9 -> #VALUE! | LW9: =LV9*$B9 -> #VALUE! | LY9: =LX9*$B9 -> #VALUE! | MA9: =係数マスタ!$A$5 -> 2 | MB9: =係数マスタ!$B5 | MD9: =MC9*$B9 -> #VALUE! | MF9: =ME9*$B9 -> #VALUE! | MH9: =MG9*$B9 -> #VALUE! | MJ9: =MI9*$B9 -> #VALUE! | ML9: =MK9*$B9 -> #VALUE! | MN9: =係数マスタ!$A$5 -> 2 | MO9: =係数マスタ!$B5 | MQ9: =MP9*$B9 -> #VALUE! | MS9: =MR9*$B9 -> #VALUE! | MU9: =MT9*$B9 -> #VALUE! | MW9: =MV9*$B9 -> #VALUE! | MY9: =MX9*$B9 -> #VALUE! | NA9: =係数マスタ!$A$5 -> 2 | NB9: =係数マスタ!$B5 | ND9: =NC9*$B9 -> #VALUE! | NF9: =NE9*$B9 -> #VALUE! | NH9: =NG9*$B9 -> #VALUE! | NJ9: =NI9*$B9 -> #VALUE! | NL9: =NK9*$B9 -> #VALUE! | NN9: =係数マスタ!$A$5 -> 2 | NO9: =係数マスタ!$B5 | NQ9: =NP9*$B9 -> #VALUE! | NS9: =NR9*$B9 -> #VALUE! | NU9: =NT9*$B9 -> #VALUE! | NW9: =NV9*$B9 -> #VALUE! | NY9: =NX9*$B9 -> #VALUE! | OA9: =係数マスタ!$A$5 -> 2 | OB9: =係数マスタ!$B5 | OD9: =OC9*$B9 -> #VALUE! | OF9: =OE9*$B9 -> #VALUE! | OH9: =OG9*$B9 -> #VALUE! | OJ9: =OI9*$B9 -> #VALUE! | OL9: =OK9*$B9 -> #VALUE! | ON9: =係数マスタ!$A$5 -> 2 | OO9: =係数マスタ!$B5 | OQ9: =OP9*$B9 -> #VALUE! | OS9: =OR9*$B9 -> #VALUE! | OU9: =OT9*$B9 -> #VALUE! | OW9: =OV9*$B9 -> #VALUE! | OY9: =OX9*$B9 -> #VALUE! | PA9: =係数マスタ!$A$5 -> 2 | PB9: =係数マスタ!$B5 | PD9: =PC9*$B9 -> #VALUE! | PF9: =PE9*$B9 -> #VALUE! | PH9: =PG9*$B9 -> #VALUE! | PJ9: =PI9*$B9 -> #VALUE! | PL9: =PK9*$B9 -> #VALUE! | PN9: =係数マスタ!$A$5 -> 2 | PO9: =係数マスタ!$B5 | PQ9: =PP9*$B9 -> #VALUE! | PS9: =PR9*$B9 -> #VALUE! | PU9: =PT9*$B9 -> #VALUE! | PW9: =PV9*$B9 -> #VALUE! | PY9: =PX9*$B9 -> #VALUE! | QA9: =係数マスタ!$A$5 -> 2 | QB9: =係数マスタ!$B5 | QD9: =QC9*$B9 -> #VALUE! | QF9: =QE9*$B9 -> #VALUE! | QH9: =QG9*$B9 -> #VALUE! | QJ9: =QI9*$B9 -> #VALUE! | QL9: =QK9*$B9 -> #VALUE! | QN9: =係数マスタ!$A$5 -> 2 | QO9: =係数マスタ!$B5 | QQ9: =QP9*$B9 -> #VALUE! | QS9: =QR9*$B9 -> #VALUE! | QU9: =QT9*$B9 -> #VALUE! | QW9: =QV9*$B9 -> #VALUE! | QY9: =QX9*$B9 -> #VALUE! | RA9: =係数マスタ!$A$5 -> 2 | RB9: =係数マスタ!$B5 | RD9: =RC9*$B9 -> #VALUE! | RF9: =RE9*$B9 -> #VALUE! | RH9: =RG9*$B9 -> #VALUE! | RJ9: =RI9*$B9 -> #VALUE! | RL9: =RK9*$B9 -> #VALUE! | RN9: =係数マスタ!$A$5 -> 2 | RO9: =係数マスタ!$B5 | RQ9: =RP9*$B9 -> #VALUE! | RS9: =RR9*$B9 -> #VALUE! | RU9: =RT9*$B9 -> #VALUE! | RW9: =RV9*$B9 -> #VALUE! | RY9: =RX9*$B9 -> #VALUE! | SA9: =係数マスタ!$A$5 -> 2 | SB9: =係数マスタ!$B5 | SD9: =SC9*$B9 -> #VALUE! | SF9: =SE9*$B9 -> #VALUE! | SH9: =SG9*$B9 -> #VALUE! | SJ9: =SI9*$B9 -> #VALUE! | SL9: =SK9*$B9 -> #VALUE! | SN9: =係数マスタ!$A$5 -> 2 | SO9: =係数マスタ!$B5 | SQ9: =SP9*$B9 -> #VALUE! | SS9: =SR9*$B9 -> #VALUE! | SU9: =ST9*$B9 -> #VALUE! | SW9: =SV9*$B9 -> #VALUE! | SY9: =SX9*$B9 -> #VALUE! | TA9: =係数マスタ!$A$5 -> 2 | TB9: =係数マスタ!$B5 | TD9: =TC9*$B9 -> #VALUE! | TF9: =TE9*$B9 -> #VALUE! | TH9: =TG9*$B9 -> #VALUE! | TJ9: =TI9*$B9 -> #VALUE! | TL9: =TK9*$B9 -> #VALUE! | TN9: =係数マスタ!$A$5 -> 2 | TO9: =係数マスタ!$B5 | TQ9: =TP9*$B9 -> #VALUE! | TS9: =TR9*$B9 -> #VALUE! | TU9: =TT9*$B9 -> #VALUE! | TW9: =TV9*$B9 -> #VALUE! | TY9: =TX9*$B9 -> #VALUE! | UA9: =係数マスタ!$A$5 -> 2 | UB9: =係数マスタ!$B5 | UD9: =UC9*$B9 -> #VALUE! | UF9: =UE9*$B9 -> #VALUE! | UH9: =UG9*$B9 -> #VALUE! | UJ9: =UI9*$B9 -> #VALUE! | UL9: =UK9*$B9 -> #VALUE! | UN9: =係数マスタ!$A$5 -> 2 | UO9: =係数マスタ!$B5 | UQ9: =UP9*$B9 -> #VALUE! | US9: =UR9*$B9 -> #VALUE! | UU9: =UT9*$B9 -> #VALUE! | UW9: =UV9*$B9 -> #VALUE! | UY9: =UX9*$B9 -> #VALUE! | VA9: =係数マスタ!$A$5 -> 2 | VB9: =係数マスタ!$B5 | VD9: =VC9*$B9 -> #VALUE! | VF9: =VE9*$B9 -> #VALUE! | VH9: =VG9*$B9 -> #VALUE! | VJ9: =VI9*$B9 -> #VALUE! | VL9: =VK9*$B9 -> #VALUE! | VN9: =係数マスタ!$A$5 -> 2 | VO9: =係数マスタ!$B5 | VQ9: =VP9*$B9 -> #VALUE! | VS9: =VR9*$B9 -> #VALUE! | VU9: =VT9*$B9 -> #VALUE! | VW9: =VV9*$B9 -> #VALUE! | VY9: =VX9*$B9 -> #VALUE! | WA9: =係数マスタ!$A$5 -> 2 | WB9: =係数マスタ!$B5 | WD9: =WC9*$B9 -> #VALUE! | WF9: =WE9*$B9 -> #VALUE! | WH9: =WG9*$B9 -> #VALUE! | WJ9: =WI9*$B9 -> #VALUE! | WL9: =WK9*$B9 -> #VALUE! | WN9: =係数マスタ!$A$5 -> 2 | WO9: =係数マスタ!$B5 | WQ9: =WP9*$B9 -> #VALUE! | WS9: =WR9*$B9 -> #VALUE! | WU9: =WT9*$B9 -> #VALUE! | WW9: =WV9*$B9 -> #VALUE! | WY9: =WX9*$B9 -> #VALUE! | XA9: =係数マスタ!$A$5 -> 2 | XB9: =係数マスタ!$B5 | XD9: =XC9*$B9 -> #VALUE! | XF9: =XE9*$B9 -> #VALUE! | XH9: =XG9*$B9 -> #VALUE! | XJ9: =XI9*$B9 -> #VALUE! | XL9: =XK9*$B9 -> #VALUE! | XN9: =係数マスタ!$A$5 -> 2 | XO9: =係数マスタ!$B5 | XQ9: =XP9*$B9 -> #VALUE! | XS9: =XR9*$B9 -> #VALUE! | XU9: =XT9*$B9 -> #VALUE! | XW9: =XV9*$B9 -> #VALUE! | XY9: =XX9*$B9 -> #VALUE!
A10: =係数マスタ!$A$6 -> 3 | B10: =係数マスタ!$B6 | D10: =C10*$B10 -> #VALUE! | F10: =E10*$B10 -> #VALUE! | H10: =G10*$B10 -> #VALUE! | J10: =I10*$B10 -> #VALUE! | L10: =K10*$B10 -> #VALUE! | N10: =係数マスタ!$A$6 -> 3 | O10: =係数マスタ!$B6 | Q10: =P10*$B10 -> #VALUE! | S10: =R10*$B10 -> #VALUE! | U10: =T10*$B10 -> #VALUE! | W10: =V10*$B10 -> #VALUE! | Y10: =X10*$B10 -> #VALUE! | AA10: =係数マスタ!$A$6 -> 3 | AB10: =係数マスタ!$B6 | AD10: =AC10*$B10 -> #VALUE! | AF10: =AE10*$B10 -> #VALUE! | AH10: =AG10*$B10 -> #VALUE! | AJ10: =AI10*$B10 -> #VALUE! | AL10: =AK10*$B10 -> #VALUE! | AN10: =係数マスタ!$A$6 -> 3 | AO10: =係数マスタ!$B6 | AQ10: =AP10*$B10 -> #VALUE! | AS10: =AR10*$B10 -> #VALUE! | AU10: =AT10*$B10 -> #VALUE! | AW10: =AV10*$B10 -> #VALUE! | AY10: =AX10*$B10 -> #VALUE! | BA10: =係数マスタ!$A$6 -> 3 | BB10: =係数マスタ!$B6 | BD10: =BC10*$B10 -> #VALUE! | BF10: =BE10*$B10 -> #VALUE! | BH10: =BG10*$B10 -> #VALUE! | BJ10: =BI10*$B10 -> #VALUE! | BL10: =BK10*$B10 -> #VALUE! | BN10: =係数マスタ!$A$6 -> 3 | BO10: =係数マスタ!$B6 | BQ10: =BP10*$B10 -> #VALUE! | BS10: =BR10*$B10 -> #VALUE! | BU10: =BT10*$B10 -> #VALUE! | BW10: =BV10*$B10 -> #VALUE! | BY10: =BX10*$B10 -> #VALUE! | CA10: =係数マスタ!$A$6 -> 3 | CB10: =係数マスタ!$B6 | CD10: =CC10*$B10 -> #VALUE! | CF10: =CE10*$B10 -> #VALUE! | CH10: =CG10*$B10 -> #VALUE! | CJ10: =CI10*$B10 -> #VALUE! | CL10: =CK10*$B10 -> #VALUE! | CN10: =係数マスタ!$A$6 -> 3 | CO10: =係数マスタ!$B6 | CQ10: =CP10*$B10 -> #VALUE! | CS10: =CR10*$B10 -> #VALUE! | CU10: =CT10*$B10 -> #VALUE! | CW10: =CV10*$B10 -> #VALUE! | CY10: =CX10*$B10 -> #VALUE! | DA10: =係数マスタ!$A$6 -> 3 | DB10: =係数マスタ!$B6 | DD10: =DC10*$B10 -> #VALUE! | DF10: =DE10*$B10 -> #VALUE! | DH10: =DG10*$B10 -> #VALUE! | DJ10: =DI10*$B10 -> #VALUE! | DL10: =DK10*$B10 -> #VALUE! | DN10: =係数マスタ!$A$6 -> 3 | DO10: =係数マスタ!$B6 | DQ10: =DP10*$B10 -> #VALUE! | DS10: =DR10*$B10 -> #VALUE! | DU10: =DT10*$B10 -> #VALUE! | DW10: =DV10*$B10 -> #VALUE! | DY10: =DX10*$B10 -> #VALUE! | EA10: =係数マスタ!$A$6 -> 3 | EB10: =係数マスタ!$B6 | ED10: =EC10*$B10 -> #VALUE! | EF10: =EE10*$B10 -> #VALUE! | EH10: =EG10*$B10 -> #VALUE! | EJ10: =EI10*$B10 -> #VALUE! | EL10: =EK10*$B10 -> #VALUE! | EN10: =係数マスタ!$A$6 -> 3 | EO10: =係数マスタ!$B6 | EQ10: =EP10*$B10 -> #VALUE! | ES10: =ER10*$B10 -> #VALUE! | EU10: =ET10*$B10 -> #VALUE! | EW10: =EV10*$B10 -> #VALUE! | EY10: =EX10*$B10 -> #VALUE! | FA10: =係数マスタ!$A$6 -> 3 | FB10: =係数マスタ!$B6 | FD10: =FC10*$B10 -> #VALUE! | FF10: =FE10*$B10 -> #VALUE! | FH10: =FG10*$B10 -> #VALUE! | FJ10: =FI10*$B10 -> #VALUE! | FL10: =FK10*$B10 -> #VALUE! | FN10: =係数マスタ!$A$6 -> 3 | FO10: =係数マスタ!$B6 | FQ10: =FP10*$B10 -> #VALUE! | FS10: =FR10*$B10 -> #VALUE! | FU10: =FT10*$B10 -> #VALUE! | FW10: =FV10*$B10 -> #VALUE! | FY10: =FX10*$B10 -> #VALUE! | GA10: =係数マスタ!$A$6 -> 3 | GB10: =係数マスタ!$B6 | GD10: =GC10*$B10 -> #VALUE! | GF10: =GE10*$B10 -> #VALUE! | GH10: =GG10*$B10 -> #VALUE! | GJ10: =GI10*$B10 -> #VALUE! | GL10: =GK10*$B10 -> #VALUE! | GN10: =係数マスタ!$A$6 -> 3 | GO10: =係数マスタ!$B6 | GQ10: =GP10*$B10 -> #VALUE! | GS10: =GR10*$B10 -> #VALUE! | GU10: =GT10*$B10 -> #VALUE! | GW10: =GV10*$B10 -> #VALUE! | GY10: =GX10*$B10 -> #VALUE! | HA10: =係数マスタ!$A$6 -> 3 | HB10: =係数マスタ!$B6 | HD10: =HC10*$B10 -> #VALUE! | HF10: =HE10*$B10 -> #VALUE! | HH10: =HG10*$B10 -> #VALUE! | HJ10: =HI10*$B10 -> #VALUE! | HL10: =HK10*$B10 -> #VALUE! | HN10: =係数マスタ!$A$6 -> 3 | HO10: =係数マスタ!$B6 | HQ10: =HP10*$B10 -> #VALUE! | HS10: =HR10*$B10 -> #VALUE! | HU10: =HT10*$B10 -> #VALUE! | HW10: =HV10*$B10 -> #VALUE! | HY10: =HX10*$B10 -> #VALUE! | IA10: =係数マスタ!$A$6 -> 3 | IB10: =係数マスタ!$B6 | ID10: =IC10*$B10 -> #VALUE! | IF10: =IE10*$B10 -> #VALUE! | IH10: =IG10*$B10 -> #VALUE! | IJ10: =II10*$B10 -> #VALUE! | IL10: =IK10*$B10 -> #VALUE! | IN10: =係数マスタ!$A$6 -> 3 | IO10: =係数マスタ!$B6 | IQ10: =IP10*$B10 -> #VALUE! | IS10: =IR10*$B10 -> #VALUE! | IU10: =IT10*$B10 -> #VALUE! | IW10: =IV10*$B10 -> #VALUE! | IY10: =IX10*$B10 -> #VALUE! | JA10: =係数マスタ!$A$6 -> 3 | JB10: =係数マスタ!$B6 | JD10: =JC10*$B10 -> #VALUE! | JF10: =JE10*$B10 -> #VALUE! | JH10: =JG10*$B10 -> #VALUE! | JJ10: =JI10*$B10 -> #VALUE! | JL10: =JK10*$B10 -> #VALUE! | JN10: =係数マスタ!$A$6 -> 3 | JO10: =係数マスタ!$B6 | JQ10: =JP10*$B10 -> #VALUE! | JS10: =JR10*$B10 -> #VALUE! | JU10: =JT10*$B10 -> #VALUE! | JW10: =JV10*$B10 -> #VALUE! | JY10: =JX10*$B10 -> #VALUE! | KA10: =係数マスタ!$A$6 -> 3 | KB10: =係数マスタ!$B6 | KD10: =KC10*$B10 -> #VALUE! | KF10: =KE10*$B10 -> #VALUE! | KH10: =KG10*$B10 -> #VALUE! | KJ10: =KI10*$B10 -> #VALUE! | KL10: =KK10*$B10 -> #VALUE! | KN10: =係数マスタ!$A$6 -> 3 | KO10: =係数マスタ!$B6 | KQ10: =KP10*$B10 -> #VALUE! | KS10: =KR10*$B10 -> #VALUE! | KU10: =KT10*$B10 -> #VALUE! | KW10: =KV10*$B10 -> #VALUE! | KY10: =KX10*$B10 -> #VALUE! | LA10: =係数マスタ!$A$6 -> 3 | LB10: =係数マスタ!$B6 | LD10: =LC10*$B10 -> #VALUE! | LF10: =LE10*$B10 -> #VALUE! | LH10: =LG10*$B10 -> #VALUE! | LJ10: =LI10*$B10 -> #VALUE! | LL10: =LK10*$B10 -> #VALUE! | LN10: =係数マスタ!$A$6 -> 3 | LO10: =係数マスタ!$B6 | LQ10: =LP10*$B10 -> #VALUE! | LS10: =LR10*$B10 -> #VALUE! | LU10: =LT10*$B10 -> #VALUE! | LW10: =LV10*$B10 -> #VALUE! | LY10: =LX10*$B10 -> #VALUE! | MA10: =係数マスタ!$A$6 -> 3 | MB10: =係数マスタ!$B6 | MD10: =MC10*$B10 -> #VALUE! | MF10: =ME10*$B10 -> #VALUE! | MH10: =MG10*$B10 -> #VALUE! | MJ10: =MI10*$B10 -> #VALUE! | ML10: =MK10*$B10 -> #VALUE! | MN10: =係数マスタ!$A$6 -> 3 | MO10: =係数マスタ!$B6 | MQ10: =MP10*$B10 -> #VALUE! | MS10: =MR10*$B10 -> #VALUE! | MU10: =MT10*$B10 -> #VALUE! | MW10: =MV10*$B10 -> #VALUE! | MY10: =MX10*$B10 -> #VALUE! | NA10: =係数マスタ!$A$6 -> 3 | NB10: =係数マスタ!$B6 | ND10: =NC10*$B10 -> #VALUE! | NF10: =NE10*$B10 -> #VALUE! | NH10: =NG10*$B10 -> #VALUE! | NJ10: =NI10*$B10 -> #VALUE! | NL10: =NK10*$B10 -> #VALUE! | NN10: =係数マスタ!$A$6 -> 3 | NO10: =係数マスタ!$B6 | NQ10: =NP10*$B10 -> #VALUE! | NS10: =NR10*$B10 -> #VALUE! | NU10: =NT10*$B10 -> #VALUE! | NW10: =NV10*$B10 -> #VALUE! | NY10: =NX10*$B10 -> #VALUE! | OA10: =係数マスタ!$A$6 -> 3 | OB10: =係数マスタ!$B6 | OD10: =OC10*$B10 -> #VALUE! | OF10: =OE10*$B10 -> #VALUE! | OH10: =OG10*$B10 -> #VALUE! | OJ10: =OI10*$B10 -> #VALUE! | OL10: =OK10*$B10 -> #VALUE! | ON10: =係数マスタ!$A$6 -> 3 | OO10: =係数マスタ!$B6 | OQ10: =OP10*$B10 -> #VALUE! | OS10: =OR10*$B10 -> #VALUE! | OU10: =OT10*$B10 -> #VALUE! | OW10: =OV10*$B10 -> #VALUE! | OY10: =OX10*$B10 -> #VALUE! | PA10: =係数マスタ!$A$6 -> 3 | PB10: =係数マスタ!$B6 | PD10: =PC10*$B10 -> #VALUE! | PF10: =PE10*$B10 -> #VALUE! | PH10: =PG10*$B10 -> #VALUE! | PJ10: =PI10*$B10 -> #VALUE! | PL10: =PK10*$B10 -> #VALUE! | PN10: =係数マスタ!$A$6 -> 3 | PO10: =係数マスタ!$B6 | PQ10: =PP10*$B10 -> #VALUE! | PS10: =PR10*$B10 -> #VALUE! | PU10: =PT10*$B10 -> #VALUE! | PW10: =PV10*$B10 -> #VALUE! | PY10: =PX10*$B10 -> #VALUE! | QA10: =係数マスタ!$A$6 -> 3 | QB10: =係数マスタ!$B6 | QD10: =QC10*$B10 -> #VALUE! | QF10: =QE10*$B10 -> #VALUE! | QH10: =QG10*$B10 -> #VALUE! | QJ10: =QI10*$B10 -> #VALUE! | QL10: =QK10*$B10 -> #VALUE! | QN10: =係数マスタ!$A$6 -> 3 | QO10: =係数マスタ!$B6 | QQ10: =QP10*$B10 -> #VALUE! | QS10: =QR10*$B10 -> #VALUE! | QU10: =QT10*$B10 -> #VALUE! | QW10: =QV10*$B10 -> #VALUE! | QY10: =QX10*$B10 -> #VALUE! | RA10: =係数マスタ!$A$6 -> 3 | RB10: =係数マスタ!$B6 | RD10: =RC10*$B10 -> #VALUE! | RF10: =RE10*$B10 -> #VALUE! | RH10: =RG10*$B10 -> #VALUE! | RJ10: =RI10*$B10 -> #VALUE! | RL10: =RK10*$B10 -> #VALUE! | RN10: =係数マスタ!$A$6 -> 3 | RO10: =係数マスタ!$B6 | RQ10: =RP10*$B10 -> #VALUE! | RS10: =RR10*$B10 -> #VALUE! | RU10: =RT10*$B10 -> #VALUE! | RW10: =RV10*$B10 -> #VALUE! | RY10: =RX10*$B10 -> #VALUE! | SA10: =係数マスタ!$A$6 -> 3 | SB10: =係数マスタ!$B6 | SD10: =SC10*$B10 -> #VALUE! | SF10: =SE10*$B10 -> #VALUE! | SH10: =SG10*$B10 -> #VALUE! | SJ10: =SI10*$B10 -> #VALUE! | SL10: =SK10*$B10 -> #VALUE! | SN10: =係数マスタ!$A$6 -> 3 | SO10: =係数マスタ!$B6 | SQ10: =SP10*$B10 -> #VALUE! | SS10: =SR10*$B10 -> #VALUE! | SU10: =ST10*$B10 -> #VALUE! | SW10: =SV10*$B10 -> #VALUE! | SY10: =SX10*$B10 -> #VALUE! | TA10: =係数マスタ!$A$6 -> 3 | TB10: =係数マスタ!$B6 | TD10: =TC10*$B10 -> #VALUE! | TF10: =TE10*$B10 -> #VALUE! | TH10: =TG10*$B10 -> #VALUE! | TJ10: =TI10*$B10 -> #VALUE! | TL10: =TK10*$B10 -> #VALUE! | TN10: =係数マスタ!$A$6 -> 3 | TO10: =係数マスタ!$B6 | TQ10: =TP10*$B10 -> #VALUE! | TS10: =TR10*$B10 -> #VALUE! | TU10: =TT10*$B10 -> #VALUE! | TW10: =TV10*$B10 -> #VALUE! | TY10: =TX10*$B10 -> #VALUE! | UA10: =係数マスタ!$A$6 -> 3 | UB10: =係数マスタ!$B6 | UD10: =UC10*$B10 -> #VALUE! | UF10: =UE10*$B10 -> #VALUE! | UH10: =UG10*$B10 -> #VALUE! | UJ10: =UI10*$B10 -> #VALUE! | UL10: =UK10*$B10 -> #VALUE! | UN10: =係数マスタ!$A$6 -> 3 | UO10: =係数マスタ!$B6 | UQ10: =UP10*$B10 -> #VALUE! | US10: =UR10*$B10 -> #VALUE! | UU10: =UT10*$B10 -> #VALUE! | UW10: =UV10*$B10 -> #VALUE! | UY10: =UX10*$B10 -> #VALUE! | VA10: =係数マスタ!$A$6 -> 3 | VB10: =係数マスタ!$B6 | VD10: =VC10*$B10 -> #VALUE! | VF10: =VE10*$B10 -> #VALUE! | VH10: =VG10*$B10 -> #VALUE! | VJ10: =VI10*$B10 -> #VALUE! | VL10: =VK10*$B10 -> #VALUE! | VN10: =係数マスタ!$A$6 -> 3 | VO10: =係数マスタ!$B6 | VQ10: =VP10*$B10 -> #VALUE! | VS10: =VR10*$B10 -> #VALUE! | VU10: =VT10*$B10 -> #VALUE! | VW10: =VV10*$B10 -> #VALUE! | VY10: =VX10*$B10 -> #VALUE! | WA10: =係数マスタ!$A$6 -> 3 | WB10: =係数マスタ!$B6 | WD10: =WC10*$B10 -> #VALUE! | WF10: =WE10*$B10 -> #VALUE! | WH10: =WG10*$B10 -> #VALUE! | WJ10: =WI10*$B10 -> #VALUE! | WL10: =WK10*$B10 -> #VALUE! | WN10: =係数マスタ!$A$6 -> 3 | WO10: =係数マスタ!$B6 | WQ10: =WP10*$B10 -> #VALUE! | WS10: =WR10*$B10 -> #VALUE! | WU10: =WT10*$B10 -> #VALUE! | WW10: =WV10*$B10 -> #VALUE! | WY10: =WX10*$B10 -> #VALUE! | XA10: =係数マスタ!$A$6 -> 3 | XB10: =係数マスタ!$B6 | XD10: =XC10*$B10 -> #VALUE! | XF10: =XE10*$B10 -> #VALUE! | XH10: =XG10*$B10 -> #VALUE! | XJ10: =XI10*$B10 -> #VALUE! | XL10: =XK10*$B10 -> #VALUE! | XN10: =係数マスタ!$A$6 -> 3 | XO10: =係数マスタ!$B6 | XQ10: =XP10*$B10 -> #VALUE! | XS10: =XR10*$B10 -> #VALUE! | XU10: =XT10*$B10 -> #VALUE! | XW10: =XV10*$B10 -> #VALUE! | XY10: =XX10*$B10 -> #VALUE!
