Workbook

Sheet ①出番表
B2: 大会登録No. | E2: 開催日： | J2: 主任審判員署名：
B3: 大会名： | P3: 公式発表時刻：
B4: 第 | D4: 競技 | E4: 競技名：
B5: 認定競技No. | E5: クラス：
A6: E: | B6: 会員番号 | D6: 審判名
A7: H: | B7: 会員番号 | D7: 審判名
A8: C: | B8: 会員番号 | D8: 審判名
A9: M: | B9: 会員番号 | D9: 審判名
A10: B: | B10: 会員番号 | D10: 審判名
H11: 得 点 率 | R11: 最終 | S11: 備考
A12: OPEN | B12: 出番 | C12: 選手名 | D12: 会員番号 | E12: 馬匹名 | F12: 登録番号 | G12: 所 属 | H12: E | J12: H | L12: C | N12: M | P12: B | R12: 得点率
B13: 1
B14: 2
B15: 3
B16: 4
B17: 5
B18: 6
B19: 7
B20: 8
B21: 9
B22: 10
B23: 11
B24: 12
... B62: 50

Sheet ②入力シート
A1: 競技名 | B1: =IF(①出番表!F4=0,"",①出番表!F4) | N1: 日付 | O1: =IF(①出番表!F2=0,"",①出番表!F2) | T1: 審判数 | U1: =COUNTA(①出番表!E6:E10) -> 0
A3: 出番 | B3: 1 | G3: 出場処理 | N3: 出番 | O3: =B3+1 -> 2 | T3: 出場処理 | AA3: 出番 | AB3: =O3+1 -> 3 | AG3: 出場処理 | AN3: 出番 | AO3: =AB3+1 -> 4 | AT3: 出場処理 | BA3: 出番 | BB3: =AO3+1 -> 5 | BG3: 出場処理 | BN3: 出番 | BO3: =BB3+1 -> 6 | BT3: 出場処理 | CA3: 出番 | CB3: =BO3+1 -> 7 | CG3: 出場処理 | CN3: 出番 | CO3: =CB3+1 -> 8 | CT3: 出場処理 | DA3: 出番 | DB3: =CO3+1 -> 9 | DG3: 出場処理 | DN3: 出番 | DO3: =DB3+1 -> 10 | DT3: 出場処理 | EA3: 出番 | EB3: =DO3+1 -> 11 | EG3: 出場処理 | EN3: 出番 | EO3: =EB3+1 -> 12 | ET3: 出場処理 | FA3: 出番 | FB3: =EO3+1 -> 13 | FG3: 出場処理 | FN3: 出番 | FO3: =FB3+1 -> 14 | FT3: 出場処理 | GA3: 出番 | GB3: =FO3+1 -> 15 | GG3: 出場処理 | GN3: 出番 | GO3: =GB3+1 -> 16 | GT3: 出場処理 | HA3: 出番 | HB3: =GO3+1 -> 17 | HG3: 出場処理 | HN3: 出番 | HO3: =HB3+1 -> 18 | HT3: 出場処理 | IA3: 出番 | IB3: =HO3+1 -> 19 | IG3: 出場処理 | IN3: 出番 | IO3: =IB3+1 -> 20 | IT3: 出場処理 | JA3: 出番 | JB3: =IO3+1 -> 21 | JG3: 出場処理 | JN3: 出番 | JO3: =JB3+1 -> 22 | JT3: 出場処理 | KA3: 出番 | KB3: =JO3+1 -> 23 | KG3: 出場処理 | KN3: 出番 | KO3: =KB3+1 -> 24 | KT3: 出場処理 | LA3: 出番 | LB3: =KO3+1 -> 25 | LG3: 出場処理 | LN3: 出番 | LO3: =LB3+1 -> 26 | LT3: 出場処理 | MA3: 出番 | MB3: =LO3+1 -> 27 | MG3: 出場処理 | MN3: 出番 | MO3: =MB3+1 -> 28 | MT3: 出場処理 | NA3: 出番 | NB3: =MO3+1 -> 29 | NG3: 出場処理 | NN3: 出番 | NO3: =NB3+1 -> 30 | NT3: 出場処理 | OA3: 出番 | OB3: =NO3+1 -> 31 | OG3: 出場処理 | ON3: 出番 | OO3: =OB3+1 -> 32 | OT3: 出場処理 | PA3: 出番 | PB3: =OO3+1 -> 33 | PG3: 出場処理 | PN3: 出番 | PO3: =PB3+1 -> 34 | PT3: 出場処理 | QA3: 出番 | QB3: =PO3+1 -> 35 | QG3: 出場処理 | QN3: 出番 | QO3: =QB3+1 -> 36 | QT3: 出場処理 | RA3: 出番 | RB3: =QO3+1 -> 37 | RG3: 出場処理 | RN3: 出番 | RO3: =RB3+1 -> 38 | RT3: 出場処理 | SA3: 出番 | SB3: =RO3+1 -> 39 | SG3: 出場処理 | SN3: 出番 | SO3: =SB3+1 -> 40 | ST3: 出場処理 | TA3: 出番 | TB3: =SO3+1 -> 41 | TG3: 出場処理 | TN3: 出番 | TO3: =TB3+1 -> 42 | TT3: 出場処理 | UA3: 出番 | UB3: =TO3+1 -> 43 | UG3: 出場処理 | UN3: 出番 | UO3: =UB3+1 -> 44 | UT3: 出場処理 | VA3: 出番 | VB3: =UO3+1 -> 45 | VG3: 出場処理 | VN3: 出番 | VO3: =VB3+1 -> 46 | VT3: 出場処理 | WA3: 出番 | WB3: =VO3+1 -> 47 | WG3: 出場処理 | WN3: 出番 | WO3: =WB3+1 -> 48 | WT3: 出場処理 | XA3: 出番 | XB3: =WO3+1 -> 49 | XG3: 出場処理 | XN3: 出番 | XO3: =XB3+1 -> 50 | XT3: 出場処理
A4: 選手 | B4: =IF(VLOOKUP(B$3,①出番表!$B$13:$G$62,2,1)=0,"",VLOOKUP(B$3,①出番表!$B$13:$G$62,2,1)) | G4: 馬名 | H4: =IF(VLOOKUP(B$3,①出番表!$B$13:$G$62,4,1)=0,"",VLOOKUP(B$3,①出番表!$B$13:$G$62,4,1)) | N4: 選手 | O4: =IF(VLOOKUP(O$3,①出番表!$B$13:$G$62,2,1)=0,"",VLOOKUP(O$3,①出番表!$B$13:$G$62,2,1)) | T4: 馬名 | U4: =IF(VLOOKUP(O$3,①出番表!$B$13:$G$62,4,1)=0,"",VLOOKUP(O$3,①出番表!$B$13:$G$62,4,1)) | AA4: 選手 | AB4: =IF(VLOOKUP(AB$3,①出番表!$B$13:$G$62,2,1)=0,"",VLOOKUP(AB$3,①出番表!$B$13:$G$62,2,1)) | AG4: 馬名 | AH4: =IF(VLOOKUP(AB$3,①出番表!$B$13:$G$62,4,1)=0,"",VLOOKUP(AB$3,①出番表!$B$13:$G$62,4,1)) | AN4: 選手 | AO4: =IF(VLOOKUP(AO$3,①出番表!$B$13:$G$62,2,1)=0,"",VLOOKUP(AO$3,①出番表!$B$13:$G$62,2,1)) | AT4: 馬名 | AU4: =IF(VLOOKUP(AO$3,①出番表!$B$13:$G$62,4,1)=0,"",VLOOKUP(AO$3,①出番表!$B$13:$G$62,4,1)) | BA4: 選手 | BB4: =IF(VLOOKUP(BB$3,①出番表!$B$13:$G$62,2,1)=0,"",VLOOKUP(BB$3,①出番表!$B$13:$G$62,2,1)) | BG4: 馬名 | BH4: =IF(VLOOKUP(BB$3,①出番表!$B$13:$G$62,4,1)=0,"",VLOOKUP(BB$3,①出番表!$B$13:$G$62,4,1)) | BN4: 選手 | BO4: =IF(VLOOKUP(BO$3,①出番表!$B$13:$G$62,2,1)=0,"",VLOOKUP(BO$3,①出番表!$B$13:$G$62,2,1)) | BT4: 馬名 | BU4: =IF(VLOOKUP(BO$3,①出番表!$B$13:$G$62,4,1)=0,"",VLOOKUP(BO$3,①出番表!$B$13:$G$62,4,1)) | CA4: 選手 | CB4: =IF(VLOOKUP(CB$3,①出番表!$B$13:$G$62,2,1)=0,"",VLOOKUP(CB$3,①出番表!$B$13:$G$62,2,1)) | CG4: 馬名 | CH4: =IF(VLOOKUP(CB$3,①出番表!$B$13:$G$62,4,1)=0,"",VLOOKUP(CB$3,①出番表!$B$13:$G$62,4,1)) | CN4: 選手 | CO4: =IF(VLOOKUP(CO$3,①出番表!$B$13:$G$62,2,1)=0,"",VLOOKUP(CO$3,①出番表!$B$13:$G$62,2,1)) | CT4: 馬名 | CU4: =IF(VLOOKUP(CO$3,①出番表!$B$13:$G$62,4,1)=0,"",VLOOKUP(CO$3,①出番表!$B$13:$G$62,4,1)) | DA4: 選手 | DB4: =IF(VLOOKUP(DB$3,①出番表!$B$13:$G$62,2,1)=0,"",VLOOKUP(DB$3,①出番表!$B$13:$G$62,2,1)) | DG4: 馬名 | DH4: =IF(VLOOKUP(DB$3,①出番表!$B$13:$G$62,4,1)=0,"",VLOOKUP(DB$3,①出番表!$B$13:$G$62,4,1)) | DN4: 選手 | DO4: =IF(VLOOKUP(DO$3,①出番表!$B$13:$G$62,2,1)=0,"",VLOOKUP(DO$3,①出番表!$B$13:$G$62,2,1)) | DT4: 馬名 | DU4: =IF(VLOOKUP(DO$3,①出番表!$B$13:$G$62,4,1)=0,"",VLOOKUP(DO$3,①出番表!$B$13:$G$62,4,1)) | EA4: 選手 | EB4: =IF(VLOOKUP(EB$3,①出番表!$B$13:$G$62,2,1)=0,"",VLOOKUP(EB$3,①出番表!$B$13:$G$62,2,1)) | EG4: 馬名 | EH4: =IF(VLOOKUP(EB$3,①出番表!$B$13:$G$62,4,1)=0,"",VLOOKUP(EB$3,①出番表!$B$13:$G$62,4,1)) | EN4: 選手 | EO4: =IF(VLOOKUP(EO$3,①出番表!$B$13:$G$62,2,1)=0,"",VLOOKUP(EO$3,①出番表!$B$13:$G$62,2,1)) | ET4: 馬名 | EU4: =IF(VLOOKUP(EO$3,①出番表!$B$13:$G$62,4,1)=0,"",VLOOKUP(EO$3,①出番表!$B$13:$G$62,4,1)) | FA4: 選手 | FB4: =IF(VLOOKUP(FB$3,①出番表!$B$13:$G$62,2,1)=0,"",VLOOKUP(FB$3,①出番表!$B$13:$G$62,2,1)) | FG4: 馬名 | FH4: =IF(VLOOKUP(FB$3,①出番表!$B$13:$G$62,4,1)=0,"",VLOOKUP(FB$3,①出番表!$B$13:$G$62,4,1)) | FN4: 選手 | FO4: =IF(VLOOKUP(FO$3,①出番表!$B$13:$G$62,2,1)=0,"",VLOOKUP(FO$3,①出番表!$B$13:$G$62,2,1)) | FT4: 馬名 | FU4: =IF(VLOOKUP(FO$3,①出番表!$B$13:$G$62,4,1)=0,"",VLOOKUP(FO$3,①出番表!$B$13:$G$62,4,1)) | GA4: 選手 | GB4: =IF(VLOOKUP(GB$3,①出番表!$B$13:$G$62,2,1)=0,"",VLOOKUP(GB$3,①出番表!$B$13:$G$62,2,1)) | GG4: 馬名 | GH4: =IF(VLOOKUP(GB$3,①出番表!$B$13:$G$62,4,1)=0,"",VLOOKUP(GB$3,①出番表!$B$13:$G$62,4,1)) | GN4: 選手 | GO4: =IF(VLOOKUP(GO$3,①出番表!$B$13:$G$62,2,1)=0,"",VLOOKUP(GO$3,①出番表!$B$13:$G$62,2,1)) | GT4: 馬名 | GU4: =IF(VLOOKUP(GO$3,①出番表!$B$13:$G$62,4,1)=0,"",VLOOKUP(GO$3,①出番表!$B$13:$G$62,4,1)) | HA4: 選手 | HB4: =IF(VLOOKUP(HB$3,①出番表!$B$13:$G$62,2,1)=0,"",VLOOKUP(HB$3,①出番表!$B$13:$G$62,2,1)) | HG4: 馬名 | HH4: =IF(VLOOKUP(HB$3,①出番表!$B$13:$G$62,4,1)=0,"",VLOOKUP(HB$3,①出番表!$B$13:$G$62,4,1)) | HN4: 選手 | HO4: =IF(VLOOKUP(HO$3,①出番表!$B$13:$G$62,2,1)=0,"",VLOOKUP(HO$3,①出番表!$B$13:$G$62,2,1)) | HT4: 馬名 | HU4: =IF(VLOOKUP(HO$3,①出番表!$B$13:$G$62,4,1)=0,"",VLOOKUP(HO$3,①出番表!$B$13:$G$62,4,1)) | IA4: 選手 | IB4: =IF(VLOOKUP(IB$3,①出番表!$B$13:$G$62,2,1)=0,"",VLOOKUP(IB$3,①出番表!$B$13:$G$62,2,1)) | IG4: 馬名 | IH4: =IF(VLOOKUP(IB$3,①出番表!$B$13:$G$62,4,1)=0,"",VLOOKUP(IB$3,①出番表!$B$13:$G$62,4,1)) | IN4: 選手 | IO4: =IF(VLOOKUP(IO$3,①出番表!$B$13:$G$62,2,1)=0,"",VLOOKUP(IO$3,①出番表!$B$13:$G$62,2,1)) | IT4: 馬名 | IU4: =IF(VLOOKUP(IO$3,①出番表!$B$13:$G$62,4,1)=0,"",VLOOKUP(IO$3,①出番表!$B$13:$G$62,4,1)) | JA4: 選手 | JB4: =IF(VLOOKUP(JB$3,①出番表!$B$13:$G$62,2,1)=0,"",VLOOKUP(JB$3,①出番表!$B$13:$G$62,2,1)) | JG4: 馬名 | JH4: =IF(VLOOKUP(JB$3,①出番表!$B$13:$G$62,4,1)=0,"",VLOOKUP(JB$3,①出番表!$B$13:$G$62,4,1)) | JN4: 選手 | JO4: =IF(VLOOKUP(JO$3,①出番表!$B$13:$G$62,2,1)=0,"",VLOOKUP(JO$3,①出番表!$B$13:$G$62,2,1)) | JT4: 馬名 | JU4: =IF(VLOOKUP(JO$3,①出番表!$B$13:$G$62,4,1)=0,"",VLOOKUP(JO$3,①出番表!$B$13:$G$62,4,1)) | KA4: 選手 | KB4: =IF(VLOOKUP(KB$3,①出番表!$B$13:$G$62,2,1)=0,"",VLOOKUP(KB$3,①出番表!$B$13:$G$62,2,1)) | KG4: 馬名 | KH4: =IF(VLOOKUP(KB$3,①出番表!$B$13:$G$62,4,1)=0,"",VLOOKUP(KB$3,①出番表!$B$13:$G$62,4,1)) | KN4: 選手 | KO4: =IF(VLOOKUP(KO$3,①出番表!$B$13:$G$62,2,1)=0,"",VLOOKUP(KO$3,①出番表!$B$13:$G$62,2,1)) | KT4: 馬名 | KU4: =IF(VLOOKUP(KO$3,①出番表!$B$13:$G$62,4,1)=0,"",VLOOKUP(KO$3,①出番表!$B$13:$G$62,4,1)) | LA4: 選手 | LB4: =IF(VLOOKUP(LB$3,①出番表!$B$13:$G$62,2,1)=0,"",VLOOKUP(LB$3,①出番表!$B$13:$G$62,2,1)) | LG4: 馬名 | LH4: =IF(VLOOKUP(LB$3,①出番表!$B$13:$G$62,4,1)=0,"",VLOOKUP(LB$3,①出番表!$B$13:$G$62,4,1)) | LN4: 選手 | LO4: =IF(VLOOKUP(LO$3,①出番表!$B$13:$G$62,2,1)=0,"",VLOOKUP(LO$3,①出番表!$B$13:$G$62,2,1)) | LT4: 馬名 | LU4: =IF(VLOOKUP(LO$3,①出番表!$B$13:$G$62,4,1)=0,"",VLOOKUP(LO$3,①出番表!$B$13:$G$62,4,1)) | MA4: 選手 | MB4: =IF(VLOOKUP(MB$3,①出番表!$B$13:$G$62,2,1)=0,"",VLOOKUP(MB$3,①出番表!$B$13:$G$62,2,1)) | MG4: 馬名 | MH4: =IF(VLOOKUP(MB$3,①出番表!$B$13:$G$62,4,1)=0,"",VLOOKUP(MB$3,①出番表!$B$13:$G$62,4,1)) | MN4: 選手 | MO4: =IF(VLOOKUP(MO$3,①出番表!$B$13:$G$62,2,1)=0,"",VLOOKUP(MO$3,①出番表!$B$13:$G$62,2,1)) | MT4: 馬名 | MU4: =IF(VLOOKUP(MO$3,①出番表!$B$13:$G$62,4,1)=0,"",VLOOKUP(MO$3,①出番表!$B$13:$G$62,4,1)) | NA4: 選手 | NB4: =IF(VLOOKUP(NB$3,①出番表!$B$13:$G$62,2,1)=0,"",VLOOKUP(NB$3,①出番表!$B$13:$G$62,2,1)) | NG4: 馬名 | NH4: =IF(VLOOKUP(NB$3,①出番表!$B$13:$G$62,4,1)=0,"",VLOOKUP(NB$3,①出番表!$B$13:$G$62,4,1)) | NN4: 選手 | NO4: =IF(VLOOKUP(NO$3,①出番表!$B$13:$G$62,2,1)=0,"",VLOOKUP(NO$3,①出番表!$B$13:$G$62,2,1)) | NT4: 馬名 | NU4: =IF(VLOOKUP(NO$3,①出番表!$B$13:$G$62,4,1)=0,"",VLOOKUP(NO$3,①出番表!$B$13:$G$62,4,1)) | OA4: 選手 | OB4: =IF(VLOOKUP(OB$3,①出番表!$B$13:$G$62,2,1)=0,"",VLOOKUP(OB$3,①出番表!$B$13:$G$62,2,1)) | OG4: 馬名 | OH4: =IF(VLOOKUP(OB$3,①出番表!$B$13:$G$62,4,1)=0,"",VLOOKUP(OB$3,①出番表!$B$13:$G$62,4,1)) | ON4: 選手 | OO4: =IF(VLOOKUP(OO$3,①出番表!$B$13:$G$62,2,1)=0,"",VLOOKUP(OO$3,①出番表!$B$13:$G$62,2,1)) | OT4: 馬名 | OU4: =IF(VLOOKUP(OO$3,①出番表!$B$13:$G$62,4,1)=0,"",VLOOKUP(OO$3,①出番表!$B$13:$G$62,4,1)) | PA4: 選手 | PB4: =IF(VLOOKUP(PB$3,①出番表!$B$13:$G$62,2,1)=0,"",VLOOKUP(PB$3,①出番表!$B$13:$G$62,2,1)) | PG4: 馬名 | PH4: =IF(VLOOKUP(PB$3,①出番表!$B$13:$G$62,4,1)=0,"",VLOOKUP(PB$3,①出番表!$B$13:$G$62,4,1)) | PN4: 選手 | PO4: =IF(VLOOKUP(PO$3,①出番表!$B$13:$G$62,2,1)=0,"",VLOOKUP(PO$3,①出番表!$B$13:$G$62,2,1)) | PT4: 馬名 | PU4: =IF(VLOOKUP(PO$3,①出番表!$B$13:$G$62,4,1)=0,"",VLOOKUP(PO$3,①出番表!$B$13:$G$62,4,1)) | QA4: 選手 | QB4: =IF(VLOOKUP(QB$3,①出番表!$B$13:$G$62,2,1)=0,"",VLOOKUP(QB$3,①出番表!$B$13:$G$62,2,1)) | QG4: 馬名 | QH4: =IF(VLOOKUP(QB$3,①出番表!$B$13:$G$62,4,1)=0,"",VLOOKUP(QB$3,①出番表!$B$13:$G$62,4,1)) | QN4: 選手 | QO4: =IF(VLOOKUP(QO$3,①出番表!$B$13:$G$62,2,1)=0,"",VLOOKUP(QO$3,①出番表!$B$13:$G$62,2,1)) | QT4: 馬名 | QU4: =IF(VLOOKUP(QO$3,①出番表!$B$13:$G$62,4,1)=0,"",VLOOKUP(QO$3,①出番表!$B$13:$G$62,4,1)) | RA4: 選手 | RB4: =IF(VLOOKUP(RB$3,①出番表!$B$13:$G$62,2,1)=0,"",VLOOKUP(RB$3,①出番表!$B$13:$G$62,2,1)) | RG4: 馬名 | RH4: =IF(VLOOKUP(RB$3,①出番表!$B$13:$G$62,4,1)=0,"",VLOOKUP(RB$3,①出番表!$B$13:$G$62,4,1)) | RN4: 選手 | RO4: =IF(VLOOKUP(RO$3,①出番表!$B$13:$G$62,2,1)=0,"",VLOOKUP(RO$3,①出番表!$B$13:$G$62,2,1)) | RT4: 馬名 | RU4: =IF(VLOOKUP(RO$3,①出番表!$B$13:$G$62,4,1)=0,"",VLOOKUP(RO$3,①出番表!$B$13:$G$62,4,1)) | SA4: 選手 | SB4: =IF(VLOOKUP(SB$3,①出番表!$B$13:$G$62,2,1)=0,"",VLOOKUP(SB$3,①出番表!$B$13:$G$62,2,1)) | SG4: 馬名 | SH4: =IF(VLOOKUP(SB$3,①出番表!$B$13:$G$62,4,1)=0,"",VLOOKUP(SB$3,①出番表!$B$13:$G$62,4,1)) | SN4: 選手 | SO4: =IF(VLOOKUP(SO$3,①出番表!$B$13:$G$62,2,1)=0,"",VLOOKUP(SO$3,①出番表!$B$13:$G$62,2,1)) | ST4: 馬名 | SU4: =IF(VLOOKUP(SO$3,①出番表!$B$13:$G$62,4,1)=0,"",VLOOKUP(SO$3,①出番表!$B$13:$G$62,4,1)) | TA4: 選手 | TB4: =IF(VLOOKUP(TB$3,①出番表!$B$13:$G$62,2,1)=0,"",VLOOKUP(TB$3,①出番表!$B$13:$G$62,2,1)) | TG4: 馬名 | TH4: =IF(VLOOKUP(TB$3,①出番表!$B$13:$G$62,4,1)=0,"",VLOOKUP(TB$3,①出番表!$B$13:$G$62,4,1)) | TN4: 選手 | TO4: =IF(VLOOKUP(TO$3,①出番表!$B$13:$G$62,2,1)=0,"",VLOOKUP(TO$3,①出番表!$B$13:$G$62,2,1)) | TT4: 馬名 | TU4: =IF(VLOOKUP(TO$3,①出番表!$B$13:$G$62,4,1)=0,"",VLOOKUP(TO$3,①出番表!$B$13:$G$62,4,1)) | UA4: 選手 | UB4: =IF(VLOOKUP(UB$3,①出番表!$B$13:$G$62,2,1)=0,"",VLOOKUP(UB$3,①出番表!$B$13:$G$62,2,1)) | UG4: 馬名 | UH4: =IF(VLOOKUP(UB$3,①出番表!$B$13:$G$62,4,1)=0,"",VLOOKUP(UB$3,①出番表!$B$13:$G$62,4,1)) | UN4: 選手 | UO4: =IF(VLOOKUP(UO$3,①出番表!$B$13:$G$62,2,1)=0,"",VLOOKUP(UO$3,①出番表!$B$13:$G$62,2,1)) | UT4: 馬名 | UU4: =IF(VLOOKUP(UO$3,①出番表!$B$13:$G$62,4,1)=0,"",VLOOKUP(UO$3,①出番表!$B$13:$G$62,4,1)) | VA4: 選手 | VB4: =IF(VLOOKUP(VB$3,①出番表!$B$13:$G$62,2,1)=0,"",VLOOKUP(VB$3,①出番表!$B$13:$G$62,2,1)) | VG4: 馬名 | VH4: =IF(VLOOKUP(VB$3,①出番表!$B$13:$G$62,4,1)=0,"",VLOOKUP(VB$3,①出番表!$B$13:$G$62,4,1)) | VN4: 選手 | VO4: =IF(VLOOKUP(VO$3,①出番表!$B$13:$G$62,2,1)=0,"",VLOOKUP(VO$3,①出番表!$B$13:$G$62,2,1)) | VT4: 馬名 | VU4: =IF(VLOOKUP(VO$3,①出番表!$B$13:$G$62,4,1)=0,"",VLOOKUP(VO$3,①出番表!$B$13:$G$62,4,1)) | WA4: 選手 | WB4: =IF(VLOOKUP(WB$3,①出番表!$B$13:$G$62,2,1)=0,"",VLOOKUP(WB$3,①出番表!$B$13:$G$62,2,1)) | WG4: 馬名 | WH4: =IF(VLOOKUP(WB$3,①出番表!$B$13:$G$62,4,1)=0,"",VLOOKUP(WB$3,①出番表!$B$13:$G$62,4,1)) | WN4: 選手 | WO4: =IF(VLOOKUP(WO$3,①出番表!$B$13:$G$62,2,1)=0,"",VLOOKUP(WO$3,①出番表!$B$13:$G$62,2,1)) | WT4: 馬名 | WU4: =IF(VLOOKUP(WO$3,①出番表!$B$13:$G$62,4,1)=0,"",VLOOKUP(WO$3,①出番表!$B$13:$G$62,4,1)) | XA4: 選手 | XB4: =IF(VLOOKUP(XB$3,①出番表!$B$13:$G$62,2,1)=0,"",VLOOKUP(XB$3,①出番表!$B$13:$G$62,2,1)) | XG4: 馬名 | XH4: =IF(VLOOKUP(XB$3,①出番表!$B$13:$G$62,4,1)=0,"",VLOOKUP(XB$3,①出番表!$B$13:$G$62,4,1)) | XN4: 選手 | XO4: =IF(VLOOKUP(XO$3,①出番表!$B$13:$G$62,2,1)=0,"",VLOOKUP(XO$3,①出番表!$B$13:$G$62,2,1)) | XT4: 馬名 | XU4: =IF(VLOOKUP(XO$3,①出番表!$B$13:$G$62,4,1)=0,"",VLOOKUP(XO$3,①出番表!$B$13:$G$62,4,1))
A5: 所属 | B5: =IF(VLOOKUP(B$3,①出番表!$B$13:$G$62,6,1)=0,"",VLOOKUP(B$3,①出番表!$B$13:$G$62,6,1)) | N5: 所属 | O5: =IF(VLOOKUP(O$3,①出番表!$B$13:$G$62,6,1)=0,"",VLOOKUP(O$3,①出番表!$B$13:$G$62,6,1)) | AA5: 所属 | AB5: =IF(VLOOKUP(AB$3,①出番表!$B$13:$G$62,6,1)=0,"",VLOOKUP(AB$3,①出番表!$B$13:$G$62,6,1)) | AN5: 所属 | AO5: =IF(VLOOKUP(AO$3,①出番表!$B$13:$G$62,6,1)=0,"",VLOOKUP(AO$3,①出番表!$B$13:$G$62,6,1)) | BA5: 所属 | BB5: =IF(VLOOKUP(BB$3,①出番表!$B$13:$G$62,6,1)=0,"",VLOOKUP(BB$3,①出番表!$B$13:$G$62,6,1)) | BN5: 所属 | BO5: =IF(VLOOKUP(BO$3,①出番表!$B$13:$G$62,6,1)=0,"",VLOOKUP(BO$3,①出番表!$B$13:$G$62,6,1)) | CA5: 所属 | CB5: =IF(VLOOKUP(CB$3,①出番表!$B$13:$G$62,6,1)=0,"",VLOOKUP(CB$3,①出番表!$B$13:$G$62,6,1)) | CN5: 所属 | CO5: =IF(VLOOKUP(CO$3,①出番表!$B$13:$G$62,6,1)=0,"",VLOOKUP(CO$3,①出番表!$B$13:$G$62,6,1)) | DA5: 所属 | DB5: =IF(VLOOKUP(DB$3,①出番表!$B$13:$G$62,6,1)=0,"",VLOOKUP(DB$3,①出番表!$B$13:$G$62,6,1)) | DN5: 所属 | DO5: =IF(VLOOKUP(DO$3,①出番表!$B$13:$G$62,6,1)=0,"",VLOOKUP(DO$3,①出番表!$B$13:$G$62,6,1)) | EA5: 所属 | EB5: =IF(VLOOKUP(EB$3,①出番表!$B$13:$G$62,6,1)=0,"",VLOOKUP(EB$3,①出番表!$B$13:$G$62,6,1)) | EN5: 所属 | EO5: =IF(VLOOKUP(EO$3,①出番表!$B$13:$G$62,6,1)=0,"",VLOOKUP(EO$3,①出番表!$B$13:$G$62,6,1)) | FA5: 所属 | FB5: =IF(VLOOKUP(FB$3,①出番表!$B$13:$G$62,6,1)=0,"",VLOOKUP(FB$3,①出番表!$B$13:$G$62,6,1)) | FN5: 所属 | FO5: =IF(VLOOKUP(FO$3,①出番表!$B$13:$G$62,6,1)=0,"",VLOOKUP(FO$3,①出番表!$B$13:$G$62,6,1)) | GA5: 所属 | GB5: =IF(VLOOKUP(GB$3,①出番表!$B$13:$G$62,6,1)=0,"",VLOOKUP(GB$3,①出番表!$B$13:$G$62,6,1)) | GN5: 所属 | GO5: =IF(VLOOKUP(GO$3,①出番表!$B$13:$G$62,6,1)=0,"",VLOOKUP(GO$3,①出番表!$B$13:$G$62,6,1)) | HA5: 所属 | HB5: =IF(VLOOKUP(HB$3,①出番表!$B$13:$G$62,6,1)=0,"",VLOOKUP(HB$3,①出番表!$B$13:$G$62,6,1)) | HN5: 所属 | HO5: =IF(VLOOKUP(HO$3,①出番表!$B$13:$G$62,6,1)=0,"",VLOOKUP(HO$3,①出番表!$B$13:$G$62,6,1)) | IA5: 所属 | IB5: =IF(VLOOKUP(IB$3,①出番表!$B$13:$G$62,6,1)=0,"",VLOOKUP(IB$3,①出番表!$B$13:$G$62,6,1)) | IN5: 所属 | IO5: =IF(VLOOKUP(IO$3,①出番表!$B$13:$G$62,6,1)=0,"",VLOOKUP(IO$3,①出番表!$B$13:$G$62,6,1)) | JA5: 所属 | JB5: =IF(VLOOKUP(JB$3,①出番表!$B$13:$G$62,6,1)=0,"",VLOOKUP(JB$3,①出番表!$B$13:$G$62,6,1)) | JN5: 所属 | JO5: =IF(VLOOKUP(JO$3,①出番表!$B$13:$G$62,6,1)=0,"",VLOOKUP(JO$3,①出番表!$B$13:$G$62,6,1)) | KA5: 所属 | KB5: =IF(VLOOKUP(KB$3,①出番表!$B$13:$G$62,6,1)=0,"",VLOOKUP(KB$3,①出番表!$B$13:$G$62,6,1)) | KN5: 所属 | KO5: =IF(VLOOKUP(KO$3,①出番表!$B$13:$G$62,6,1)=0,"",VLOOKUP(KO$3,①出番表!$B$13:$G$62,6,1)) | LA5: 所属 | LB5: =IF(VLOOKUP(LB$3,①出番表!$B$13:$G$62,6,1)=0,"",VLOOKUP(LB$3,①出番表!$B$13:$G$62,6,1)) | LN5: 所属 | LO5: =IF(VLOOKUP(LO$3,①出番表!$B$13:$G$62,6,1)=0,"",VLOOKUP(LO$3,①出番表!$B$13:$G$62,6,1)) | MA5: 所属 | MB5: =IF(VLOOKUP(MB$3,①出番表!$B$13:$G$62,6,1)=0,"",VLOOKUP(MB$3,①出番表!$B$13:$G$62,6,1)) | MN5: 所属 | MO5: =IF(VLOOKUP(MO$3,①出番表!$B$13:$G$62,6,1)=0,"",VLOOKUP(MO$3,①出番表!$B$13:$G$62,6,1)) | NA5: 所属 | NB5: =IF(VLOOKUP(NB$3,①出番表!$B$13:$G$62,6,1)=0,"",VLOOKUP(NB$3,①出番表!$B$13:$G$62,6,1)) | NN5: 所属 | NO5: =IF(VLOOKUP(NO$3,①出番表!$B$13:$G$62,6,1)=0,"",VLOOKUP(NO$3,①出番表!$B$13:$G$62,6,1)) | OA5: 所属 | OB5: =IF(VLOOKUP(OB$3,①出番表!$B$13:$G$62,6,1)=0,"",VLOOKUP(OB$3,①出番表!$B$13:$G$62,6,1)) | ON5: 所属 | OO5: =IF(VLOOKUP(OO$3,①出番表!$B$13:$G$62,6,1)=0,"",VLOOKUP(OO$3,①出番表!$B$13:$G$62,6,1)) | PA5: 所属 | PB5: =IF(VLOOKUP(PB$3,①出番表!$B$13:$G$62,6,1)=0,"",VLOOKUP(PB$3,①出番表!$B$13:$G$62,6,1)) | PN5: 所属 | PO5: =IF(VLOOKUP(PO$3,①出番表!$B$13:$G$62,6,1)=0,"",VLOOKUP(PO$3,①出番表!$B$13:$G$62,6,1)) | QA5: 所属 | QB5: =IF(VLOOKUP(QB$3,①出番表!$B$13:$G$62,6,1)=0,"",VLOOKUP(QB$3,①出番表!$B$13:$G$62,6,1)) | QN5: 所属 | QO5: =IF(VLOOKUP(QO$3,①出番表!$B$13:$G$62,6,1)=0,"",VLOOKUP(QO$3,①出番表!$B$13:$G$62,6,1)) | RA5: 所属 | RB5: =IF(VLOOKUP(RB$3,①出番表!$B$13:$G$62,6,1)=0,"",VLOOKUP(RB$3,①出番表!$B$13:$G$62,6,1)) | RN5: 所属 | RO5: =IF(VLOOKUP(RO$3,①出番表!$B$13:$G$62,6,1)=0,"",VLOOKUP(RO$3,①出番表!$B$13:$G$62,6,1)) | SA5: 所属 | SB5: =IF(VLOOKUP(SB$3,①出番表!$B$13:$G$62,6,1)=0,"",VLOOKUP(SB$3,①出番表!$B$13:$G$62,6,1)) | SN5: 所属 | SO5: =IF(VLOOKUP(SO$3,①出番表!$B$13:$G$62,6,1)=0,"",VLOOKUP(SO$3,①出番表!$B$13:$G$62,6,1)) | TA5: 所属 | TB5: =IF(VLOOKUP(TB$3,①出番表!$B$13:$G$62,6,1)=0,"",VLOOKUP(TB$3,①出番表!$B$13:$G$62,6,1)) | TN5: 所属 | TO5: =IF(VLOOKUP(TO$3,①出番表!$B$13:$G$62,6,1)=0,"",VLOOKUP(TO$3,①出番表!$B$13:$G$62,6,1)) | UA5: 所属 | UB5: =IF(VLOOKUP(UB$3,①出番表!$B$13:$G$62,6,1)=0,"",VLOOKUP(UB$3,①出番表!$B$13:$G$62,6,1)) | UN5: 所属 | UO5: =IF(VLOOKUP(UO$3,①出番表!$B$13:$G$62,6,1)=0,"",VLOOKUP(UO$3,①出番表!$B$13:$G$62,6,1)) | VA5: 所属 | VB5: =IF(VLOOKUP(VB$3,①出番表!$B$13:$G$62,6,1)=0,"",VLOOKUP(VB$3,①出番表!$B$13:$G$62,6,1)) | VN5: 所属 | VO5: =IF(VLOOKUP(VO$3,①出番表!$B$13:$G$62,6,1)=0,"",VLOOKUP(VO$3,①出番表!$B$13:$G$62,6,1)) | WA5: 所属 | WB5: =IF(VLOOKUP(WB$3,①出番表!$B$13:$G$62,6,1)=0,"",VLOOKUP(WB$3,①出番表!$B$13:$G$62,6,1)) | WN5: 所属 | WO5: =IF(VLOOKUP(WO$3,①出番表!$B$13:$G$62,6,1)=0,"",VLOOKUP(WO$3,①出番表!$B$13:$G$62,6,1)) | XA5: 所属 | XB5: =IF(VLOOKUP(XB$3,①出番表!$B$13:$G$62,6,1)=0,"",VLOOKUP(XB$3,①出番表!$B$13:$G$62,6,1)) | XN5: 所属 | XO5: =IF(VLOOKUP(XO$3,①出番表!$B$13:$G$62,6,1)=0,"",VLOOKUP(XO$3,①出番表!$B$13:$G$62,6,1))
C6: =①出番表!$A$6&①出番表!$E$6 -> E: | E6: =①出番表!$A$7&①出番表!$E$7 -> H: | G6: =①出番表!$A$8&①出番表!$E$8 -> C: | I6: =①出番表!$A$9&①出番表!$E$9 -> M: | K6: =①出番表!$A$10&①出番表!$E$10 -> B: | P6: =①出番表!$A$6&①出番表!$E$6 -> E: | R6: =①出番表!$A$7&①出番表!$E$7 -> H: | T6: =①出番表!$A$8&①出番表!$E$8 -> C: | V6: =①出番表!$A$9&①出番表!$E$9 -> M: | X6: =①出番表!$A$10&①出番表!$E$10 -> B: | AC6: =①出番表!$A$6&①出番表!$E$6 -> E: | AE6: =①出番表!$A$7&①出番表!$E$7 -> H: | AG6: =①出番表!$A$8&①出番表!$E$8 -> C: | AI6: =①出番表!$A$9&①出番表!$E$9 -> M: | AK6: =①出番表!$A$10&①出番表!$E$10 -> B: | AP6: =①出番表!$A$6&①出番表!$E$6 -> E: | AR6: =①出番表!$A$7&①出番表!$E$7 -> H: | AT6: =①出番表!$A$8&①出番表!$E$8 -> C: | AV6: =①出番表!$A$9&①出番表!$E$9 -> M: | AX6: =①出番表!$A$10&①出番表!$E$10 -> B: | BC6: =①出番表!$A$6&①出番表!$E$6 -> E: | BE6: =①出番表!$A$7&①出番表!$E$7 -> H: | BG6: =①出番表!$A$8&①出番表!$E$8 -> C: | BI6: =①出番表!$A$9&①出番表!$E$9 -> M: | BK6: =①出番表!$A$10&①出番表!$E$10 -> B: | BP6: =①出番表!$A$6&①出番表!$E$6 -> E: | BR6: =①出番表!$A$7&①出番表!$E$7 -> H: | BT6: =①出番表!$A$8&①出番表!$E$8 -> C: | BV6: =①出番表!$A$9&①出番表!$E$9 -> M: | BX6: =①出番表!$A$10&①出番表!$E$10 -> B: | CC6: =①出番表!$A$6&①出番表!$E$6 -> E: | CE6: =①出番表!$A$7&①出番表!$E$7 -> H: | CG6: =①出番表!$A$8&①出番表!$E$8 -> C: | CI6: =①出番表!$A$9&①出番表!$E$9 -> M: | CK6: =①出番表!$A$10&①出番表!$E$10 -> B: | CP6: =①出番表!$A$6&①出番表!$E$6 -> E: | CR6: =①出番表!$A$7&①出番表!$E$7 -> H: | CT6: =①出番表!$A$8&①出番表!$E$8 -> C: | CV6: =①出番表!$A$9&①出番表!$E$9 -> M: | CX6: =①出番表!$A$10&①出番表!$E$10 -> B: | DC6: =①出番表!$A$6&①出番表!$E$6 -> E: | DE6: =①出番表!$A$7&①出番表!$E$7 -> H: | DG6: =①出番表!$A$8&①出番表!$E$8 -> C: | DI6: =①出番表!$A$9&①出番表!$E$9 -> M: | DK6: =①出番表!$A$10&①出番表!$E$10 -> B: | DP6: =①出番表!$A$6&①出番表!$E$6 -> E: | DR6: =①出番表!$A$7&①出番表!$E$7 -> H: | DT6: =①出番表!$A$8&①出番表!$E$8 -> C: | DV6: =①出番表!$A$9&①出番表!$E$9 -> M: | DX6: =①出番表!$A$10&①出番表!$E$10 -> B: | EC6: =①出番表!$A$6&①出番表!$E$6 -> E: | EE6: =①出番表!$A$7&①出番表!$E$7 -> H: | EG6: =①出番表!$A$8&①出番表!$E$8 -> C: | EI6: =①出番表!$A$9&①出番表!$E$9 -> M: | EK6: =①出番表!$A$10&①出番表!$E$10 -> B: | EP6: =①出番表!$A$6&①出番表!$E$6 -> E: | ER6: =①出番表!$A$7&①出番表!$E$7 -> H: | ET6: =①出番表!$A$8&①出番表!$E$8 -> C: | EV6: =①出番表!$A$9&①出番表!$E$9 -> M: | EX6: =①出番表!$A$10&①出番表!$E$10 -> B: | FC6: =①出番表!$A$6&①出番表!$E$6 -> E: | FE6: =①出番表!$A$7&①出番表!$E$7 -> H: | FG6: =①出番表!$A$8&①出番表!$E$8 -> C: | FI6: =①出番表!$A$9&①出番表!$E$9 -> M: | FK6: =①出番表!$A$10&①出番表!$E$10 -> B: | FP6: =①出番表!$A$6&①出番表!$E$6 -> E: | FR6: =①出番表!$A$7&①出番表!$E$7 -> H: | FT6: =①出番表!$A$8&①出番表!$E$8 -> C: | FV6: =①出番表!$A$9&①出番表!$E$9 -> M: | FX6: =①出番表!$A$10&①出番表!$E$10 -> B: | GC6: =①出番表!$A$6&①出番表!$E$6 -> E: | GE6: =①出番表!$A$7&①出番表!$E$7 -> H: | GG6: =①出番表!$A$8&①出番表!$E$8 -> C: | GI6: =①出番表!$A$9&①出番表!$E$9 -> M: | GK6: =①出番表!$A$10&①出番表!$E$10 -> B: | GP6: =①出番表!$A$6&①出番表!$E$6 -> E: | GR6: =①出番表!$A$7&①出番表!$E$7 -> H: | GT6: =①出番表!$A$8&①出番表!$E$8 -> C: | GV6: =①出番表!$A$9&①出番表!$E$9 -> M: | GX6: =①出番表!$A$10&①出番表!$E$10 -> B: | HC6: =①出番表!$A$6&①出番表!$E$6 -> E: | HE6: =①出番表!$A$7&①出番表!$E$7 -> H: | HG6: =①出番表!$A$8&①出番表!$E$8 -> C: | HI6: =①出番表!$A$9&①出番表!$E$9 -> M: | HK6: =①出番表!$A$10&①出番表!$E$10 -> B: | HP6: =①出番表!$A$6&①出番表!$E$6 -> E: | HR6: =①出番表!$A$7&①出番表!$E$7 -> H: | HT6: =①出番表!$A$8&①出番表!$E$8 -> C: | HV6: =①出番表!$A$9&①出番表!$E$9 -> M: | HX6: =①出番表!$A$10&①出番表!$E$10 -> B: | IC6: =①出番表!$A$6&①出番表!$E$6 -> E: | IE6: =①出番表!$A$7&①出番表!$E$7 -> H: | IG6: =①出番表!$A$8&①出番表!$E$8 -> C: | II6: =①出番表!$A$9&①出番表!$E$9 -> M: | IK6: =①出番表!$A$10&①出番表!$E$10 -> B: | IP6: =①出番表!$A$6&①出番表!$E$6 -> E: | IR6: =①出番表!$A$7&①出番表!$E$7 -> H: | IT6: =①出番表!$A$8&①出番表!$E$8 -> C: | IV6: =①出番表!$A$9&①出番表!$E$9 -> M: | IX6: =①出番表!$A$10&①出番表!$E$10 -> B: | JC6: =①出番表!$A$6&①出番表!$E$6 -> E: | JE6: =①出番表!$A$7&①出番表!$E$7 -> H: | JG6: =①出番表!$A$8&①出番表!$E$8 -> C: | JI6: =①出番表!$A$9&①出番表!$E$9 -> M: | JK6: =①出番表!$A$10&①出番表!$E$10 -> B: | JP6: =①出番表!$A$6&①出番表!$E$6 -> E: | JR6: =①出番表!$A$7&①出番表!$E$7 -> H: | JT6: =①出番表!$A$8&①出番表!$E$8 -> C: | JV6: =①出番表!$A$9&①出番表!$E$9 -> M: | JX6: =①出番表!$A$10&①出番表!$E$10 -> B: | KC6: =①出番表!$A$6&①出番表!$E$6 -> E: | KE6: =①出番表!$A$7&①出番表!$E$7 -> H: | KG6: =①出番表!$A$8&①出番表!$E$8 -> C: | KI6: =①出番表!$A$9&①出番表!$E$9 -> M: | KK6: =①出番表!$A$10&①出番表!$E$10 -> B: | KP6: =①出番表!$A$6&①出番表!$E$6 -> E: | KR6: =①出番表!$A$7&①出番表!$E$7 -> H: | KT6: =①出番表!$A$8&①出番表!$E$8 -> C: | KV6: =①出番表!$A$9&①出番表!$E$9 -> M: | KX6: =①出番表!$A$10&①出番表!$E$10 -> B: | LC6: =①出番表!$A$6&①出番表!$E$6 -> E: | LE6: =①出番表!$A$7&①出番表!$E$7 -> H: | LG6: =①出番表!$A$8&①出番表!$E$8 -> C: | LI6: =①出番表!$A$9&①出番表!$E$9 -> M: | LK6: =①出番表!$A$10&①出番表!$E$10 -> B: | LP6: =①出番表!$A$6&①出番表!$E$6 -> E: | LR6: =①出番表!$A$7&①出番表!$E$7 -> H: | LT6: =①出番表!$A$8&①出番表!$E$8 -> C: | LV6: =①出番表!$A$9&①出番表!$E$9 -> M: | LX6: =①出番表!$A$10&①出番表!$E$10 -> B: | MC6: =①出番表!$A$6&①出番表!$E$6 -> E: | ME6: =①出番表!$A$7&①出番表!$E$7 -> H: | MG6: =①出番表!$A$8&①出番表!$E$8 -> C: | MI6: =①出番表!$A$9&①出番表!$E$9 -> M: | MK6: =①出番表!$A$10&①出番表!$E$10 -> B: | MP6: =①出番表!$A$6&①出番表!$E$6 -> E: | MR6: =①出番表!$A$7&①出番表!$E$7 -> H: | MT6: =①出番表!$A$8&①出番表!$E$8 -> C: | MV6: =①出番表!$A$9&①出番表!$E$9 -> M: | MX6: =①出番表!$A$10&①出番表!$E$10 -> B: | NC6: =①出番表!$A$6&①出番表!$E$6 -> E: | NE6: =①出番表!$A$7&①出番表!$E$7 -> H: | NG6: =①出番表!$A$8&①出番表!$E$8 -> C: | NI6: =①出番表!$A$9&①出番表!$E$9 -> M: | NK6: =①出番表!$A$10&①出番表!$E$10 -> B: | NP6: =①出番表!$A$6&①出番表!$E$6 -> E: | NR6: =①出番表!$A$7&①出番表!$E$7 -> H: | NT6: =①出番表!$A$8&①出番表!$E$8 -> C: | NV6: =①出番表!$A$9&①出番表!$E$9 -> M: | NX6: =①出番表!$A$10&①出番表!$E$10 -> B: | OC6: =①出番表!$A$6&①出番表!$E$6 -> E: | OE6: =①出番表!$A$7&①出番表!$E$7 -> H: | OG6: =①出番表!$A$8&①出番表!$E$8 -> C: | OI6: =①出番表!$A$9&①出番表!$E$9 -> M: | OK6: =①出番表!$A$10&①出番表!$E$10 -> B: | OP6: =①出番表!$A$6&①出番表!$E$6 -> E: | OR6: =①出番表!$A$7&①出番表!$E$7 -> H: | OT6: =①出番表!$A$8&①出番表!$E$8 -> C: | OV6: =①出番表!$A$9&①出番表!$E$9 -> M: | OX6: =①出番表!$A$10&①出番表!$E$10 -> B: | PC6: =①出番表!$A$6&①出番表!$E$6 -> E: | PE6: =①出番表!$A$7&①出番表!$E$7 -> H: | PG6: =①出番表!$A$8&①出番表!$E$8 -> C: | PI6: =①出番表!$A$9&①出番表!$E$9 -> M: | PK6: =①出番表!$A$10&①出番表!$E$10 -> B: | PP6: =①出番表!$A$6&①出番表!$E$6 -> E: | PR6: =①出番表!$A$7&①出番表!$E$7 -> H: | PT6: =①出番表!$A$8&①出番表!$E$8 -> C: | PV6: =①出番表!$A$9&①出番表!$E$9 -> M: | PX6: =①出番表!$A$10&①出番表!$E$10 -> B: | QC6: =①出番表!$A$6&①出番表!$E$6 -> E: | QE6: =①出番表!$A$7&①出番表!$E$7 -> H: | QG6: =①出番表!$A$8&①出番表!$E$8 -> C: | QI6: =①出番表!$A$9&①出番表!$E$9 -> M: | QK6: =①出番表!$A$10&①出番表!$E$10 -> B: | QP6: =①出番表!$A$6&①出番表!$E$6 -> E: | QR6: =①出番表!$A$7&①出番表!$E$7 -> H: | QT6: =①出番表!$A$8&①出番表!$E$8 -> C: | QV6: =①出番表!$A$9&①出番表!$E$9 -> M: | QX6: =①出番表!$A$10&①出番表!$E$10 -> B: | RC6: =①出番表!$A$6&①出番表!$E$6 -> E: | RE6: =①出番表!$A$7&①出番表!$E$7 -> H: | RG6: =①出番表!$A$8&①出番表!$E$8 -> C: | RI6: =①出番表!$A$9&①出番表!$E$9 -> M: | RK6: =①出番表!$A$10&①出番表!$E$10 -> B: | RP6: =①出番表!$A$6&①出番表!$E$6 -> E: | RR6: =①出番表!$A$7&①出番表!$E$7 -> H: | RT6: =①出番表!$A$8&①出番表!$E$8 -> C: | RV6: =①出番表!$A$9&①出番表!$E$9 -> M: | RX6: =①出番表!$A$10&①出番表!$E$10 -> B: | SC6: =①出番表!$A$6&①出番表!$E$6 -> E: | SE6: =①出番表!$A$7&①出番表!$E$7 -> H: | SG6: =①出番表!$A$8&①出番表!$E$8 -> C: | SI6: =①出番表!$A$9&①出番表!$E$9 -> M: | SK6: =①出番表!$A$10&①出番表!$E$10 -> B: | SP6: =①出番表!$A$6&①出番表!$E$6 -> E: | SR6: =①出番表!$A$7&①出番表!$E$7 -> H: | ST6: =①出番表!$A$8&①出番表!$E$8 -> C: | SV6: =①出番表!$A$9&①出番表!$E$9 -> M: | SX6: =①出番表!$A$10&①出番表!$E$10 -> B: | TC6: =①出番表!$A$6&①出番表!$E$6 -> E: | TE6: =①出番表!$A$7&①出番表!$E$7 -> H: | TG6: =①出番表!$A$8&①出番表!$E$8 -> C: | TI6: =①出番表!$A$9&①出番表!$E$9 -> M: | TK6: =①出番表!$A$10&①出番表!$E$10 -> B: | TP6: =①出番表!$A$6&①出番表!$E$6 -> E: | TR6: =①出番表!$A$7&①出番表!$E$7 -> H: | TT6: =①出番表!$A$8&①出番表!$E$8 -> C: | TV6: =①出番表!$A$9&①出番表!$E$9 -> M: | TX6: =①出番表!$A$10&①出番表!$E$10 -> B: | UC6: =①出番表!$A$6&①出番表!$E$6 -> E: | UE6: =①出番表!$A$7&①出番表!$E$7 -> H: | UG6: =①出番表!$A$8&①出番表!$E$8 -> C: | UI6: =①出番表!$A$9&①出番表!$E$9 -> M: | UK6: =①出番表!$A$10&①出番表!$E$10 -> B: | UP6: =①出番表!$A$6&①出番表!$E$6 -> E: | UR6: =①出番表!$A$7&①出番表!$E$7 -> H: | UT6: =①出番表!$A$8&①出番表!$E$8 -> C: | UV6: =①出番表!$A$9&①出番表!$E$9 -> M: | UX6: =①出番表!$A$10&①出番表!$E$10 -> B: | VC6: =①出番表!$A$6&①出番表!$E$6 -> E: | VE6: =①出番表!$A$7&①出番表!$E$7 -> H: | VG6: =①出番表!$A$8&①出番表!$E$8 -> C: | VI6: =①出番表!$A$9&①出番表!$E$9 -> M: | VK6: =①出番表!$A$10&①出番表!$E$10 -> B: | VP6: =①出番表!$A$6&①出番表!$E$6 -> E: | VR6: =①出番表!$A$7&①出番表!$E$7 -> H: | VT6: =①出番表!$A$8&①出番表!$E$8 -> C: | VV6: =①出番表!$A$9&①出番表!$E$9 -> M: | VX6: =①出番表!$A$10&①出番表!$E$10 -> B: | WC6: =①出番表!$A$6&①出番表!$E$6 -> E: | WE6: =①出番表!$A$7&①出番表!$E$7 -> H: | WG6: =①出番表!$A$8&①出番表!$E$8 -> C: | WI6: =①出番表!$A$9&①出番表!$E$9 -> M: | WK6: =①出番表!$A$10&①出番表!$E$10 -> B: | WP6: =①出番表!$A$6&①出番表!$E$6 -> E: | WR6: =①出番表!$A$7&①出番表!$E$7 -> H: | WT6: =①出番表!$A$8&①出番表!$E$8 -> C: | WV6: =①出番表!$A$9&①出番表!$E$9 -> M: | WX6: =①出番表!$A$10&①出番表!$E$10 -> B: | XC6: =①出番表!$A$6&①出番表!$E$6 -> E: | XE6: =①出番表!$A$7&①出番表!$E$7 -> H: | XG6: =①出番表!$A$8&①出番表!$E$8 -> C: | XI6: =①出番表!$A$9&①出番表!$E$9 -> M: | XK6: =①出番表!$A$10&①出番表!$E$10 -> B: | XP6: =①出番表!$A$6&①出番表!$E$6 -> E: | XR6: =①出番表!$A$7&①出番表!$E$7 -> H: | XT6: =①出番表!$A$8&①出番表!$E$8 -> C: | XV6: =①出番表!$A$9&①出番表!$E$9 -> M: | XX6: =①出番表!$A$10&①出番表!$E$10 -> B:
A7: 項目 | B7: 係数 | C7: 入力 | D7: 得点 | E7: 入力 | F7: 得点 | G7: 入力 | H7: 得点 | I7: 入力 | J7: 得点 | K7: 入力 | L7: 得点 | N7: 項目 | O7: 係数 | P7: 入力 | Q7: 得点 | R7: 入力 | S7: 得点 | T7: 入力 | U7: 得点 | V7: 入力 | W7: 得点 | X7: 入力 | Y7: 得点 | AA7: 項目 | AB7: 係数 | AC7: 入力 | AD7: 得点 | AE7: 入力 | AF7: 得点 | AG7: 入力 | AH7: 得点 | AI7: 入力 | AJ7: 得点 | AK7: 入力 | AL7: 得点 | AN7: 項目 | AO7: 係数 | AP7: 入力 | AQ7: 得点 | AR7: 入力 | AS7: 得点 | AT7: 入力 | AU7: 得点 | AV7: 入力 | AW7: 得点 | AX7: 入力 | AY7: 得点 | BA7: 項目 | BB7: 係数 | BC7: 入力 | BD7: 得点 | BE7: 入力 | BF7: 得点 | BG7: 入力 | BH7: 得点 | BI7: 入力 | BJ7: 得点 | BK7: 入力 | BL7: 得点 | BN7: 項目 | BO7: 係数 | BP7: 入力 | BQ7: 得点 | BR7: 入力 | BS7: 得点 | BT7: 入力 | BU7: 得点 | BV7: 入力 | BW7: 得点 | BX7: 入力 | BY7: 得点 | CA7: 項目 | CB7: 係数 | CC7: 入力 | CD7: 得点 | CE7: 入力 | CF7: 得点 | CG7: 入力 | CH7: 得点 | CI7: 入力 | CJ7: 得点 | CK7: 入力 | CL7: 得点 | CN7: 項目 | CO7: 係数 | CP7: 入力 | CQ7: 得点 | CR7: 入力 | CS7: 得点 | CT7: 入力 | CU7: 得点 | CV7: 入力 | CW7: 得点 | CX7: 入力 | CY7: 得点 | DA7: 項目 | DB7: 係数 | DC7: 入力 | DD7: 得点 | DE7: 入力 | DF7: 得点 | DG7: 入力 | DH7: 得点 | DI7: 入力 | DJ7: 得点 | DK7: 入力 | DL7: 得点 | DN7: 項目 | DO7: 係数 | DP7: 入力 | DQ7: 得点 | DR7: 入力 | DS7: 得点 | DT7: 入力 | DU7: 得点 | DV7: 入力 | DW7: 得点 | DX7: 入力 | DY7: 得点 | EA7: 項目 | EB7: 係数 | EC7: 入力 | ED7: 得点 | EE7: 入力 | EF7: 得点 | EG7: 入力 | EH7: 得点 | EI7: 入力 | EJ7: 得点 | EK7: 入力 | EL7: 得点 | EN7: 項目 | EO7: 係数 | EP7: 入力 | EQ7: 得点 | ER7: 入力 | ES7: 得点 | ET7: 入力 | EU7: 得点 | EV7: 入力 | EW7: 得点 | EX7: 入力 | EY7: 得点 | FA7: 項目 | FB7: 係数 | FC7: 入力 | FD7: 得点 | FE7: 入力 | FF7: 得点 | FG7: 入力 | FH7: 得点 | FI7: 入力 | FJ7: 得点 | FK7: 入力 | FL7: 得点 | FN7: 項目 | FO7: 係数 | FP7: 入力 | FQ7: 得点 | FR7: 入力 | FS7: 得点 | FT7: 入力 | FU7: 得点 | FV7: 入力 | FW7: 得点 | FX7: 入力 | FY7: 得点 | GA7: 項目 | GB7: 係数 | GC7: 入力 | GD7: 得点 | GE7: 入力 | GF7: 得点 | GG7: 入力 | GH7: 得点 | GI7: 入力 | GJ7: 得点 | GK7: 入力 | GL7: 得点 | GN7: 項目 | GO7: 係数 | GP7: 入力 | GQ7: 得点 | GR7: 入力 | GS7: 得点 | GT7: 入力 | GU7: 得点 | GV7: 入力 | GW7: 得点 | GX7: 入力 | GY7: 得点 | HA7: 項目 | HB7: 係数 | HC7: 入力 | HD7: 得点 | HE7: 入力 | HF7: 得点 | HG7: 入力 | HH7: 得点 | HI7: 入力 | HJ7: 得点 | HK7: 入力 | HL7: 得点 | HN7: 項目 | HO7: 係数 | HP7: 入力 | HQ7: 得点 | HR7: 入力 | HS7: 得点 | HT7: 入力 | HU7: 得点 | HV7: 入力 | HW7: 得点 | HX7: 入力 | HY7: 得点 | IA7: 項目 | IB7: 係数 | IC7: 入力 | ID7: 得点 | IE7: 入力 | IF7: 得点 | IG7: 入力 | IH7: 得点 | II7: 入力 | IJ7: 得点 | IK7: 入力 | IL7: 得点 | IN7: 項目 | IO7: 係数 | IP7: 入力 | IQ7: 得点 | IR7: 入力 | IS7: 得点 | IT7: 入力 | IU7: 得点 | IV7: 入力 | IW7: 得点 | IX7: 入力 | IY7: 得点 | JA7: 項目 | JB7: 係数 | JC7: 入力 | JD7: 得点 | JE7: 入力 | JF7: 得点 | JG7: 入力 | JH7: 得点 | JI7: 入力 | JJ7: 得点 | JK7: 入力 | JL7: 得点 | JN7: 項目 | JO7: 係数 | JP7: 入力 | JQ7: 得点 | JR7: 入力 | JS7: 得点 | JT7: 入力 | JU7: 得点 | JV7: 入力 | JW7: 得点 | JX7: 入力 | JY7: 得点 | KA7: 項目 | KB7: 係数 | KC7: 入力 | KD7: 得点 | KE7: 入力 | KF7: 得点 | KG7: 入力 | KH7: 得点 | KI7: 入力 | KJ7: 得点 | KK7: 入力 | KL7: 得点 | KN7: 項目 | KO7: 係数 | KP7: 入力 | KQ7: 得点 | KR7: 入力 | KS7: 得点 | KT7: 入力 | KU7: 得点 | KV7: 入力 | KW7: 得点 | KX7: 入力 | KY7: 得点 | LA7: 項目 | LB7: 係数 | LC7: 入力 | LD7: 得点 | LE7: 入力 | LF7: 得点 | LG7: 入力 | LH7: 得点 | LI7: 入力 | LJ7: 得点 | LK7: 入力 | LL7: 得点 | LN7: 項目 | LO7: 係数 | LP7: 入力 | LQ7: 得点 | LR7: 入力 | LS7: 得点 | LT7: 入力 | LU7: 得点 | LV7: 入力 | LW7: 得点 | LX7: 入力 | LY7: 得点 | MA7: 項目 | MB7: 係数 | MC7: 入力 | MD7: 得点 | ME7: 入力 | MF7: 得点 | MG7: 入力 | MH7: 得点 | MI7: 入力 | MJ7: 得点 | MK7: 入力 | ML7: 得点 | MN7: 項目 | MO7: 係数 | MP7: 入力 | MQ7: 得点 | MR7: 入力 | MS7: 得点 | MT7: 入力 | MU7: 得点 | MV7: 入力 | MW7: 得点 | MX7: 入力 | MY7: 得点 | NA7: 項目 | NB7: 係数 | NC7: 入力 | ND7: 得点 | NE7: 入力 | NF7: 得点 | NG7: 入力 | NH7: 得点 | NI7: 入力 | NJ7: 得点 | NK7: 入力 | NL7: 得点 | NN7: 項目 | NO7: 係数 | NP7: 入力 | NQ7: 得点 | NR7: 入力 | NS7: 得点 | NT7: 入力 | NU7: 得点 | NV7: 入力 | NW7: 得点 | NX7: 入力 | NY7: 得点 | OA7: 項目 | OB7: 係数 | OC7: 入力 | OD7: 得点 | OE7: 入力 | OF7: 得点 | OG7: 入力 | OH7: 得点 | OI7: 入力 | OJ7: 得点 | OK7: 入力 | OL7: 得点 | ON7: 項目 | OO7: 係数 | OP7: 入力 | OQ7: 得点 | OR7: 入力 | OS7: 得点 | OT7: 入力 | OU7: 得点 | OV7: 入力 | OW7: 得点 | OX7: 入力 | OY7: 得点 | PA7: 項目 | PB7: 係数 | PC7: 入力 | PD7: 得点 | PE7: 入力 | PF7: 得点 | PG7: 入力 | PH7: 得点 | PI7: 入力 | PJ7: 得点 | PK7: 入力 | PL7: 得点 | PN7: 項目 | PO7: 係数 | PP7: 入力 | PQ7: 得点 | PR7: 入力 | PS7: 得点 | PT7: 入力 | PU7: 得点 | PV7: 入力 | PW7: 得点 | PX7: 入力 | PY7: 得点 | QA7: 項目 | QB7: 係数 | QC7: 入力 | QD7: 得点 | QE7: 入力 | QF7: 得点 | QG7: 入力 | QH7: 得点 | QI7: 入力 | QJ7: 得点 | QK7: 入力 | QL7: 得点 | QN7: 項目 | QO7: 係数 | QP7: 入力 | QQ7: 得点 | QR7: 入力 | QS7: 得点 | QT7: 入力 | QU7: 得点 | QV7: 入力 | QW7: 得点 | QX7: 入力 | QY7: 得点 | RA7: 項目 | RB7: 係数 | RC7: 入力 | RD7: 得点 | RE7: 入力 | RF7: 得点 | RG7: 入力 | RH7: 得点 | RI7: 入力 | RJ7: 得点 | RK7: 入力 | RL7: 得点 | RN7: 項目 | RO7: 係数 | RP7: 入力 | RQ7: 得点 | RR7: 入力 | RS7: 得点 | RT7: 入力 | RU7: 得点 | RV7: 入力 | RW7: 得点 | RX7: 入力 | RY7: 得点 | SA7: 項目 | SB7: 係数 | SC7: 入力 | SD7: 得点 | SE7: 入力 | SF7: 得点 | SG7: 入力 | SH7: 得点 | SI7: 入力 | SJ7: 得点 | SK7: 入力 | SL7: 得点 | SN7: 項目 | SO7: 係数 | SP7: 入力 | SQ7: 得点 | SR7: 入力 | SS7: 得点 | ST7: 入力 | SU7: 得点 | SV7: 入力 | SW7: 得点 | SX7: 入力 | SY7: 得点 | TA7: 項目 | TB7: 係数 | TC7: 入力 | TD7: 得点 | TE7: 入力 | TF7: 得点 | TG7: 入力 | TH7: 得点 | TI7: 入力 | TJ7: 得点 | TK7: 入力 | TL7: 得点 | TN7: 項目 | TO7: 係数 | TP7: 入力 | TQ7: 得点 | TR7: 入力 | TS7: 得点 | TT7: 入力 | TU7: 得点 | TV7: 入力 | TW7: 得点 | TX7: 入力 | TY7: 得点 | UA7: 項目 | UB7: 係数 | UC7: 入力 | UD7: 得点 | UE7: 入力 | UF7: 得点 | UG7: 入力 | UH7: 得点 | UI7: 入力 | UJ7: 得点 | UK7: 入力 | UL7: 得点 | UN7: 項目 | UO7: 係数 | UP7: 入力 | UQ7: 得点 | UR7: 入力 | US7: 得点 | UT7: 入力 | UU7: 得点 | UV7: 入力 | UW7: 得点 | UX7: 入力 | UY7: 得点 | VA7: 項目 | VB7: 係数 | VC7: 入力 | VD7: 得点 | VE7: 入力 | VF7: 得点 | VG7: 入力 | VH7: 得点 | VI7: 入力 | VJ7: 得点 | VK7: 入力 | VL7: 得点 | VN7: 項目 | VO7: 係数 | VP7: 入力 | VQ7: 得点 | VR7: 入力 | VS7: 得点 | VT7: 入力 | VU7: 得点 | VV7: 入力 | VW7: 得点 | VX7: 入力 | VY7: 得点 | WA7: 項目 | WB7: 係数 | WC7: 入力 | WD7: 得点 | WE7: 入力 | WF7: 得点 | WG7: 入力 | WH7: 得点 | WI7: 入力 | WJ7: 得点 | WK7: 入力 | WL7: 得点 | WN7: 項目 | WO7: 係数 | WP7: 入力 | WQ7: 得点 | WR7: 入力 | WS7: 得点 | WT7: 入力 | WU7: 得点 | WV7: 入力 | WW7: 得点 | WX7: 入力 | WY7: 得点 | XA7: 項目 | XB7: 係数 | XC7: 入力 | XD7: 得点 | XE7: 入力 | XF7: 得点 | XG7: 入力 | XH7: 得点 | XI7: 入力 | XJ7: 得点 | XK7: 入力 | XL7: 得点 | XN7: 項目 | XO7: 係数 | XP7: 入力 | XQ7: 得点 | XR7: 入力 | XS7: 得点 | XT7: 入力 | XU7: 得点 | XV7: 入力 | XW7: 得点 | XX7: 入力 | XY7: 得点
A8: =係数マスタ!$A$4 -> 1 | B8: =係数マスタ!$B4 | D8: =C8*$B8 -> #VALUE! | F8: =E8*$B8 -> #VALUE! | H8: =G8*$B8 -> #VALUE! | J8: =I8*$B8 -> #VALUE! | L8: =K8*$B8 -> #VALUE! | N8: =係数マスタ!$A$4 -> 1 | O8: =係数マスタ!$B4 | Q8: =P8*$B8 -> #VALUE! | S8: =R8*$B8 -> #VALUE! | U8: =T8*$B8 -> #VALUE! | W8: =V8*$B8 -> #VALUE! | Y8: =X8*$B8 -> #VALUE! | AA8: =係数マスタ!$A$4 -> 1 | AB8: =係数マスタ!$B4 | AD8: =AC8*$B8 -> #VALUE! | AF8: =AE8*$B8 -> #VALUE! | AH8: =AG8*$B8 -> #VALUE! | AJ8: =AI8*$B8 -> #VALUE! | AL8: =AK8*$B8 -> #VALUE! | AN8: =係数マスタ!$A$4 -> 1 | AO8: =係数マスタ!$B4 | AQ8: =AP8*$B8 -> #VALUE! | AS8: =AR8*$B8 -> #VALUE! | AU8: =AT8*$B8 -> #VALUE! | AW8: =AV8*$B8 -> #VALUE! | AY8: =AX8*$B8 -> #VALUE! | BA8: =係数マスタ!$A$4 -> 1 | BB8: =係数マスタ!$B4 | BD8: =BC8*$B8 -> #VALUE! | BF8: =BE8*$B8 -> #VALUE! | BH8: =BG8*$B8 -> #VALUE! | BJ8: =BI8*$B8 -> #VALUE! | BL8: =BK8*$B8 -> #VALUE! | BN8: =係数マスタ!$A$4 -> 1 | BO8: =係数マスタ!$B4 | BQ8: =BP8*$B8 -> #VALUE! | BS8: =BR8*$B8 -> #VALUE! | BU8: =BT8*$B8 -> #VALUE! | BW8: =BV8*$B8 -> #VALUE! | BY8: =BX8*$B8 -> #VALUE! | CA8: =係数マスタ!$A$4 -> 1 | CB8: =係数マスタ!$B4 | CD8: =CC8*$B8 -> #VALUE! | CF8: =CE8*$B8 -> #VALUE! | CH8: =CG8*$B8 -> #VALUE! | CJ8: =CI8*$B8 -> #VALUE! | CL8: =CK8*$B8 -> #VALUE! | CN8: =係数マスタ!$A$4 -> 1 | CO8: =係数マスタ!$B4 | CQ8: =CP8*$B8 -> #VALUE! | CS8: =CR8*$B8 -> #VALUE! | CU8: =CT8*$B8 -> #VALUE! | CW8: =CV8*$B8 -> #VALUE! | CY8: =CX8*$B8 -> #VALUE! | DA8: =係数マスタ!$A$4 -> 1 | DB8: =係数マスタ!$B4 | DD8: =DC8*$B8 -> #VALUE! | DF8: =DE8*$B8 -> #VALUE! | DH8: =DG8*$B8 -> #VALUE! | DJ8: =DI8*$B8 -> #VALUE! | DL8: =DK8*$B8 -> #VALUE! | DN8: =係数マスタ!$A$4 -> 1 | DO8: =係数マスタ!$B4 | DQ8: =DP8*$B8 -> #VALUE! | DS8: =DR8*$B8 -> #VALUE! | DU8: =DT8*$B8 -> #VALUE! | DW8: =DV8*$B8 -> #VALUE! | DY8: =DX8*$B8 -> #VALUE! | EA8: =係数マスタ!$A$4 -> 1 | EB8: =係数マスタ!$B4 | ED8: =EC8*$B8 -> #VALUE! | EF8: =EE8*$B8 -> #VALUE! | EH8: =EG8*$B8 -> #VALUE! | EJ8: =EI8*$B8 -> #VALUE! | EL8: =EK8*$B8 -> #VALUE! | EN8: =係数マスタ!$A$4 -> 1 | EO8: =係数マスタ!$B4 | EQ8: =EP8*$B8 -> #VALUE! | ES8: =ER8*$B8 -> #VALUE! | EU8: =ET8*$B8 -> #VALUE! | EW8: =EV8*$B8 -> #VALUE! | EY8: =EX8*$B8 -> #VALUE! | FA8: =係数マスタ!$A$4 -> 1 | FB8: =係数マスタ!$B4 | FD8: =FC8*$B8 -> #VALUE! | FF8: =FE8*$B8 -> #VALUE! | FH8: =FG8*$B8 -> #VALUE! | FJ8: =FI8*$B8 -> #VALUE! | FL8: =FK8*$B8 -> #VALUE! | FN8: =係数マスタ!$A$4 -> 1 | FO8: =係数マスタ!$B4 | FQ8: =FP8*$B8 -> #VALUE! | FS8: =FR8*$B8 -> #VALUE! | FU8: =FT8*$B8 -> #VALUE! | FW8: =FV8*$B8 -> #VALUE! | FY8: =FX8*$B8 -> #VALUE! | GA8: =係数マスタ!$A$4 -> 1 | GB8: =係数マスタ!$B4 | GD8: =GC8*$B8 -> #VALUE! | GF8: =GE8*$B8 -> #VALUE! | GH8: =GG8*$B8 -> #VALUE! | GJ8: =GI8*$B8 -> #VALUE! | GL8: =GK8*$B8 -> #VALUE! | GN8: =係数マスタ!$A$4 -> 1 | GO8: =係数マスタ!$B4 | GQ8: =GP8*$B8 -> #VALUE! | GS8: =GR8*$B8 -> #VALUE! | GU8: =GT8*$B8 -> #VALUE! | GW8: =GV8*$B8 -> #VALUE! | GY8: =GX8*$B8 -> #VALUE! | HA8: =係数マスタ!$A$4 -> 1 | HB8: =係数マスタ!$B4 | HD8: =HC8*$B8 -> #VALUE! | HF8: =HE8*$B8 -> #VALUE! | HH8: =HG8*$B8 -> #VALUE! | HJ8: =HI8*$B8 -> #VALUE! | HL8: =HK8*$B8 -> #VALUE! | HN8: =係数マスタ!$A$4 -> 1 | HO8: =係数マスタ!$B4 | HQ8: =HP8*$B8 -> #VALUE! | HS8: =HR8*$B8 -> #VALUE! | HU8: =HT8*$B8 -> #VALUE! | HW8: =HV8*$B8 -> #VALUE! | HY8: =HX8*$B8 -> #VALUE! | IA8: =係数マスタ!$A$4 -> 1 | IB8: =係数マスタ!$B4 | ID8: =IC8*$B8 -> #VALUE! | IF8: =IE8*$B8 -> #VALUE! | IH8: =IG8*$B8 -> #VALUE! | IJ8: =II8*$B8 -> #VALUE! | IL8: =IK8*$B8 -> #VALUE! | IN8: =係数マスタ!$A$4 -> 1 | IO8: =係数マスタ!$B4 | IQ8: =IP8*$B8 -> #VALUE! | IS8: =IR8*$B8 -> #VALUE! | IU8: =IT8*$B8 -> #VALUE! | IW8: =IV8*$B8 -> #VALUE! | IY8: =IX8*$B8 -> #VALUE! | JA8: =係数マスタ!$A$4 -> 1 | JB8: =係数マスタ!$B4 | JD8: =JC8*$B8 -> #VALUE! | JF8: =JE8*$B8 -> #VALUE! | JH8: =JG8*$B8 -> #VALUE! | JJ8: =JI8*$B8 -> #VALUE! | JL8: =JK8*$B8 -> #VALUE! | JN8: =係数マスタ!$A$4 -> 1 | JO8: =係数マスタ!$B4 | JQ8: =JP8*$B8 -> #VALUE! | JS8: =JR8*$B8 -> #VALUE! | JU8: =JT8*$B8 -> #VALUE! | JW8: =JV8*$B8 -> #VALUE! | JY8: =JX8*$B8 -> #VALUE! | KA8: =係数マスタ!$A$4 -> 1 | KB8: =係数マスタ!$B4 | KD8: =KC8*$B8 -> #VALUE! | KF8: =KE8*$B8 -> #VALUE! | KH8: =KG8*$B8 -> #VALUE! | KJ8: =KI8*$B8 -> #VALUE! | KL8: =KK8*$B8 -> #VALUE! | KN8: =係数マスタ!$A$4 -> 1 | KO8: =係数マスタ!$B4 | KQ8: =KP8*$B8 -> #VALUE! | KS8: =KR8*$B8 -> #VALUE! | KU8: =KT8*$B8 -> #VALUE! | KW8: =KV8*$B8 -> #VALUE! | KY8: =KX8*$B8 -> #VALUE! | LA8: =係数マスタ!$A$4 -> 1 | LB8: =係数マスタ!$B4 | LD8: =LC8*$B8 -> #VALUE! | LF8: =LE8*$B8 -> #VALUE! | LH8: =LG8*$B8 -> #VALUE! | LJ8: =LI8*$B8 -> #VALUE! | LL8: =LK8*$B8 -> #VALUE! | LN8: =係数マスタ!$A$4 -> 1 | LO8: =係数マスタ!$B4 | LQ8: =LP8*$B8 -> #VALUE! | LS8: =LR8*$B8 -> #VALUE! | LU8: =LT8*$B8 -> #VALUE! | LW8: =LV8*$B8 -> #VALUE! | LY8: =LX8*$B8 -> #VALUE! | MA8: =係数マスタ!$A$4 -> 1 | MB8: =係数マスタ!$B4 | MD8: =MC8*$B8 -> #VALUE! | MF8: =ME8*$B8 -> #VALUE! | MH8: =MG8*$B8 -> #VALUE! | MJ8: =MI8*$B8 -> #VALUE! | ML8: =MK8*$B8 -> #VALUE! | MN8: =係数マスタ!$A$4 -> 1 | MO8: =係数マスタ!$B4 | MQ8: =MP8*$B8 -> #VALUE! | MS8: =MR8*$B8 -> #VALUE! | MU8: =MT8*$B8 -> #VALUE! | MW8: =MV8*$B8 -> #VALUE! | MY8: =MX8*$B8 -> #VALUE! | NA8: =係数マスタ!$A$4 -> 1 | NB8: =係数マスタ!$B4 | ND8: =NC8*$B8 -> #VALUE! | NF8: =NE8*$B8 -> #VALUE! | NH8: =NG8*$B8 -> #VALUE! | NJ8: =NI8*$B8 -> #VALUE! | NL8: =NK8*$B8 -> #VALUE! | NN8: =係数マスタ!$A$4 -> 1 | NO8: =係数マスタ!$B4 | NQ8: =NP8*$B8 -> #VALUE! | NS8: =NR8*$B8 -> #VALUE! | NU8: =NT8*$B8 -> #VALUE! | NW8: =NV8*$B8 -> #VALUE! | NY8: =NX8*$B8 -> #VALUE! | OA8: =係数マスタ!$A$4 -> 1 | OB8: =係数マスタ!$B4 | OD8: =OC8*$B8 -> #VALUE! | OF8: =OE8*$B8 -> #VALUE! | OH8: =OG8*$B8 -> #VALUE! | OJ8: =OI8*$B8 -> #VALUE! | OL8: =OK8*$B8 -> #VALUE! | ON8: =係数マスタ!$A$4 -> 1 | OO8: =係数マスタ!$B4 | OQ8: =OP8*$B8 -> #VALUE! | OS8: =OR8*$B8 -> #VALUE! | OU8: =OT8*$B8 -> #VALUE! | OW8: =OV8*$B8 -> #VALUE! | OY8: =OX8*$B8 -> #VALUE! | PA8: =係数マスタ!$A$4 -> 1 | PB8: =係数マスタ!$B4 | PD8: =PC8*$B8 -> #VALUE! | PF8: =PE8*$B8 -> #VALUE! | PH8: =PG8*$B8 -> #VALUE! | PJ8: =PI8*$B8 -> #VALUE! | PL8: =PK8*$B8 -> #VALUE! | PN8: =係数マスタ!$A$4 -> 1 | PO8: =係数マスタ!$B4 | PQ8: =PP8*$B8 -> #VALUE! | PS8: =PR8*$B8 -> #VALUE! | PU8: =PT8*$B8 -> #VALUE! | PW8: =PV8*$B8 -> #VALUE! | PY8: =PX8*$B8 -> #VALUE! | QA8: =係数マスタ!$A$4 -> 1 | QB8: =係数マスタ!$B4 | QD8: =QC8*$B8 -> #VALUE! | QF8: =QE8*$B8 -> #VALUE! | QH8: =QG8*$B8 -> #VALUE! | QJ8: =QI8*$B8 -> #VALUE! | QL8: =QK8*$B8 -> #VALUE! | QN8: =係数マスタ!$A$4 -> 1 | QO8: =係数マスタ!$B4 | QQ8: =QP8*$B8 -> #VALUE! | QS8: =QR8*$B8 -> #VALUE! | QU8: =QT8*$B8 -> #VALUE! | QW8: =QV8*$B8 -> #VALUE! | QY8: =QX8*$B8 -> #VALUE! | RA8: =係数マスタ!$A$4 -> 1 | RB8: =係数マスタ!$B4 | RD8: =RC8*$B8 -> #VALUE! | RF8: =RE8*$B8 -> #VALUE! | RH8: =RG8*$B8 -> #VALUE! | RJ8: =RI8*$B8 -> #VALUE! | RL8: =RK8*$B8 -> #VALUE! | RN8: =係数マスタ!$A$4 -> 1 | RO8: =係数マスタ!$B4 | RQ8: =RP8*$B8 -> #VALUE! | RS8: =RR8*$B8 -> #VALUE! | RU8: =RT8*$B8 -> #VALUE! | RW8: =RV8*$B8 -> #VALUE! | RY8: =RX8*$B8 -> #VALUE! | SA8: =係数マスタ!$A$4 -> 1 | SB8: =係数マスタ!$B4 | SD8: =SC8*$B8 -> #VALUE! | SF8: =SE8*$B8 -> #VALUE! | SH8: =SG8*$B8 -> #VALUE! | SJ8: =SI8*$B8 -> #VALUE! | SL8: =SK8*$B8 -> #VALUE! | SN8: =係数マスタ!$A$4 -> 1 | SO8: =係数マスタ!$B4 | SQ8: =SP8*$B8 -> #VALUE! | SS8: =SR8*$B8 -> #VALUE! | SU8: =ST8*$B8 -> #VALUE! | SW8: =SV8*$B8 -> #VALUE! | SY8: =SX8*$B8 -> #VALUE! | TA8: =係数マスタ!$A$4 -> 1 | TB8: =係数マスタ!$B4 | TD8: =TC8*$B8 -> #VALUE! | TF8: =TE8*$B8 -> #VALUE! | TH8: =TG8*$B8 -> #VALUE! | TJ8: =TI8*$B8 -> #VALUE! | TL8: =TK8*$B8 -> #VALUE! | TN8: =係数マスタ!$A$4 -> 1 | TO8: =係数マスタ!$B4 | TQ8: =TP8*$B8 -> #VALUE! | TS8: =TR8*$B8 -> #VALUE! | TU8: =TT8*$B8 -> #VALUE! | TW8: =TV8*$B8 -> #VALUE! | TY8: =TX8*$B8 -> #VALUE! | UA8: =係数マスタ!$A$4 -> 1 | UB8: =係数マスタ!$B4 | UD8: =UC8*$B8 -> #VALUE! | UF8: =UE8*$B8 -> #VALUE! | UH8: =UG8*$B8 -> #VALUE! | UJ8: =UI8*$B8 -> #VALUE! | UL8: =UK8*$B8 -> #VALUE! | UN8: =係数マスタ!$A$4 -> 1 | UO8: =係数マスタ!$B4 | UQ8: =UP8*$B8 -> #VALUE! | US8: =UR8*$B8 -> #VALUE! | UU8: =UT8*$B8 -> #VALUE! | UW8: =UV8*$B8 -> #VALUE! | UY8: =UX8*$B8 -> #VALUE! | VA8: =係数マスタ!$A$4 -> 1 | VB8: =係数マスタ!$B4 | VD8: =VC8*$B8 -> #VALUE! | VF8: =VE8*$B8 -> #VALUE! | VH8: =VG8*$B8 -> #VALUE! | VJ8: =VI8*$B8 -> #VALUE! | VL8: =VK8*$B8 -> #VALUE! | VN8: =係数マスタ!$A$4 -> 1 | VO8: =係数マスタ!$B4 | VQ8: =VP8*$B8 -> #VALUE! | VS8: =VR8*$B8 -> #VALUE! | VU8: =VT8*$B8 -> #VALUE! | VW8: =VV8*$B8 -> #VALUE! | VY8: =VX8*$B8 -> #VALUE! | WA8: =係数マスタ!$A$4 -> 1 | WB8: =係数マスタ!$B4 | WD8: =WC8*$B8 -> #VALUE! | WF8: =WE8*$B8 -> #VALUE! | WH8: =WG8*$B8 -> #VALUE! | WJ8: =WI8*$B8 -> #VALUE! | WL8: =WK8*$B8 -> #VALUE! | WN8: =係数マスタ!$A$4 -> 1 | WO8: =係数マスタ!$B4 | WQ8: =WP8*$B8 -> #VALUE! | WS8: =WR8*$B8 -> #VALUE! | WU8: =WT8*$B8 -> #VALUE! | WW8: =WV8*$B8 -> #VALUE! | WY8: =WX8*$B8 -> #VALUE! | XA8: =係数マスタ!$A$4 -> 1 | XB8: =係数マスタ!$B4 | XD8: =XC8*$B8 -> #VALUE! | XF8: =XE8*$B8 -> #VALUE! | XH8: =XG8*$B8 -> #VALUE! | XJ8: =XI8*$B8 -> #VALUE! | XL8: =XK8*$B8 -> #VALUE! | XN8: =係数マスタ!$A$4 -> 1 | XO8: =係数マスタ!$B4 | XQ8: =XP8*$B8 -> #VALUE! | XS8: =XR8*$B8 -> #VALUE! | XU8: =XT8*$B8 -> #VALUE! | XW8: =XV8*$B8 -> #VALUE! | XY8: =XX8*$B8 -> #VALUE!
A9: =係数マスタ!$A$5 -> 2 | B9: =係数マスタ!$B5 | D9: =C9*$B9 -> #VALUE! | F9: =E9*$B9 -> #VALUE! | H9: =G9*$B9 -> #VALUE! | J9: =I9*$B9 -> #VALUE! | L9: =K9*$B9 -> #VALUE! | N9: =係数マスタ!$A$5 -> 2 | O9: =係数マスタ!$B5 | Q9: =P9*$B9 -> #VALUE! | S9: =R9*$B9 -> #VALUE! | U9: =T9*$B9 -> #VALUE! | W9: =V9*$B9 -> #VALUE! | Y9: =X9*$B9 -> #VALUE! | AA9: =係数マスタ!$A$5 -> 2 | AB9: =係数マスタ!$B5 | AD9: =AC9*$B9 -> #VALUE! | AF9: =AE9*$B9 -> #VALUE! | AH9: =AG9*$B9 -> #VALUE! | AJ9: =AI9*$B9 -> #VALUE! | AL9: =AK9*$B9 -> #VALUE! | AN9: =係数マスタ!$A$5 -> 2 | AO9: =係数マスタ!$B5 | AQ9: =AP9*$B9 -> #VALUE! | AS9: =AR9*$B9 -> #VALUE! | AU9: =AT9*$B9 -> #VALUE! | AW9: =AV9*$B9 -> #VALUE! | AY9: =AX9*$B9 -> #VALUE! | BA9: =係数マスタ!$A$5 -> 2 | BB9: =係数マスタ!$B5 | BD9: =BC9*$B9 -> #VALUE! | BF9: =BE9*$B9 -> #VALUE! | BH9: =BG9*$B9 -> #VALUE! | BJ9: =BI9*$B9 -> #VALUE! | BL9: =BK9*$B9 -> #VALUE! | BN9: =係数マスタ!$A$5 -> 2 | BO9: =係数マスタ!$B5 | BQ9: =BP9*$B9 -> #VALUE! | BS9: =BR9*$B9 -> #VALUE! | BU9: =BT9*$B9 -> #VALUE! | BW9: =BV9*$B9 -> #VALUE! | BY9: =BX9*$B9 -> #VALUE! | CA9: =係数マスタ!$A$5 -> 2 | CB9: =係数マスタ!$B5 | CD9: =CC9*$B9 -> #VALUE! | CF9: =CE9*$B9 -> #VALUE! | CH9: =CG9*$B9 -> #VALUE! | CJ9: =CI9*$B9 -> #VALUE! | CL9: =CK9*$B9 -> #VALUE! | CN9: =係数マスタ!$A$5 -> 2 | CO9: =係数マスタ!$B5 | CQ9: =CP9*$B9 -> #VALUE! | CS9: =CR9*$B9 -> #VALUE! | CU9: =CT9*$B9 -> #VALUE! | CW9: =CV9*$B9 -> #VALUE! | CY9: =CX9*$B9 -> #VALUE! | DA9: =係数マスタ!$A$5 -> 2 | DB9: =係数マスタ!$B5 | DD9: =DC9*$B9 -> #VALUE! | DF9: =DE9*$B9 -> #VALUE! | DH9: =DG9*$B9 -> #VALUE! | DJ9: =DI9*$B9 -> #VALUE! | DL9: =DK9*$B9 -> #VALUE! | DN9: =係数マスタ!$A$5 -> 2 | DO9: =係数マスタ!$B5 | DQ9: =DP9*$B9 -> #VALUE! | DS9: =DR9*$B9 -> #VALUE! | DU9: =DT9*$B9 -> #VALUE! | DW9: =DV9*$B9 -> #VALUE! | DY9: =DX9*$B9 -> #VALUE! | EA9: =係数マスタ!$A$5 -> 2 | EB9: =係数マスタ!$B5 | ED9: =EC9*$B9 -> #VALUE! | EF9: =EE9*$B9 -> #VALUE! | EH9: =EG9*$B9 -> #VALUE! | EJ9: =EI9*$B9 -> #VALUE! | EL9: =EK9*$B9 -> #VALUE! | EN9: =係数マスタ!$A$5 -> 2 | EO9: =係数マスタ!$B5 | EQ9: =EP9*$B9 -> #VALUE! | ES9: =ER9*$B9 -> #VALUE! | EU9: =ET9*$B9 -> #VALUE! | EW9: =EV9*$B9 -> #VALUE! | EY9: =EX9*$B9 -> #VALUE! | FA9: =係数マスタ!$A$5 -> 2 | FB9: =係数マスタ!$B5 | FD9: =FC9*$B9 -> #VALUE! | FF9: =FE9*$B9 -> #VALUE! | FH9: =FG9*$B9 -> #VALUE! | FJ9: =FI9*$B9 -> #VALUE! | FL9: =FK9*$B9 -> #VALUE! | FN9: =係数マスタ!$A$5 -> 2 | FO9: =係数マスタ!$B5 | FQ9: =FP9*$B9 -> #VALUE! | FS9: =FR9*$B9 -> #VALUE! | FU9: =FT9*$B9 -> #VALUE! | FW9: =FV9*$B9 -> #VALUE! | FY9: =FX9*$B9 -> #VALUE! | GA9: =係数マスタ!$A$5 -> 2 | GB9: =係数マスタ!$B5 | GD9: =GC9*$B9 -> #VALUE! | GF9: =GE9*$B9 -> #VALUE! | GH9: =GG9*$B9 -> #VALUE! | GJ9: =GI9*$B9 -> #VALUE! | GL9: =GK9*$B9 -> #VALUE! | GN9: =係数マスタ!$A$5 -> 2 | GO9: =係数マスタ!$B5 | GQ9: =GP9*$B9 -> #VALUE! | GS9: =GR9*$B9 -> #VALUE! | GU9: =GT9*$B9 -> #VALUE! | GW9: =GV9*$B9 -> #VALUE! | GY9: =GX9*$B9 -> #VALUE! | HA9: =係数マスタ!$A$5 -> 2 | HB9: =係数マスタ!$B5 | HD9: =HC9*$B9 -> #VALUE! | HF9: =HE9*$B9 -> #VALUE! | HH9: =HG9*$B9 -> #VALUE! | HJ9: =HI9*$B9 -> #VALUE! | HL9: =HK9*$B9 -> #VALUE! | HN9: =係数マスタ!$A$5 -> 2 | HO9: =係数マスタ!$B5 | HQ9: =HP9*$B9 -> #VALUE! | HS9: =HR9*$B9 -> #VALUE! | HU9: =HT9*$B9 -> #VALUE! | HW9: =HV9*$B9 -> #VALUE! | HY9: =HX9*$B9 -> #VALUE! | IA9: =係数マスタ!$A$5 -> 2 | IB9: =係数マスタ!$B5 | ID9: =IC9*$B9 -> #VALUE! | IF9: =IE9*$B9 -> #VALUE! | IH9: =IG9*$B9 -> #VALUE! | IJ9: =II9*$B9 -> #VALUE! | IL9: =IK9*$B9 -> #VALUE! | IN9: =係数マスタ!$A$5 -> 2 | IO9: =係数マスタ!$B5 | IQ9: =IP9*$B9 -> #VALUE! | IS9: =IR9*$B9 -> #VALUE! | IU9: =IT9*$B9 -> #VALUE! | IW9: =IV9*$B9 -> #VALUE! | IY9: =IX9*$B9 -> #VALUE! | JA9: =係数マスタ!$A$5 -> 2 | JB9: =係数マスタ!$B5 | JD9: =JC9*$B9 -> #VALUE! | JF9: =JE9*$B9 -> #VALUE! | JH9: =JG9*$B9 -> #VALUE! | JJ9: =JI9*$B9 -> #VALUE! | JL9: =JK9*$B9 -> #VALUE! | JN9: =係数マスタ!$A$5 -> 2 | JO9: =係数マスタ!$B5 | JQ9: =JP9*$B9 -> #VALUE! | JS9: =JR9*$B9 -> #VALUE! | JU9: =JT9*$B9 -> #VALUE! | JW9: =JV9*$B9 -> #VALUE! | JY9: =JX9*$B9 -> #VALUE! | KA9: =係数マスタ!$A$5 -> 2 | KB9: =係数マスタ!$B5 | KD9: =KC9*$B9 -> #VALUE! | KF9: =KE9*$B9 -> #VALUE! | KH9: =KG9*$B9 -> #VALUE! | KJ9: =KI9*$B9 -> #VALUE! | KL9: =KK9*$B9 -> #VALUE! | KN9: =係数マスタ!$A$5 -> 2 | KO9: =係数マスタ!$B5 | KQ9: =KP9*$B9 -> #VALUE! | KS9: =KR9*$B9 -> #VALUE! | KU9: =KT9*$B9 -> #VALUE! | KW9: =KV9*$B9 -> #VALUE! | KY9: =KX9*$B9 -> #VALUE! | LA9: =係数マスタ!$A$5 -> 2 | LB9: =係数マスタ!$B5 | LD9: =LC9*$B9 -> #VALUE! | LF9: =LE9*$B9 -> #VALUE! | LH9: =LG9*$B9 -> #VALUE! | LJ9: =LI9*$B9 -> #VALUE! | LL9: =LK9*$B9 -> #VALUE! | LN9: =係数マスタ!$A$5 -> 2 | LO9: =係数マスタ!$B5 | LQ9: =LP9*$B9 -> #VALUE! | LS9: =LR9*$B9 -> #VALUE! | LU9: =LT9*$B9 -> #VALUE! | LW9: =LV9*$B9 -> #VALUE! | LY9: =LX9*$B9 -> #VALUE! | MA9: =係数マスタ!$A$5 -> 2 | MB9: =係数マスタ!$B5 | MD9: =MC9*$B9 -> #VALUE! | MF9: =ME9*$B9 -> #VALUE! | MH9: =MG9*$B9 -> #VALUE! | MJ9: =MI9*$B9 -> #VALUE! | ML9: =MK9*$B9 -> #VALUE! | MN9: =係数マスタ!$A$5 -> 2 | MO9: =係数マスタ!$B5 | MQ9: =MP9*$B9 -> #VALUE! | MS9: =MR9*$B9 -> #VALUE! | MU9: =MT9*$B9 -> #VALUE! | MW9: =MV9*$B9 -> #VALUE! | MY9: =MX9*$B9 -> #VALUE! | NA9: =係数マスタ!$A$5 -> 2 | NB9: =係数マスタ!$B5 | ND9: =NC9*$B9 -> #VALUE! | NF9: =NE9*$B9 -> #VALUE! | NH9: =NG9*$B9 -> #VALUE! | NJ9: =NI9*$B9 -> #VALUE! | NL9: =NK9*$B9 -> #VALUE! | NN9: =係数マスタ!$A$5 -> 2 | NO9: =係数マスタ!$B5 | NQ9: =NP9*$B9 -> #VALUE! | NS9: =NR9*$B9 -> #VALUE! | NU9: =NT9*$B9 -> #VALUE! | NW9: =NV9*$B9 -> #VALUE! | NY9: =NX9*$B9 -> #VALUE! | OA9: =係数マスタ!$A$5 -> 2 | OB9: =係数マスタ!$B5 | OD9: =OC9*$B9 -> #VALUE! | OF9: =OE9*$B9 -> #VALUE! | OH9: =OG9*$B9 -> #VALUE! | OJ9: =OI9*$B9 -> #VALUE! | OL9: =OK9*$B9 -> #VALUE! | ON9: =係数マスタ!$A$5 -> 2 | OO9: =係数マスタ!$B5 | OQ9: =OP9*$B9 -> #VALUE! | OS9: =OR9*$B9 -> #VALUE! | OU9: =OT9*$B9 -> #VALUE! | OW9: =OV9*$B9 -> #VALUE! | OY9: =OX9*$B9 -> #VALUE! | PA9: =係数マスタ!$A$5 -> 2 | PB9: =係数マスタ!$B5 | PD9: =PC9*$B9 -> #VALUE! | PF9: =PE9*$B9 -> #VALUE! | PH9: =PG9*$B9 -> #VALUE! | PJ9: =PI9*$B9 -> #VALUE! | PL9: =PK9*$B9 -> #VALUE! | PN9: =係数マスタ!$A$5 -> 2 | PO9: =係数マスタ!$B5 | PQ9: =PP9*$B9 -> #VALUE! | PS9: =PR9*$B9 -> #VALUE! | PU9: =PT9*$B9 -> #VALUE! | PW9: =PV9*$B9 -> #VALUE! | PY9: =PX9*$B9 -> #VALUE! | QA9: =係数マスタ!$A$5 -> 2 | QB9: =係数マスタ!$B5 | QD9: =QC9*$B9 -> #VALUE! | QF9: =QE9*$B9 -> #VALUE! | QH9: =QG9*$B9 -> #VALUE! | QJ9: =QI9*$B9 -> #VALUE! | QL9: =QK9*$B9 -> #VALUE! | QN9: =係数マスタ!$A$5 -> 2 | QO9: =係数マスタ!$B5 | QQ9: =QP9*$B9 -> #VALUE! | QS9: =QR9*$B9 -> #VALUE! | QU9: =QT9*$B9 -> #VALUE! | QW9: =QV9*$B9 -> #VALUE! | QY9: =QX9*$B9 -> #VALUE! | RA9: =係数マスタ!$A$5 -> 2 | RB9: =係数マスタ!$B5 | RD9: =RC9*$B9 -> #VALUE! | RF9: =RE9*$B9 -> #VALUE! | RH9: =RG9*$B9 -> #VALUE! | RJ9: =RI9*$B9 -> #VALUE! | RL9: =RK9*$B9 -> #VALUE! | RN9: =係数マスタ!$A$5 -> 2 | RO9: =係数マスタ!$B5 | RQ9: =RP9*$B9 -> #VALUE! | RS9: =RR9*$B9 -> #VALUE! | RU9: =RT9*$B9 -> #VALUE! | RW9: =RV9*$B9 -> #VALUE! | RY9: =RX9*$B9 -> #VALUE! | SA9: =係数マスタ!$A$5 -> 2 | SB9: =係数マスタ!$B5 | SD9: =SC9*$B9 -> #VALUE! | SF9: =SE9*$B9 -> #VALUE! | SH9: =SG9*$B9 -> #VALUE! | SJ9: =SI9*$B9 -> #VALUE! | SL9: =SK9*$B9 -> #VALUE! | SN9: =係数マスタ!$A$5 -> 2 | SO9: =係数マスタ!$B5 | SQ9: =SP9*$B9 -> #VALUE! | SS9: =SR9*$B9 -> #VALUE! | SU9: =ST9*$B9 -> #VALUE! | SW9: =SV9*$B9 -> #VALUE! | SY9: =SX9*$B9 -> #VALUE! | TA9: =係数マスタ!$A$5 -> 2 | TB9: =係数マスタ!$B5 | TD9: =TC9*$B9 -> #VALUE! | TF9: =TE9*$B9 -> #VALUE! | TH9: =TG9*$B9 -> #VALUE! | TJ9: =TI9*$B9 -> #VALUE! | TL9: =TK9*$B9 -> #VALUE! | TN9: =係数マスタ!$A$5 -> 2 | TO9: =係数マスタ!$B5 | TQ9: =TP9*$B9 -> #VALUE! | TS9: =TR9*$B9 -> #VALUE! | TU9: =TT9*$B9 -> #VALUE! | TW9: =TV9*$B9 -> #VALUE! | TY9: =TX9*$B9 -> #VALUE! | UA9: =係数マスタ!$A$5 -> 2 | UB9: =係数マスタ!$B5 | UD9: =UC9*$B9 -> #VALUE! | UF9: =UE9*$B9 -> #VALUE! | UH9: =UG9*$B9 -> #VALUE! | UJ9: =UI9*$B9 -> #VALUE! | UL9: =UK9*$B9 -> #VALUE! | UN9: =係数マスタ!$A$5 -> 2 | UO9: =係数マスタ!$B5 | UQ9: =UP9*$B9 -> #VALUE! | US9: =UR9*$B9 -> #VALUE! | UU9: =UT9*$B9 -> #VALUE! | UW9: =UV9*$B9 -> #VALUE! | UY9: =UX9*$B9 -> #VALUE! | VA9: =係数マスタ!$A$5 -> 2 | VB9: =係数マスタ!$B5 | VD9: =VC9*$B9 -> #VALUE! | VF9: =VE9*$B9 -> #VALUE! | VH9: =VG9*$B9 -> #VALUE! | VJ9: =VI9*$B9 -> #VALUE! | VL9: =VK9*$B9 -> #VALUE! | VN9: =係数マスタ!$A$5 -> 2 | VO9: =係数マスタ!$B5 | VQ9: =VP9*$B9 -> #VALUE! | VS9: =VR9*$B9 -> #VALUE! | VU9: =VT9*$B9 -> #VALUE! | VW9: =VV9*$B9 -> #VALUE! | VY9: =VX9*$B9 -> #VALUE! | WA9: =係数マスタ!$A$5 -> 2 | WB9: =係数マスタ!$B5 | WD9: =WC9*$B9 -> #VALUE! | WF9: =WE9*$B9 -> #VALUE! | WH9: =WG9*$B9 -> #VALUE! | WJ9: =WI9*$B9 -> #VALUE! | WL9: =WK9*$B9 -> #VALUE! | WN9: =係数マスタ!$A$5 -> 2 | WO9: =係数マスタ!$B5 | WQ9: =WP9*$B9 -> #VALUE! | WS9: =WR9*$B9 -> #VALUE! | WU9: =WT9*$B9 -> #VALUE! | WW9: =WV9*$B9 -> #VALUE! | WY9: =WX9*$B9 -> #VALUE! | XA9: =係数マスタ!$A$5 -> 2 | XB9: =係数マスタ!$B5 | XD9: =XC9*$B9 -> #VALUE! | XF9: =XE9*$B9 -> #VALUE! | XH9: =XG9*$B9 -> #VALUE! | XJ9: =XI9*$B9 -> #VALUE! | XL9: =XK9*$B9 -> #VALUE! | XN9: =係数マスタ!$A$5 -> 2 | XO9: =係数マスタ!$B5 | XQ9: =XP9*$B9 -> #VALUE! | XS9: =XR9*$B9 -> #VALUE! | XU9: =XT9*$B9 -> #VALUE! | XW9: =XV9*$B9 -> #VALUE! | XY9: =XX9*$B9 -> #VALUE!
A10: =係数マスタ!$A$6 -> 3 | B10: =係数マスタ!$B6 | D10: =C10*$B10 -> #VALUE! | F10: =E10*$B10 -> #VALUE! | H10: =G10*$B10 -> #VALUE! | J10: =I10*$B10 -> #VALUE! | L10: =K10*$B10 -> #VALUE! | N10: =係数マスタ!$A$6 -> 3 | O10: =係数マスタ!$B6 | Q10: =P10*$B10 -> #VALUE! | S10: =R10*$B10 -> #VALUE! | U10: =T10*$B10 -> #VALUE! | W10: =V10*$B10 -> #VALUE! | Y10: =X10*$B10 -> #VALUE! | AA10: =係数マスタ!$A$6 -> 3 | AB10: =係数マスタ!$B6 | AD10: =AC10*$B10 -> #VALUE! | AF10: =AE10*$B10 -> #VALUE! | AH10: =AG10*$B10 -> #VALUE! | AJ10: =AI10*$B10 -> #VALUE! | AL10: =AK10*$B10 -> #VALUE! | AN10: =係数マスタ!$A$6 -> 3 | AO10: =係数マスタ!$B6 | AQ10: =AP10*$B10 -> #VALUE! | AS10: =AR10*$B10 -> #VALUE! | AU10: =AT10*$B10 -> #VALUE! | AW10: =AV10*$B10 -> #VALUE! | AY10: =AX10*$B10 -> #VALUE! | BA10: =係数マスタ!$A$6 -> 3 | BB10: =係数マスタ!$B6 | BD10: =BC10*$B10 -> #VALUE! | BF10: =BE10*$B10 -> #VALUE! | BH10: =BG10*$B10 -> #VALUE! | BJ10: =BI10*$B10 -> #VALUE! | BL10: =BK10*$B10 -> #VALUE! | BN10: =係数マスタ!$A$6 -> 3 | BO10: =係数マスタ!$B6 | BQ10: =BP10*$B10 -> #VALUE! | BS10: =BR10*$B10 -> #VALUE! | BU10: =BT10*$B10 -> #VALUE! | BW10: =BV10*$B10 -> #VALUE! | BY10: =BX10*$B10 -> #VALUE! | CA10: =係数マスタ!$A$6 -> 3 | CB10: =係数マスタ!$B6 | CD10: =CC10*$B10 -> #VALUE! | CF10: =CE10*$B10 -> #VALUE! | CH10: =CG10*$B10 -> #VALUE! | CJ10: =CI10*$B10 -> #VALUE! | CL10: =CK10*$B10 -> #VALUE! | CN10: =係数マスタ!$A$6 -> 3 | CO10: =係数マスタ!$B6 | CQ10: =CP10*$B10 -> #VALUE! | CS10: =CR10*$B10 -> #VALUE! | CU10: =CT10*$B10 -> #VALUE! | CW10: =CV10*$B10 -> #VALUE! | CY10: =CX10*$B10 -> #VALUE! | DA10: =係数マスタ!$A$6 -> 3 | DB10: =係数マスタ!$B6 | DD10: =DC10*$B10 -> #VALUE! | DF10: =DE10*$B10 -> #VALUE! | DH10: =DG10*$B10 -> #VALUE! | DJ10: =DI10*$B10 -> #VALUE! | DL10: =DK10*$B10 -> #VALUE! | DN10: =係数マスタ!$A$6 -> 3 | DO10: =係数マスタ!$B6 | DQ10: =DP10*$B10 -> #VALUE! | DS10: =DR10*$B10 -> #VALUE! | DU10: =DT10*$B10 -> #VALUE! | DW10: =DV10*$B10 -> #VALUE! | DY10: =DX10*$B10 -> #VALUE! | EA10: =係数マスタ!$A$6 -> 3 | EB10: =係数マスタ!$B6 | ED10: =EC10*$B10 -> #VALUE! | EF10: =EE10*$B10 -> #VALUE! | EH10: =EG10*$B10 -> #VALUE! | EJ10: =EI10*$B10 -> #VALUE! | EL10: =EK10*$B10 -> #VALUE! | EN10: =係数マスタ!$A$6 -> 3 | EO10: =係数マスタ!$B6 | EQ10: =EP10*$B10 -> #VALUE! | ES10: =ER10*$B10 -> #VALUE! | EU10: =ET10*$B10 -> #VALUE! | EW10: =EV10*$B10 -> #VALUE! | EY10: =EX10*$B10 -> #VALUE! | FA10: =係数マスタ!$A$6 -> 3 | FB10: =係数マスタ!$B6 | FD10: =FC10*$B10 -> #VALUE! | FF10: =FE10*$B10 -> #VALUE! | FH10: =FG10*$B10 -> #VALUE! | FJ10: =FI10*$B10 -> #VALUE! | FL10: =FK10*$B10 -> #VALUE! | FN10: =係数マスタ!$A$6 -> 3 | FO10: =係数マスタ!$B6 | FQ10: =FP10*$B10 -> #VALUE! | FS10: =FR10*$B10 -> #VALUE! | FU10: =FT10*$B10 -> #VALUE! | FW10: =FV10*$B10 -> #VALUE! | FY10: =FX10*$B10 -> #VALUE! | GA10: =係数マスタ!$A$6 -> 3 | GB10: =係数マスタ!$B6 | GD10: =GC10*$B10 -> #VALUE! | GF10: =GE10*$B10 -> #VALUE! | GH10: =GG10*$B10 -> #VALUE! | GJ10: =GI10*$B10 -> #VALUE! | GL10: =GK10*$B10 -> #VALUE! | GN10: =係数マスタ!$A$6 -> 3 | GO10: =係数マスタ!$B6 | GQ10: =GP10*$B10 -> #VALUE! | GS10: =GR10*$B10 -> #VALUE! | GU10: =GT10*$B10 -> #VALUE! | GW10: =GV10*$B10 -> #VALUE! | GY10: =GX10*$B10 -> #VALUE! | HA10: =係数マスタ!$A$6 -> 3 | HB10: =係数マスタ!$B6 | HD10: =HC10*$B10 -> #VALUE! | HF10: =HE10*$B10 -> #VALUE! | HH10: =HG10*$B10 -> #VALUE! | HJ10: =HI10*$B10 -> #VALUE! | HL10: =HK10*$B10 -> #VALUE! | HN10: =係数マスタ!$A$6 -> 3 | HO10: =係数マスタ!$B6 | HQ10: =HP10*$B10 -> #VALUE! | HS10: =HR10*$B10 -> #VALUE! | HU10: =HT10*$B10 -> #VALUE! | HW10: =HV10*$B10 -> #VALUE! | HY10: =HX10*$B10 -> #VALUE! | IA10: =係数マスタ!$A$6 -> 3 | IB10: =係数マスタ!$B6 | ID10: =IC10*$B10 -> #VALUE! | IF10: =IE10*$B10 -> #VALUE! | IH10: =IG10*$B10 -> #VALUE! | IJ10: =II10*$B10 -> #VALUE! | IL10: =IK10*$B10 -> #VALUE! | IN10: =係数マスタ!$A$6 -> 3 | IO10: =係数マスタ!$B6 | IQ10: =IP10*$B10 -> #VALUE! | IS10: =IR10*$B10 -> #VALUE! | IU10: =IT10*$B10 -> #VALUE! | IW10: =IV10*$B10 -> #VALUE! | IY10: =IX10*$B10 -> #VALUE! | JA10: =係数マスタ!$A$6 -> 3 | JB10: =係数マスタ!$B6 | JD10: =JC10*$B10 -> #VALUE! | JF10: =JE10*$B10 -> #VALUE! | JH10: =JG10*$B10 -> #VALUE! | JJ10: =JI10*$B10 -> #VALUE! | JL10: =JK10*$B10 -> #VALUE! | JN10: =係数マスタ!$A$6 -> 3 | JO10: =係数マスタ!$B6 | JQ10: =JP10*$B10 -> #VALUE! | JS10: =JR10*$B10 -> #VALUE! | JU10: =JT10*$B10 -> #VALUE! | JW10: =JV10*$B10 -> #VALUE! | JY10: =JX10*$B10 -> #VALUE! | KA10: =係数マスタ!$A$6 -> 3 | KB10: =係数マスタ!$B6 | KD10: =KC10*$B10 -> #VALUE! | KF10: =KE10*$B10 -> #VALUE! | KH10: =KG10*$B10 -> #VALUE! | KJ10: =KI10*$B10 -> #VALUE! | KL10: =KK10*$B10 -> #VALUE! | KN10: =係数マスタ!$A$6 -> 3 | KO10: =係数マスタ!$B6 | KQ10: =KP10*$B10 -> #VALUE! | KS10: =KR10*$B10 -> #VALUE! | KU10: =KT10*$B10 -> #VALUE! | KW10: =KV10*$B10 -> #VALUE! | KY10: =KX10*$B10 -> #VALUE! | LA10: =係数マスタ!$A$6 -> 3 | LB10: =係数マスタ!$B6 | LD10: =LC10*$B10 -> #VALUE! | LF10: =LE10*$B10 -> #VALUE! | LH10: =LG10*$B10 -> #VALUE! | LJ10: =LI10*$B10 -> #VALUE! | LL10: =LK10*$B10 -> #VALUE! | LN10: =係数マスタ!$A$6 -> 3 | LO10: =係数マスタ!$B6 | LQ10: =LP10*$B10 -> #VALUE! | LS10: =LR10*$B10 -> #VALUE! | LU10: =LT10*$B10 -> #VALUE! | LW10: =LV10*$B10 -> #VALUE! | LY10: =LX10*$B10 -> #VALUE! | MA10: =係数マスタ!$A$6 -> 3 | MB10: =係数マスタ!$B6 | MD10: =MC10*$B10 -> #VALUE! | MF10: =ME10*$B10 -> #VALUE! | MH10: =MG10*$B10 -> #VALUE! | MJ10: =MI10*$B10 -> #VALUE! | ML10: =MK10*$B10 -> #VALUE! | MN10: =係数マスタ!$A$6 -> 3 | MO10: =係数マスタ!$B6 | MQ10: =MP10*$B10 -> #VALUE! | MS10: =MR10*$B10 -> #VALUE! | MU10: =MT10*$B10 -> #VALUE! | MW10: =MV10*$B10 -> #VALUE! | MY10: =MX10*$B10 -> #VALUE! | NA10: =係数マスタ!$A$6 -> 3 | NB10: =係数マスタ!$B6 | ND10: =NC10*$B10 -> #VALUE! | NF10: =NE10*$B10 -> #VALUE! | NH10: =NG10*$B10 -> #VALUE! | NJ10: =NI10*$B10 -> #VALUE! | NL10: =NK10*$B10 -> #VALUE! | NN10: =係数マスタ!$A$6 -> 3 | NO10: =係数マスタ!$B6 | NQ10: =NP10*$B10 -> #VALUE! | NS10: =NR10*$B10 -> #VALUE! | NU10: =NT10*$B10 -> #VALUE! | NW10: =NV10*$B10 -> #VALUE! | NY10: =NX10*$B10 -> #VALUE! | OA10: =係数マスタ!$A$6 -> 3 | OB10: =係数マスタ!$B6 | OD10: =OC10*$B10 -> #VALUE! | OF10: =OE10*$B10 -> #VALUE! | OH10: =OG10*$B10 -> #VALUE! | OJ10: =OI10*$B10 -> #VALUE! | OL10: =OK10*$B10 -> #VALUE! | ON10: =係数マスタ!$A$6 -> 3 | OO10: =係数マスタ!$B6 | OQ10: =OP10*$B10 -> #VALUE! | OS10: =OR10*$B10 -> #VALUE! | OU10: =OT10*$B10 -> #VALUE! | OW10: =OV10*$B10 -> #VALUE! | OY10: =OX10*$B10 -> #VALUE! | PA10: =係数マスタ!$A$6 -> 3 | PB10: =係数マスタ!$B6 | PD10: =PC10*$B10 -> #VALUE! | PF10: =PE10*$B10 -> #VALUE! | PH10: =PG10*$B10 -> #VALUE! | PJ10: =PI10*$B10 -> #VALUE! | PL10: =PK10*$B10 -> #VALUE! | PN10: =係数マスタ!$A$6 -> 3 | PO10: =係数マスタ!$B6 | PQ10: =PP10*$B10 -> #VALUE! | PS10: =PR10*$B10 -> #VALUE! | PU10: =PT10*$B10 -> #VALUE! | PW10: =PV10*$B10 -> #VALUE! | PY10: =PX10*$B10 -> #VALUE! | QA10: =係数マスタ!$A$6 -> 3 | QB10: =係数マスタ!$B6 | QD10: =QC10*$B10 -> #VALUE! | QF10: =QE10*$B10 -> #VALUE! | QH10: =QG10*$B10 -> #VALUE! | QJ10: =QI10*$B10 -> #VALUE! | QL10: =QK10*$B10 -> #VALUE! | QN10: =係数マスタ!$A$6 -> 3 | QO10: =係数マスタ!$B6 | QQ10: =QP10*$B10 -> #VALUE! | QS10: =QR10*$B10 -> #VALUE! | QU10: =QT10*$B10 -> #VALUE! | QW10: =QV10*$B10 -> #VALUE! | QY10: =QX10*$B10 -> #VALUE! | RA10: =係数マスタ!$A$6 -> 3 | RB10: =係数マスタ!$B6 | RD10: =RC10*$B10 -> #VALUE! | RF10: =RE10*$B10 -> #VALUE! | RH10: =RG10*$B10 -> #VALUE! | RJ10: =RI10*$B10 -> #VALUE! | RL10: =RK10*$B10 -> #VALUE! | RN10: =係数マスタ!$A$6 -> 3 | RO10: =係数マスタ!$B6 | RQ10: =RP10*$B10 -> #VALUE! | RS10: =RR10*$B10 -> #VALUE! | RU10: =RT10*$B10 -> #VALUE! | RW10: =RV10*$B10 -> #VALUE! | RY10: =RX10*$B10 -> #VALUE! | SA10: =係数マスタ!$A$6 -> 3 | SB10: =係数マスタ!$B6 | SD10: =SC10*$B10 -> #VALUE! | SF10: =SE10*$B10 -> #VALUE! | SH10: =SG10*$B10 -> #VALUE! | SJ10: =SI10*$B10 -> #VALUE! | SL10: =SK10*$B10 -> #VALUE! | SN10: =係数マスタ!$A$6 -> 3 | SO10: =係数マスタ!$B6 | SQ10: =SP10*$B10 -> #VALUE! | SS10: =SR10*$B10 -> #VALUE! | SU10: =ST10*$B10 -> #VALUE! | SW10: =SV10*$B10 -> #VALUE! | SY10: =SX10*$B10 -> #VALUE! | TA10: =係数マスタ!$A$6 -> 3 | TB10: =係数マスタ!$B6 | TD10: =TC10*$B10 -> #VALUE! | TF10: =TE10*$B10 -> #VALUE! | TH10: =TG10*$B10 -> #VALUE! | TJ10: =TI10*$B10 -> #VALUE! | TL10: =TK10*$B10 -> #VALUE! | TN10: =係数マスタ!$A$6 -> 3 | TO10: =係数マスタ!$B6 | TQ10: =TP10*$B10 -> #VALUE! | TS10: =TR10*$B10 -> #VALUE! | TU10: =TT10*$B10 -> #VALUE! | TW10: =TV10*$B10 -> #VALUE! | TY10: =TX10*$B10 -> #VALUE! | UA10: =係数マスタ!$A$6 -> 3 | UB10: =係数マスタ!$B6 | UD10: =UC10*$B10 -> #VALUE! | UF10: =UE10*$B10 -> #VALUE! | UH10: =UG10*$B10 -> #VALUE! | UJ10: =UI10*$B10 -> #VALUE! | UL10: =UK10*$B10 -> #VALUE! | UN10: =係数マスタ!$A$6 -> 3 | UO10: =係数マスタ!$B6 | UQ10: =UP10*$B10 -> #VALUE! | US10: =UR10*$B10 -> #VALUE! | UU10: =UT10*$B10 -> #VALUE! | UW10: =UV10*$B10 -> #VALUE! | UY10: =UX10*$B10 -> #VALUE! | VA10: =係数マスタ!$A$6 -> 3 | VB10: =係数マスタ!$B6 | VD10: =VC10*$B10 -> #VALUE! | VF10: =VE10*$B10 -> #VALUE! | VH10: =VG10*$B10 -> #VALUE! | VJ10: =VI10*$B10 -> #VALUE! | VL10: =VK10*$B10 -> #VALUE! | VN10: =係数マスタ!$A$6 -> 3 | VO10: =係数マスタ!$B6 | VQ10: =VP10*$B10 -> #VALUE! | VS10: =VR10*$B10 -> #VALUE! | VU10: =VT10*$B10 -> #VALUE! | VW10: =VV10*$B10 -> #VALUE! | VY10: =VX10*$B10 -> #VALUE! | WA10: =係数マスタ!$A$6 -> 3 | WB10: =係数マスタ!$B6 | WD10: =WC10*$B10 -> #VALUE! | WF10: =WE10*$B10 -> #VALUE! | WH10: =WG10*$B10 -> #VALUE! | WJ10: =WI10*$B10 -> #VALUE! | WL10: =WK10*$B10 -> #VALUE! | WN10: =係数マスタ!$A$6 -> 3 | WO10: =係数マスタ!$B6 | WQ10: =WP10*$B10 -> #VALUE! | WS10: =WR10*$B10 -> #VALUE! | WU10: =WT10*$B10 -> #VALUE! | WW10: =WV10*$B10 -> #VALUE! | WY10: =WX10*$B10 -> #VALUE! | XA10: =係数マスタ!$A$6 -> 3 | XB10: =係数マスタ!$B6 | XD10: =XC10*$B10 -> #VALUE! | XF10: =XE10*$B10 -> #VALUE! | XH10: =XG10*$B10 -> #VALUE! | XJ10: =XI10*$B10 -> #VALUE! | XL10: =XK10*$B10 -> #VALUE! | XN10: =係数マスタ!$A$6 -> 3 | XO10: =係数マスタ!$B6 | XQ10: =XP10*$B10 -> #VALUE! | XS10: =XR10*$B10 -> #VALUE! | XU10: =XT10*$B10 -> #VALUE! | XW10: =XV10*$B10 -> #VALUE! | XY10: =XX10*$B10 -> #VALUE!
A11: =係数マスタ!$A$7 -> 4 | B11: =係数マスタ!$B7 | D11: =C11*$B11 -> #VALUE! | F11: =E11*$B11 -> #VALUE! | H11: =G11*$B11 -> #VALUE! | J11: =I11*$B11 -> #VALUE! | L11: =K11*$B11 -> #VALUE! | N11: =係数マスタ!$A$7 -> 4 | O11: =係数マスタ!$B7 | Q11: =P11*$B11 -> #VALUE! | S11: =R11*$B11 -> #VALUE! | U11: =T11*$B11 -> #VALUE! | W11: =V11*$B11 -> #VALUE! | Y11: =X11*$B11 -> #VALUE! | AA11: =係数マスタ!$A$7 -> 4 | AB11: =係数マスタ!$B7 | AD11: =AC11*$B11 -> #VALUE! | AF11: =AE11*$B11 -> #VALUE! | AH11: =AG11*$B11 -> #VALUE! | AJ11: =AI11*$B11 -> #VALUE! | AL11: =AK11*$B11 -> #VALUE! | AN11: =係数マスタ!$A$7 -> 4 | AO11: =係数マスタ!$B7 | AQ11: =AP11*$B11 -> #VALUE! | AS11: =AR11*$B11 -> #VALUE! | AU11: =AT11*$B11 -> #VALUE! | AW11: =AV11*$B11 -> #VALUE! | AY11: =AX11*$B11 -> #VALUE! | BA11: =係数マスタ!$A$7 -> 4 | BB11: =係数マスタ!$B7 | BD11: =BC11*$B11 -> #VALUE! | BF11: =BE11*$B11 -> #VALUE! | BH11: =BG11*$B11 -> #VALUE! | BJ11: =BI11*$B11 -> #VALUE! | BL11: =BK11*$B11 -> #VALUE! | BN11: =係数マスタ!$A$7 -> 4 | BO11: =係数マスタ!$B7 | BQ11: =BP11*$B11 -> #VALUE! | BS11: =BR11*$B11 -> #VALUE! | BU11: =BT11*$B11 -> #VALUE! | BW11: =BV11*$B11 -> #VALUE! | BY11: =BX11*$B11 -> #VALUE! | CA11: =係数マスタ!$A$7 -> 4 | CB11: =係数マスタ!$B7 | CD11: =CC11*$B11 -> #VALUE! | CF11: =CE11*$B11 -> #VALUE! | CH11: =CG11*$B11 -> #VALUE! | CJ11: =CI11*$B11 -> #VALUE! | CL11: =CK11*$B11 -> #VALUE! | CN11: =係数マスタ!$A$7 -> 4 | CO11: =係数マスタ!$B7 | CQ11: =CP11*$B11 -> #VALUE! | CS11: =CR11*$B11 -> #VALUE! | CU11: =CT11*$B11 -> #VALUE! | CW11: =CV11*$B11 -> #VALUE! | CY11: =CX11*$B11 -> #VALUE! | DA11: =係数マスタ!$A$7 -> 4 | DB11: =係数マスタ!$B7 | DD11: =DC11*$B11 -> #VALUE! | DF11: =DE11*$B11 -> #VALUE! | DH11: =DG11*$B11 -> #VALUE! | DJ11: =DI11*$B11 -> #VALUE! | DL11: =DK11*$B11 -> #VALUE! | DN11: =係数マスタ!$A$7 -> 4 | DO11: =係数マスタ!$B7 | DQ11: =DP11*$B11 -> #VALUE! | DS11: =DR11*$B11 -> #VALUE! | DU11: =DT11*$B11 -> #VALUE! | DW11: =DV11*$B11 -> #VALUE! | DY11: =DX11*$B11 -> #VALUE! | EA11: =係数マスタ!$A$7 -> 4 | EB11: =係数マスタ!$B7 | ED11: =EC11*$B11 -> #VALUE! | EF11: =EE11*$B11 -> #VALUE! | EH11: =EG11*$B11 -> #VALUE! | EJ11: =EI11*$B11 -> #VALUE! | EL11: =EK11*$B11 -> #VALUE! | EN11: =係数マスタ!$A$7 -> 4 | EO11: =係数マスタ!$B7 | EQ11: =EP11*$B11 -> #VALUE! | ES11: =ER11*$B11 -> #VALUE! | EU11: =ET11*$B11 -> #VALUE! | EW11: =EV11*$B11 -> #VALUE! | EY11: =EX11*$B11 -> #VALUE! | FA11: =係数マスタ!$A$7 -> 4 | FB11: =係数マスタ!$B7 | FD11: =FC11*$B11 -> #VALUE! | FF11: =FE11*$B11 -> #VALUE! | FH11: =FG11*$B11 -> #VALUE! | FJ11: =FI11*$B11 -> #VALUE! | FL11: =FK11*$B11 -> #VALUE! | FN11: =係数マスタ!$A$7 -> 4 | FO11: =係数マスタ!$B7 | FQ11: =FP11*$B11 -> #VALUE! | FS11: =FR11*$B11 -> #VALUE! | FU11: =FT11*$B11 -> #VALUE! | FW11: =FV11*$B11 -> #VALUE! | FY11: =FX11*$B11 -> #VALUE! | GA11: =係数マスタ!$A$7 -> 4 | GB11: =係数マスタ!$B7 | GD11: =GC11*$B11 -> #VALUE! | GF11: =GE11*$B11 -> #VALUE! | GH11: =GG11*$B11 -> #VALUE! | GJ11: =GI11*$B11 -> #VALUE! | GL11: =GK11*$B11 -> #VALUE! | GN11: =係数マスタ!$A$7 -> 4 | GO11: =係数マスタ!$B7 | GQ11: =GP11*$B11 -> #VALUE! | GS11: =GR11*$B11 -> #VALUE! | GU11: =GT11*$B11 -> #VALUE! | GW11: =GV11*$B11 -> #VALUE! | GY11: =GX11*$B11 -> #VALUE! | HA11: =係数マスタ!$A$7 -> 4 | HB11: =係数マスタ!$B7 | HD11: =HC11*$B11 -> #VALUE! | HF11: =HE11*$B11 -> #VALUE! | HH11: =HG11*$B11 -> #VALUE! | HJ11: =HI11*$B11 -> #VALUE! | HL11: =HK11*$B11 -> #VALUE! | HN11: =係数マスタ!$A$7 -> 4 | HO11: =係数マスタ!$B7 | HQ11: =HP11*$B11 -> #VALUE! | HS11: =HR11*$B11 -> #VALUE! | HU11: =HT11*$B11 -> #VALUE! | HW11: =HV11*$B11 -> #VALUE! | HY11: =HX11*$B11 -> #VALUE! | IA11: =係数マスタ!$A$7 -> 4 | IB11: =係数マスタ!$B7 | ID11: =IC11*$B11 -> #VALUE! | IF11: =IE11*$B11 -> #VALUE! | IH11: =IG11*$B11 -> #VALUE! | IJ11: =II11*$B11 -> #VALUE! | IL11: =IK11*$B11 -> #VALUE! | IN11: =係数マスタ!$A$7 -> 4 | IO11: =係数マスタ!$B7 | IQ11: =IP11*$B11 -> #VALUE! | IS11: =IR11*$B11 -> #VALUE! | IU11: =IT11*$B11 -> #VALUE! | IW11: =IV11*$B11 -> #VALUE! | IY11: =IX11*$B11 -> #VALUE! | JA11: =係数マスタ!$A$7 -> 4 | JB11: =係数マスタ!$B7 | JD11: =JC11*$B11 -> #VALUE! | JF11: =JE11*$B11 -> #VALUE! | JH11: =JG11*$B11 -> #VALUE! | JJ11: =JI11*$B11 -> #VALUE! | JL11: =JK11*$B11 -> #VALUE! | JN11: =係数マスタ!$A$7 -> 4 | JO11: =係数マスタ!$B7 | JQ11: =JP11*$B11 -> #VALUE! | JS11: =JR11*$B11 -> #VALUE! | JU11: =JT11*$B11 -> #VALUE! | JW11: =JV11*$B11 -> #VALUE! | JY11: =JX11*$B11 -> #VALUE! | KA11: =係数マスタ!$A$7 -> 4 | KB11: =係数マスタ!$B7 | KD11: =KC11*$B11 -> #VALUE! | KF11: =KE11*$B11 -> #VALUE! | KH11: =KG11*$B11 -> #VALUE! | KJ11: =KI11*$B11 -> #VALUE! | KL11: =KK11*$B11 -> #VALUE! | KN11: =係数マスタ!$A$7 -> 4 | KO11: =係数マスタ!$B7 | KQ11: =KP11*$B11 -> #VALUE! | KS11: =KR11*$B11 -> #VALUE! | KU11: =KT11*$B11 -> #VALUE! | KW11: =KV11*$B11 -> #VALUE! | KY11: =KX11*$B11 -> #VALUE! | LA11: =係数マスタ!$A$7 -> 4 | LB11: =係数マスタ!$B7 | LD11: =LC11*$B11 -> #VALUE! | LF11: =LE11*$B11 -> #VALUE! | LH11: =LG11*$B11 -> #VALUE! | LJ11: =LI11*$B11 -> #VALUE! | LL11: =LK11*$B11 -> #VALUE! | LN11: =係数マスタ!$A$7 -> 4 | LO11: =係数マスタ!$B7 | LQ11: =LP11*$B11 -> #VALUE! | LS11: =LR11*$B11 -> #VALUE! | LU11: =LT11*$B11 -> #VALUE! | LW11: =LV11*$B11 -> #VALUE! | LY11: =LX11*$B11 -> #VALUE! | MA11: =係数マスタ!$A$7 -> 4 | MB11: =係数マスタ!$B7 | MD11: =MC11*$B11 -> #VALUE! | MF11: =ME11*$B11 -> #VALUE! | MH11: =MG11*$B11 -> #VALUE! | MJ11: =MI11*$B11 -> #VALUE! | ML11: =MK11*$B11 -> #VALUE! | MN11: =係数マスタ!$A$7 -> 4 | MO11: =係数マスタ!$B7 | MQ11: =MP11*$B11 -> #VALUE! | MS11: =MR11*$B11 -> #VALUE! | MU11: =MT11*$B11 -> #VALUE! | MW11: =MV11*$B11 -> #VALUE! | MY11: =MX11*$B11 -> #VALUE! | NA11: =係数マスタ!$A$7 -> 4 | NB11: =係数マスタ!$B7 | ND11: =NC11*$B11 -> #VALUE! | NF11: =NE11*$B11 -> #VALUE! | NH11: =NG11*$B11 -> #VALUE! | NJ11: =NI11*$B11 -> #VALUE! | NL11: =NK11*$B11 -> #VALUE! | NN11: =係数マスタ!$A$7 -> 4 | NO11: =係数マスタ!$B7 | NQ11: =NP11*$B11 -> #VALUE! | NS11: =NR11*$B11 -> #VALUE! | NU11: =NT11*$B11 -> #VALUE! | NW11: =NV11*$B11 -> #VALUE! | NY11: =NX11*$B11 -> #VALUE! | OA11: =係数マスタ!$A$7 -> 4 | OB11: =係数マスタ!$B7 | OD11: =OC11*$B11 -> #VALUE! | OF11: =OE11*$B11 -> #VALUE! | OH11: =OG11*$B11 -> #VALUE! | OJ11: =OI11*$B11 -> #VALUE! | OL11: =OK11*$B11 -> #VALUE! | ON11: =係数マスタ!$A$7 -> 4 | OO11: =係数マスタ!$B7 | OQ11: =OP11*$B11 -> #VALUE! | OS11: =OR11*$B11 -> #VALUE! | OU11: =OT11*$B11 -> #VALUE! | OW11: =OV11*$B11 -> #VALUE! | OY11: =OX11*$B11 -> #VALUE! | PA11: =係数マスタ!$A$7 -> 4 | PB11: =係数マスタ!$B7 | PD11: =PC11*$B11 -> #VALUE! | PF11: =PE11*$B11 -> #VALUE! | PH11: =PG11*$B11 -> #VALUE! | PJ11: =PI11*$B11 -> #VALUE! | PL11: =PK11*$B11 -> #VALUE! | PN11: =係数マスタ!$A$7 -> 4 | PO11: =係数マスタ!$B7 | PQ11: =PP11*$B11 -> #VALUE! | PS11: =PR11*$B11 -> #VALUE! | PU11: =PT11*$B11 -> #VALUE! | PW11: =PV11*$B11 -> #VALUE! | PY11: =PX11*$B11 -> #VALUE! | QA11: =係数マスタ!$A$7 -> 4 | QB11: =係数マスタ!$B7 | QD11: =QC11*$B11 -> #VALUE! | QF11: =QE11*$B11 -> #VALUE! | QH11: =QG11*$B11 -> #VALUE! | QJ11: =QI11*$B11 -> #VALUE! | QL11: =QK11*$B11 -> #VALUE! | QN11: =係数マスタ!$A$7 -> 4 | QO11: =係数マスタ!$B7 | QQ11: =QP11*$B11 -> #VALUE! | QS11: =QR11*$B11 -> #VALUE! | QU11: =QT11*$B11 -> #VALUE! | QW11: =QV11*$B11 -> #VALUE! | QY11: =QX11*$B11 -> #VALUE! | RA11: =係数マスタ!$A$7 -> 4 | RB11: =係数マスタ!$B7 | RD11: =RC11*$B11 -> #VALUE! | RF11: =RE11*$B11 -> #VALUE! | RH11: =RG11*$B11 -> #VALUE! | RJ11: =RI11*$B11 -> #VALUE! | RL11: =RK11*$B11 -> #VALUE! | RN11: =係数マスタ!$A$7 -> 4 | RO11: =係数マスタ!$B7 | RQ11: =RP11*$B11 -> #VALUE! | RS11: =RR11*$B11 -> #VALUE! | RU11: =RT11*$B11 -> #VALUE! | RW11: =RV11*$B11 -> #VALUE! | RY11: =RX11*$B11 -> #VALUE! | SA11: =係数マスタ!$A$7 -> 4 | SB11: =係数マスタ!$B7 | SD11: =SC11*$B11 -> #VALUE! | SF11: =SE11*$B11 -> #VALUE! | SH11: =SG11*$B11 -> #VALUE! | SJ11: =SI11*$B11 -> #VALUE! | SL11: =SK11*$B11 -> #VALUE! | SN11: =係数マスタ!$A$7 -> 4 | SO11: =係数マスタ!$B7 | SQ11: =SP11*$B11 -> #VALUE! | SS11: =SR11*$B11 -> #VALUE! | SU11: =ST11*$B11 -> #VALUE! | SW11: =SV11*$B11 -> #VALUE! | SY11: =SX11*$B11 -> #VALUE! | TA11: =係数マスタ!$A$7 -> 4 | TB11: =係数マスタ!$B7 | TD11: =TC11*$B11 -> #VALUE! | TF11: =TE11*$B11 -> #VALUE! | TH11: =TG11*$B11 -> #VALUE! | TJ11: =TI11*$B11 -> #VALUE! | TL11: =TK11*$B11 -> #VALUE! | TN11: =係数マスタ!$A$7 -> 4 | TO11: =係数マスタ!$B7 | TQ11: =TP11*$B11 -> #VALUE! | TS11: =TR11*$B11 -> #VALUE! | TU11: =TT11*$B11 -> #VALUE! | TW11: =TV11*$B11 -> #VALUE! | TY11: =TX11*$B11 -> #VALUE! | UA11: =係数マスタ!$A$7 -> 4 | UB11: =係数マスタ!$B7 | UD11: =UC11*$B11 -> #VALUE! | UF11: =UE11*$B11 -> #VALUE! | UH11: =UG11*$B11 -> #VALUE! | UJ11: =UI11*$B11 -> #VALUE! | UL11: =UK11*$B11 -> #VALUE! | UN11: =係数マスタ!$A$7 -> 4 | UO11: =係数マスタ!$B7 | UQ11: =UP11*$B11 -> #VALUE! | US11: =UR11*$B11 -> #VALUE! | UU11: =UT11*$B11 -> #VALUE! | UW11: =UV11*$B11 -> #VALUE! | UY11: =UX11*$B11 -> #VALUE! | VA11: =係数マスタ!$A$7 -> 4 | VB11: =係数マスタ!$B7 | VD11: =VC11*$B11 -> #VALUE! | VF11: =VE11*$B11 -> #VALUE! | VH11: =VG11*$B11 -> #VALUE! | VJ11: =VI11*$B11 -> #VALUE! | VL11: =VK11*$B11 -> #VALUE! | VN11: =係数マスタ!$A$7 -> 4 | VO11: =係数マスタ!$B7 | VQ11: =VP11*$B11 -> #VALUE! | VS11: =VR11*$B11 -> #VALUE! | VU11: =VT11*$B11 -> #VALUE! | VW11: =VV11*$B11 -> #VALUE! | VY11: =VX11*$B11 -> #VALUE! | WA11: =係数マスタ!$A$7 -> 4 | WB11: =係数マスタ!$B7 | WD11: =WC11*$B11 -> #VALUE! | WF11: =WE11*$B11 -> #VALUE! | WH11: =WG11*$B11 -> #VALUE! | WJ11: =WI11*$B11 -> #VALUE! | WL11: =WK11*$B11 -> #VALUE! | WN11: =係数マスタ!$A$7 -> 4 | WO11: =係数マスタ!$B7 | WQ11: =WP11*$B11 -> #VALUE! | WS11: =WR11*$B11 -> #VALUE! | WU11: =WT11*$B11 -> #VALUE! | WW11: =WV11*$B11 -> #VALUE! | WY11: =WX11*$B11 -> #VALUE! | XA11: =係数マスタ!$A$7 -> 4 | XB11: =係数マスタ!$B7 | XD11: =XC11*$B11 -> #VALUE! | XF11: =XE11*$B11 -> #VALUE! | XH11: =XG11*$B11 -> #VALUE! | XJ11: =XI11*$B11 -> #VALUE! | XL11: =XK11*$B11 -> #VALUE! | XN11: =係数マスタ!$A$7 -> 4 | XO11: =係数マスタ!$B7 | XQ11: =XP11*$B11 -> #VALUE! | XS11: =XR11*$B11 -> #VALUE! | XU11: =XT11*$B11 -> #VALUE! | XW11: =XV11*$B11 -> #VALUE! | XY11: =XX11*$B11 -> #VALUE!
A12: =係数マスタ!$A$8 -> 5 | B12: =係数マスタ!$B8 | D12: =C12*$B12 -> #VALUE! | F12: =E12*$B12 -> #VALUE! | H12: =G12*$B12 -> #VALUE! | J12: =I12*$B12 -> #VALUE! | L12: =K12*$B12 -> #VALUE! | N12: =係数マスタ!$A$8 -> 5 | O12: =係数マスタ!$B8 | Q12: =P12*$B12 -> #VALUE! | S12: =R12*$B12 -> #VALUE! | U12: =T12*$B12 -> #VALUE! | W12: =V12*$B12 -> #VALUE! | Y12: =X12*$B12 -> #VALUE! | AA12: =係数マスタ!$A$8 -> 5 | AB12: =係数マスタ!$B8 | AD12: =AC12*$B12 -> #VALUE! | AF12: =AE12*$B12 -> #VALUE! | AH12: =AG12*$B12 -> #VALUE! | AJ12: =AI12*$B12 -> #VALUE! | AL12: =AK12*$B12 -> #VALUE! | AN12: =係数マスタ!$A$8 -> 5 | AO12: =係数マスタ!$B8 | AQ12: =AP12*$B12 -> #VALUE! | AS12: =AR12*$B12 -> #VALUE! | AU12: =AT12*$B12 -> #VALUE! | AW12: =AV12*$B12 -> #VALUE! | AY12: =AX12*$B12 -> #VALUE! | BA12: =係数マスタ!$A$8 -> 5 | BB12: =係数マスタ!$B8 | BD12: =BC12*$B12 -> #VALUE! | BF12: =BE12*$B12 -> #VALUE! | BH12: =BG12*$B12 -> #VALUE! | BJ12: =BI12*$B12 -> #VALUE! | BL12: =BK12*$B12 -> #VALUE! | BN12: =係数マスタ!$A$8 -> 5 | BO12: =係数マスタ!$B8 | BQ12: =BP12*$B12 -> #VALUE! | BS12: =BR12*$B12 -> #VALUE! | BU12: =BT12*$B12 -> #VALUE! | BW12: =BV12*$B12 -> #VALUE! | BY12: =BX12*$B12 -> #VALUE! | CA12: =係数マスタ!$A$8 -> 5 | CB12: =係数マスタ!$B8 | CD12: =CC12*$B12 -> #VALUE! | CF12: =CE12*$B12 -> #VALUE! | CH12: =CG12*$B12 -> #VALUE! | CJ12: =CI12*$B12 -> #VALUE! | CL12: =CK12*$B12 -> #VALUE! | CN12: =係数マスタ!$A$8 -> 5 | CO12: =係数マスタ!$B8 | CQ12: =CP12*$B12 -> #VALUE! | CS12: =CR12*$B12 -> #VALUE! | CU12: =CT12*$B12 -> #VALUE! | CW12: =CV12*$B12 -> #VALUE! | CY12: =CX12*$B12 -> #VALUE! | DA12: =係数マスタ!$A$8 -> 5 | DB12: =係数マスタ!$B8 | DD12: =DC12*$B12 -> #VALUE! | DF12: =DE12*$B12 -> #VALUE! | DH12: =DG12*$B12 -> #VALUE! | DJ12: =DI12*$B12 -> #VALUE! | DL12: =DK12*$B12 -> #VALUE! | DN12: =係数マスタ!$A$8 -> 5 | DO12: =係数マスタ!$B8 | DQ12: =DP12*$B12 -> #VALUE! | DS12: =DR12*$B12 -> #VALUE! | DU12: =DT12*$B12 -> #VALUE! | DW12: =DV12*$B12 -> #VALUE! | DY12: =DX12*$B12 -> #VALUE! | EA12: =係数マスタ!$A$8 -> 5 | EB12: =係数マスタ!$B8 | ED12: =EC12*$B12 -> #VALUE! | EF12: =EE12*$B12 -> #VALUE! | EH12: =EG12*$B12 -> #VALUE! | EJ12: =EI12*$B12 -> #VALUE! | EL12: =EK12*$B12 -> #VALUE! | EN12: =係数マスタ!$A$8 -> 5 | EO12: =係数マスタ!$B8 | EQ12: =EP12*$B12 -> #VALUE! | ES12: =ER12*$B12 -> #VALUE! | EU12: =ET12*$B12 -> #VALUE! | EW12: =EV12*$B12 -> #VALUE! | EY12: =EX12*$B12 -> #VALUE! | FA12: =係数マスタ!$A$8 -> 5 | FB12: =係数マスタ!$B8 | FD12: =FC12*$B12 -> #VALUE! | FF12: =FE12*$B12 -> #VALUE! | FH12: =FG12*$B12 -> #VALUE! | FJ12: =FI12*$B12 -> #VALUE! | FL12: =FK12*$B12 -> #VALUE! | FN12: =係数マスタ!$A$8 -> 5 | FO12: =係数マスタ!$B8 | FQ12: =FP12*$B12 -> #VALUE! | FS12: =FR12*$B12 -> #VALUE! | FU12: =FT12*$B12 -> #VALUE! | FW12: =FV12*$B12 -> #VALUE! | FY12: =FX12*$B12 -> #VALUE! | GA12: =係数マスタ!$A$8 -> 5 | GB12: =係数マスタ!$B8 | GD12: =GC12*$B12 -> #VALUE! | GF12: =GE12*$B12 -> #VALUE! | GH12: =GG12*$B12 -> #VALUE! | GJ12: =GI12*$B12 -> #VALUE! | GL12: =GK12*$B12 -> #VALUE! | GN12: =係数マスタ!$A$8 -> 5 | GO12: =係数マスタ!$B8 | GQ12: =GP12*$B12 -> #VALUE! | GS12: =GR12*$B12 -> #VALUE! | GU12: =GT12*$B12 -> #VALUE! | GW12: =GV12*$B12 -> #VALUE! | GY12: =GX12*$B12 -> #VALUE! | HA12: =係数マスタ!$A$8 -> 5 | HB12: =係数マスタ!$B8 | HD12: =HC12*$B12 -> #VALUE! | HF12: =HE12*$B12 -> #VALUE! | HH12: =HG12*$B12 -> #VALUE! | HJ12: =HI12*$B12 -> #VALUE! | HL12: =HK12*$B12 -> #VALUE! | HN12: =係数マスタ!$A$8 -> 5 | HO12: =係数マスタ!$B8 | HQ12: =HP12*$B12 -> #VALUE! | HS12: =HR12*$B12 -> #VALUE! | HU12: =HT12*$B12 -> #VALUE! | HW12: =HV12*$B12 -> #VALUE! | HY12: =HX12*$B12 -> #VALUE! | IA12: =係数マスタ!$A$8 -> 5 | IB12: =係数マスタ!$B8 | ID12: =IC12*$B12 -> #VALUE! | IF12: =IE12*$B12 -> #VALUE! | IH12: =IG12*$B12 -> #VALUE! | IJ12: =II12*$B12 -> #VALUE! | IL12: =IK12*$B12 -> #VALUE! | IN12: =係数マスタ!$A$8 -> 5 | IO12: =係数マスタ!$B8 | IQ12: =IP12*$B12 -> #VALUE! | IS12: =IR12*$B12 -> #VALUE! | IU12: =IT12*$B12 -> #VALUE! | IW12: =IV12*$B12 -> #VALUE! | IY12: =IX12*$B12 -> #VALUE! | JA12: =係数マスタ!$A$8 -> 5 | JB12: =係数マスタ!$B8 | JD12: =JC12*$B12 -> #VALUE! | JF12: =JE12*$B12 -> #VALUE! | JH12: =JG12*$B12 -> #VALUE! | JJ12: =JI12*$B12 -> #VALUE! | JL12: =JK12*$B12 -> #VALUE! | JN12: =係数マスタ!$A$8 -> 5 | JO12: =係数マスタ!$B8 | JQ12: =JP12*$B12 -> #VALUE! | JS12: =JR12*$B12 -> #VALUE! | JU12: =JT12*$B12 -> #VALUE! | JW12: =JV12*$B12 -> #VALUE! | JY12: =JX12*$B12 -> #VALUE! | KA12: =係数マスタ!$A$8 -> 5 | KB12: =係数マスタ!$B8 | KD12: =KC12*$B12 -> #VALUE! | KF12: =KE12*$B12 -> #VALUE! | KH12: =KG12*$B12 -> #VALUE! | KJ12: =KI12*$B12 -> #VALUE! | KL12: =KK12*$B12 -> #VALUE! | KN12: =係数マスタ!$A$8 -> 5 | KO12: =係数マスタ!$B8 | KQ12: =KP12*$B12 -> #VALUE! | KS12: =KR12*$B12 -> #VALUE! | KU12: =KT12*$B12 -> #VALUE! | KW12: =KV12*$B12 -> #VALUE! | KY12: =KX12*$B12 -> #VALUE! | LA12: =係数マスタ!$A$8 -> 5 | LB12: =係数マスタ!$B8 | LD12: =LC12*$B12 -> #VALUE! | LF12: =LE12*$B12 -> #VALUE! | LH12: =LG12*$B12 -> #VALUE! | LJ12: =LI12*$B12 -> #VALUE! | LL12: =LK12*$B12 -> #VALUE! | LN12: =係数マスタ!$A$8 -> 5 | LO12: =係数マスタ!$B8 | LQ12: =LP12*$B12 -> #VALUE! | LS12: =LR12*$B12 -> #VALUE! | LU12: =LT12*$B12 -> #VALUE! | LW12: =LV12*$B12 -> #VALUE! | LY12: =LX12*$B12 -> #VALUE! | MA12: =係数マスタ!$A$8 -> 5 | MB12: =係数マスタ!$B8 | MD12: =MC12*$B12 -> #VALUE! | MF12: =ME12*$B12 -> #VALUE! | MH12: =MG12*$B12 -> #VALUE! | MJ12: =MI12*$B12 -> #VALUE! | ML12: =MK12*$B12 -> #VALUE! | MN12: =係数マスタ!$A$8 -> 5 | MO12: =係数マスタ!$B8 | MQ12: =MP12*$B12 -> #VALUE! | MS12: =MR12*$B12 -> #VALUE! | MU12: =MT12*$B12 -> #VALUE! | MW12: =MV12*$B12 -> #VALUE! | MY12: =MX12*$B12 -> #VALUE! | NA12: =係数マスタ!$A$8 -> 5 | NB12: =係数マスタ!$B8 | ND12: =NC12*$B12 -> #VALUE! | NF12: =NE12*$B12 -> #VALUE! | NH12: =NG12*$B12 -> #VALUE! | NJ12: =NI12*$B12 -> #VALUE! | NL12: =NK12*$B12 -> #VALUE! | NN12: =係数マスタ!$A$8 -> 5 | NO12: =係数マスタ!$B8 | NQ12: =NP12*$B12 -> #VALUE! | NS12: =NR12*$B12 -> #VALUE! | NU12: =NT12*$B12 -> #VALUE! | NW12: =NV12*$B12 -> #VALUE! | NY12: =NX12*$B12 -> #VALUE! | OA12: =係数マスタ!$A$8 -> 5 | OB12: =係数マスタ!$B8 | OD12: =OC12*$B12 -> #VALUE! | OF12: =OE12*$B12 -> #VALUE! | OH12: =OG12*$B12 -> #VALUE! | OJ12: =OI12*$B12 -> #VALUE! | OL12: =OK12*$B12 -> #VALUE! | ON12: =係数マスタ!$A$8 -> 5 | OO12: =係数マスタ!$B8 | OQ12: =OP12*$B12 -> #VALUE! | OS12: =OR12*$B12 -> #VALUE! | OU12: =OT12*$B12 -> #VALUE! | OW12: =OV12*$B12 -> #VALUE! | OY12: =OX12*$B12 -> #VALUE! | PA12: =係数マスタ!$A$8 -> 5 | PB12: =係数マスタ!$B8 | PD12: =PC12*$B12 -> #VALUE! | PF12: =PE12*$B12 -> #VALUE! | PH12: =PG12*$B12 -> #VALUE! | PJ12: =PI12*$B12 -> #VALUE! | PL12: =PK12*$B12 -> #VALUE! | PN12: =係数マスタ!$A$8 -> 5 | PO12: =係数マスタ!$B8 | PQ12: =PP12*$B12 -> #VALUE! | PS12: =PR12*$B12 -> #VALUE! | PU12: =PT12*$B12 -> #VALUE! | PW12: =PV12*$B12 -> #VALUE! | PY12: =PX12*$B12 -> #VALUE! | QA12: =係数マスタ!$A$8 -> 5 | QB12: =係数マスタ!$B8 | QD12: =QC12*$B12 -> #VALUE! | QF12: =QE12*$B12 -> #VALUE! | QH12: =QG12*$B12 -> #VALUE! | QJ12: =QI12*$B12 -> #VALUE! | QL12: =QK12*$B12 -> #VALUE! | QN12: =係数マスタ!$A$8 -> 5 | QO12: =係数マスタ!$B8 | QQ12: =QP12*$B12 -> #VALUE! | QS12: =QR12*$B12 -> #VALUE! | QU12: =QT12*$B12 -> #VALUE! | QW12: =QV12*$B12 -> #VALUE! | QY12: =QX12*$B12 -> #VALUE! | RA12: =係数マスタ!$A$8 -> 5 | RB12: =係数マスタ!$B8 | RD12: =RC12*$B12 -> #VALUE! | RF12: =RE12*$B12 -> #VALUE! | RH12: =RG12*$B12 -> #VALUE! | RJ12: =RI12*$B12 -> #VALUE! | RL12: =RK12*$B12 -> #VALUE! | RN12: =係数マスタ!$A$8 -> 5 | RO12: =係数マスタ!$B8 | RQ12: =RP12*$B12 -> #VALUE! | RS12: =RR12*$B12 -> #VALUE! | RU12: =RT12*$B12 -> #VALUE! | RW12: =RV12*$B12 -> #VALUE! | RY12: =RX12*$B12 -> #VALUE! | SA12: =係数マスタ!$A$8 -> 5 | SB12: =係数マスタ!$B8 | SD12: =SC12*$B12 -> #VALUE! | SF12: =SE12*$B12 -> #VALUE! | SH12: =SG12*$B12 -> #VALUE! | SJ12: =SI12*$B12 -> #VALUE! | SL12: =SK12*$B12 -> #VALUE! | SN12: =係数マスタ!$A$8 -> 5 | SO12: =係数マスタ!$B8 | SQ12: =SP12*$B12 -> #VALUE! | SS12: =SR12*$B12 -> #VALUE! | SU12: =ST12*$B12 -> #VALUE! | SW12: =SV12*$B12 -> #VALUE! | SY12: =SX12*$B12 -> #VALUE! | TA12: =係数マスタ!$A$8 -> 5 | TB12: =係数マスタ!$B8 | TD12: =TC12*$B12 -> #VALUE! | TF12: =TE12*$B12 -> #VALUE! | TH12: =TG12*$B12 -> #VALUE! | TJ12: =TI12*$B12 -> #VALUE! | TL12: =TK12*$B12 -> #VALUE! | TN12: =係数マスタ!$A$8 -> 5 | TO12: =係数マスタ!$B8 | TQ12: =TP12*$B12 -> #VALUE! | TS12: =TR12*$B12 -> #VALUE! | TU12: =TT12*$B12 -> #VALUE! | TW12: =TV12*$B12 -> #VALUE! | TY12: =TX12*$B12 -> #VALUE! | UA12: =係数マスタ!$A$8 -> 5 | UB12: =係数マスタ!$B8 | UD12: =UC12*$B12 -> #VALUE! | UF12: =UE12*$B12 -> #VALUE! | UH12: =UG12*$B12 -> #VALUE! | UJ12: =UI12*$B12 -> #VALUE! | UL12: =UK12*$B12 -> #VALUE! | UN12: =係数マスタ!$A$8 -> 5 | UO12: =係数マスタ!$B8 | UQ12: =UP12*$B12 -> #VALUE! | US12: =UR12*$B12 -> #VALUE! | UU12: =UT12*$B12 -> #VALUE! | UW12: =UV12*$B12 -> #VALUE! | UY12: =UX12*$B12 -> #VALUE! | VA12: =係数マスタ!$A$8 -> 5 | VB12: =係数マスタ!$B8 | VD12: =VC12*$B12 -> #VALUE! | VF12: =VE12*$B12 -> #VALUE! | VH12: =VG12*$B12 -> #VALUE! | VJ12: =VI12*$B12 -> #VALUE! | VL12: =VK12*$B12 -> #VALUE! | VN12: =係数マスタ!$A$8 -> 5 | VO12: =係数マスタ!$B8 | VQ12: =VP12*$B12 -> #VALUE! | VS12: =VR12*$B12 -> #VALUE! | VU12: =VT12*$B12 -> #VALUE! | VW12: =VV12*$B12 -> #VALUE! | VY12: =VX12*$B12 -> #VALUE! | WA12: =係数マスタ!$A$8 -> 5 | WB12: =係数マスタ!$B8 | WD12: =WC12*$B12 -> #VALUE! | WF12: =WE12*$B12 -> #VALUE! | WH12: =WG12*$B12 -> #VALUE! | WJ12: =WI12*$B12 -> #VALUE! | WL12: =WK12*$B12 -> #VALUE! | WN12: =係数マスタ!$A$8 -> 5 | WO12: =係数マスタ!$B8 | WQ12: =WP12*$B12 -> #VALUE! | WS12: =WR12*$B12 -> #VALUE! | WU12: =WT12*$B12 -> #VALUE! | WW12: =WV12*$B12 -> #VALUE! | WY12: =WX12*$B12 -> #VALUE! | XA12: =係数マスタ!$A$8 -> 5 | XB12: =係数マスタ!$B8 | XD12: =XC12*$B12 -> #VALUE! | XF12: =XE12*$B12 -> #VALUE! | XH12: =XG12*$B12 -> #VALUE! | XJ12: =XI12*$B12 -> #VALUE! | XL12: =XK12*$B12 -> #VALUE! | XN12: =係数マスタ!$A$8 -> 5 | XO12: =係数マスタ!$B8 | XQ12: =XP12*$B12 -> #VALUE! | XS12: =XR12*$B12 -> #VALUE! | XU12: =XT12*$B12 -> #VALUE! | XW12: =XV12*$B12 -> #VALUE! | XY12: =XX12*$B12 -> #VALUE!
A13: =係数マスタ!$A$9 -> 6 | B13: =係数マスタ!$B9 | D13: =C13*$B13 -> #VALUE! | F13: =E13*$B13 -> #VALUE! | H13: =G13*$B13 -> #VALUE! | J13: =I13*$B13 -> #VALUE! | L13: =K13*$B13 -> #VALUE! | N13: =係数マスタ!$A$9 -> 6 | O13: =係数マスタ!$B9 | Q13: =P13*$B13 -> #VALUE! | S13: =R13*$B13 -> #VALUE! | U13: =T13*$B13 -> #VALUE! | W13: =V13*$B13 -> #VALUE! | Y13: =X13*$B13 -> #VALUE! | AA13: =係数マスタ!$A$9 -> 6 | AB13: =係数マスタ!$B9 | AD13: =AC13*$B13 -> #VALUE! | AF13: =AE13*$B13 -> #VALUE! | AH13: =AG13*$B13 -> #VALUE! | AJ13: =AI13*$B13 -> #VALUE! | AL13: =AK13*$B13 -> #VALUE! | AN13: =係数マスタ!$A$9 -> 6 | AO13: =係数マスタ!$B9 | AQ13: =AP13*$B13 -> #VALUE! | AS13: =AR13*$B13 -> #VALUE! | AU13: =AT13*$B13 -> #VALUE! | AW13: =AV13*$B13 -> #VALUE! | AY13: =AX13*$B13 -> #VALUE! | BA13: =係数マスタ!$A$9 -> 6 | BB13: =係数マスタ!$B9 | BD13: =BC13*$B13 -> #VALUE! | BF13: =BE13*$B13 -> #VALUE! | BH13: =BG13*$B13 -> #VALUE! | BJ13: =BI13*$B13 -> #VALUE! | BL13: =BK13*$B13 -> #VALUE! | BN13: =係数マスタ!$A$9 -> 6 | BO13: =係数マスタ!$B9 | BQ13: =BP13*$B13 -> #VALUE! | BS13: =BR13*$B13 -> #VALUE! | BU13: =BT13*$B13 -> #VALUE! | BW13: =BV13*$B13 -> #VALUE! | BY13: =BX13*$B13 -> #VALUE! | CA13: =係数マスタ!$A$9 -> 6 | CB13: =係数マスタ!$B9 | CD13: =CC13*$B13 -> #VALUE! | CF13: =CE13*$B13 -> #VALUE! | CH13: =CG13*$B13 -> #VALUE! | CJ13: =CI13*$B13 -> #VALUE! | CL13: =CK13*$B13 -> #VALUE! | CN13: =係数マスタ!$A$9 -> 6 | CO13: =係数マスタ!$B9 | CQ13: =CP13*$B13 -> #VALUE! | CS13: =CR13*$B13 -> #VALUE! | CU13: =CT13*$B13 -> #VALUE! | CW13: =CV13*$B13 -> #VALUE! | CY13: =CX13*$B13 -> #VALUE! | DA13: =係数マスタ!$A$9 -> 6 | DB13: =係数マスタ!$B9 | DD13: =DC13*$B13 -> #VALUE! | DF13: =DE13*$B13 -> #VALUE! | DH13: =DG13*$B13 -> #VALUE! | DJ13: =DI13*$B13 -> #VALUE! | DL13: =DK13*$B13 -> #VALUE! | DN13: =係数マスタ!$A$9 -> 6 | DO13: =係数マスタ!$B9 | DQ13: =DP13*$B13 -> #VALUE! | DS13: =DR13*$B13 -> #VALUE! | DU13: =DT13*$B13 -> #VALUE! | DW13: =DV13*$B13 -> #VALUE! | DY13: =DX13*$B13 -> #VALUE! | EA13: =係数マスタ!$A$9 -> 6 | EB13: =係数マスタ!$B9 | ED13: =EC13*$B13 -> #VALUE! | EF13: =EE13*$B13 -> #VALUE! | EH13: =EG13*$B13 -> #VALUE! | EJ13: =EI13*$B13 -> #VALUE! | EL13: =EK13*$B13 -> #VALUE! | EN13: =係数マスタ!$A$9 -> 6 | EO13: =係数マスタ!$B9 | EQ13: =EP13*$B13 -> #VALUE! | ES13: =ER13*$B13 -> #VALUE! | EU13: =ET13*$B13 -> #VALUE! | EW13: =EV13*$B13 -> #VALUE! | EY13: =EX13*$B13 -> #VALUE! | FA13: =係数マスタ!$A$9 -> 6 | FB13: =係数マスタ!$B9 | FD13: =FC13*$B13 -> #VALUE! | FF13: =FE13*$B13 -> #VALUE! | FH13: =FG13*$B13 -> #VALUE! | FJ13: =FI13*$B13 -> #VALUE! | FL13: =FK13*$B13 -> #VALUE! | FN13: =係数マスタ!$A$9 -> 6 | FO13: =係数マスタ!$B9 | FQ13: =FP13*$B13 -> #VALUE! | FS13: =FR13*$B13 -> #VALUE! | FU13: =FT13*$B13 -> #VALUE! | FW13: =FV13*$B13 -> #VALUE! | FY13: =FX13*$B13 -> #VALUE! | GA13: =係数マスタ!$A$9 -> 6 | GB13: =係数マスタ!$B9 | GD13: =GC13*$B13 -> #VALUE! | GF13: =GE13*$B13 -> #VALUE! | GH13: =GG13*$B13 -> #VALUE! | GJ13: =GI13*$B13 -> #VALUE! | GL13: =GK13*$B13 -> #VALUE! | GN13: =係数マスタ!$A$9 -> 6 | GO13: =係数マスタ!$B9 | GQ13: =GP13*$B13 -> #VALUE! | GS13: =GR13*$B13 -> #VALUE! | GU13: =GT13*$B13 -> #VALUE! | GW13: =GV13*$B13 -> #VALUE! | GY13: =GX13*$B13 -> #VALUE! | HA13: =係数マスタ!$A$9 -> 6 | HB13: =係数マスタ!$B9 | HD13: =HC13*$B13 -> #VALUE! | HF13: =HE13*$B13 -> #VALUE! | HH13: =HG13*$B13 -> #VALUE! | HJ13: =HI13*$B13 -> #VALUE! | HL13: =HK13*$B13 -> #VALUE! | HN13: =係数マスタ!$A$9 -> 6 | HO13: =係数マスタ!$B9 | HQ13: =HP13*$B13 -> #VALUE! | HS13: =HR13*$B13 -> #VALUE! | HU13: =HT13*$B13 -> #VALUE! | HW13: =HV13*$B13 -> #VALUE! | HY13: =HX13*$B13 -> #VALUE! | IA13: =係数マスタ!$A$9 -> 6 | IB13: =係数マスタ!$B9 | ID13: =IC13*$B13 -> #VALUE! | IF13: =IE13*$B13 -> #VALUE! | IH13: =IG13*$B13 -> #VALUE! | IJ13: =II13*$B13 -> #VALUE! | IL13: =IK13*$B13 -> #VALUE! | IN13: =係数マスタ!$A$9 -> 6 | IO13: =係数マスタ!$B9 | IQ13: =IP13*$B13 -> #VALUE! | IS13: =IR13*$B13 -> #VALUE! | IU13: =IT13*$B13 -> #VALUE! | IW13: =IV13*$B13 -> #VALUE! | IY13: =IX13*$B13 -> #VALUE! | JA13: =係数マスタ!$A$9 -> 6 | JB13: =係数マスタ!$B9 | JD13: =JC13*$B13 -> #VALUE! | JF13: =JE13*$B13 -> #VALUE! | JH13: =JG13*$B13 -> #VALUE! | JJ13: =JI13*$B13 -> #VALUE! | JL13: =JK13*$B13 -> #VALUE! | JN13: =係数マスタ!$A$9 -> 6 | JO13: =係数マスタ!$B9 | JQ13: =JP13*$B13 -> #VALUE! | JS13: =JR13*$B13 -> #VALUE! | JU13: =JT13*$B13 -> #VALUE! | JW13: =JV13*$B13 -> #VALUE! | JY13: =JX13*$B13 -> #VALUE! | KA13: =係数マスタ!$A$9 -> 6 | KB13: =係数マスタ!$B9 | KD13: =KC13*$B13 -> #VALUE! | KF13: =KE13*$B13 -> #VALUE! | KH13: =KG13*$B13 -> #VALUE! | KJ13: =KI13*$B13 -> #VALUE! | KL13: =KK13*$B13 -> #VALUE! | KN13: =係数マスタ!$A$9 -> 6 | KO13: =係数マスタ!$B9 | KQ13: =KP13*$B13 -> #VALUE! | KS13: =KR13*$B13 -> #VALUE! | KU13: =KT13*$B13 -> #VALUE! | KW13: =KV13*$B13 -> #VALUE! | KY13: =KX13*$B13 -> #VALUE! | LA13: =係数マスタ!$A$9 -> 6 | LB13: =係数マスタ!$B9 | LD13: =LC13*$B13 -> #VALUE! | LF13: =LE13*$B13 -> #VALUE! | LH13: =LG13*$B13 -> #VALUE! | LJ13: =LI13*$B13 -> #VALUE! | LL13: =LK13*$B13 -> #VALUE! | LN13: =係数マスタ!$A$9 -> 6 | LO13: =係数マスタ!$B9 | LQ13: =LP13*$B13 -> #VALUE! | LS13: =LR13*$B13 -> #VALUE! | LU13: =LT13*$B13 -> #VALUE! | LW13: =LV13*$B13 -> #VALUE! | LY13: =LX13*$B13 -> #VALUE! | MA13: =係数マスタ!$A$9 -> 6 | MB13: =係数マスタ!$B9 | MD13: =MC13*$B13 -> #VALUE! | MF13: =ME13*$B13 -> #VALUE! | MH13: =MG13*$B13 -> #VALUE! | MJ13: =MI13*$B13 -> #VALUE! | ML13: =MK13*$B13 -> #VALUE! | MN13: =係数マスタ!$A$9 -> 6 | MO13: =係数マスタ!$B9 | MQ13: =MP13*$B13 -> #VALUE! | MS13: =MR13*$B13 -> #VALUE! | MU13: =MT13*$B13 -> #VALUE! | MW13: =MV13*$B13 -> #VALUE! | MY13: =MX13*$B13 -> #VALUE! | NA13: =係数マスタ!$A$9 -> 6 | NB13: =係数マスタ!$B9 | ND13: =NC13*$B13 -> #VALUE! | NF13: =NE13*$B13 -> #VALUE! | NH13: =NG13*$B13 -> #VALUE! | NJ13: =NI13*$B13 -> #VALUE! | NL13: =NK13*$B13 -> #VALUE! | NN13: =係数マスタ!$A$9 -> 6 | NO13: =係数マスタ!$B9 | NQ13: =NP13*$B13 -> #VALUE! | NS13: =NR13*$B13 -> #VALUE! | NU13: =NT13*$B13 -> #VALUE! | NW13: =NV13*$B13 -> #VALUE! | NY13: =NX13*$B13 -> #VALUE! | OA13: =係数マスタ!$A$9 -> 6 | OB13: =係数マスタ!$B9 | OD13: =OC13*$B13 -> #VALUE! | OF13: =OE13*$B13 -> #VALUE! | OH13: =OG13*$B13 -> #VALUE! | OJ13: =OI13*$B13 -> #VALUE! | OL13: =OK13*$B13 -> #VALUE! | ON13: =係数マスタ!$A$9 -> 6 | OO13: =係数マスタ!$B9 | OQ13: =OP13*$B13 -> #VALUE! | OS13: =OR13*$B13 -> #VALUE! | OU13: =OT13*$B13 -> #VALUE! | OW13: =OV13*$B13 -> #VALUE! | OY13: =OX13*$B13 -> #VALUE! | PA13: =係数マスタ!$A$9 -> 6 | PB13: =係数マスタ!$B9 | PD13: =PC13*$B13 -> #VALUE! | PF13: =PE13*$B13 -> #VALUE! | PH13: =PG13*$B13 -> #VALUE! | PJ13: =PI13*$B13 -> #VALUE! | PL13: =PK13*$B13 -> #VALUE! | PN13: =係数マスタ!$A$9 -> 6 | PO13: =係数マスタ!$B9 | PQ13: =PP13*$B13 -> #VALUE! | PS13: =PR13*$B13 -> #VALUE! | PU13: =PT13*$B13 -> #VALUE! | PW13: =PV13*$B13 -> #VALUE! | PY13: =PX13*$B13 -> #VALUE! | QA13: =係数マスタ!$A$9 -> 6 | QB13: =係数マスタ!$B9 | QD13: =QC13*$B13 -> #VALUE! | QF13: =QE13*$B13 -> #VALUE! | QH13: =QG13*$B13 -> #VALUE! | QJ13: =QI13*$B13 -> #VALUE! | QL13: =QK13*$B13 -> #VALUE! | QN13: =係数マスタ!$A$9 -> 6 | QO13: =係数マスタ!$B9 | QQ13: =QP13*$B13 -> #VALUE! | QS13: =QR13*$B13 -> #VALUE! | QU13: =QT13*$B13 -> #VALUE! | QW13: =QV13*$B13 -> #VALUE! | QY13: =QX13*$B13 -> #VALUE! | RA13: =係数マスタ!$A$9 -> 6 | RB13: =係数マスタ!$B9 | RD13: =RC13*$B13 -> #VALUE! | RF13: =RE13*$B13 -> #VALUE! | RH13: =RG13*$B13 -> #VALUE! | RJ13: =RI13*$B13 -> #VALUE! | RL13: =RK13*$B13 -> #VALUE! | RN13: =係数マスタ!$A$9 -> 6 | RO13: =係数マスタ!$B9 | RQ13: =RP13*$B13 -> #VALUE! | RS13: =RR13*$B13 -> #VALUE! | RU13: =RT13*$B13 -> #VALUE! | RW13: =RV13*$B13 -> #VALUE! | RY13: =RX13*$B13 -> #VALUE! | SA13: =係数マスタ!$A$9 -> 6 | SB13: =係数マスタ!$B9 | SD13: =SC13*$B13 -> #VALUE! | SF13: =SE13*$B13 -> #VALUE! | SH13: =SG13*$B13 -> #VALUE! | SJ13: =SI13*$B13 -> #VALUE! | SL13: =SK13*$B13 -> #VALUE! | SN13: =係数マスタ!$A$9 -> 6 | SO13: =係数マスタ!$B9 | SQ13: =SP13*$B13 -> #VALUE! | SS13: =SR13*$B13 -> #VALUE! | SU13: =ST13*$B13 -> #VALUE! | SW13: =SV13*$B13 -> #VALUE! | SY13: =SX13*$B13 -> #VALUE! | TA13: =係数マスタ!$A$9 -> 6 | TB13: =係数マスタ!$B9 | TD13: =TC13*$B13 -> #VALUE! | TF13: =TE13*$B13 -> #VALUE! | TH13: =TG13*$B13 -> #VALUE! | TJ13: =TI13*$B13 -> #VALUE! | TL13: =TK13*$B13 -> #VALUE! | TN13: =係数マスタ!$A$9 -> 6 | TO13: =係数マスタ!$B9 | TQ13: =TP13*$B13 -> #VALUE! | TS13: =TR13*$B13 -> #VALUE! | TU13: =TT13*$B13 -> #VALUE! | TW13: =TV13*$B13 -> #VALUE! | TY13: =TX13*$B13 -> #VALUE! | UA13: =係数マスタ!$A$9 -> 6 | UB13: =係数マスタ!$B9 | UD13: =UC13*$B13 -> #VALUE! | UF13: =UE13*$B13 -> #VALUE! | UH13: =UG13*$B13 -> #VALUE! | UJ13: =UI13*$B13 -> #VALUE! | UL13: =UK13*$B13 -> #VALUE! | UN13: =係数マスタ!$A$9 -> 6 | UO13: =係数マスタ!$B9 | UQ13: =UP13*$B13 -> #VALUE! | US13: =UR13*$B13 -> #VALUE! | UU13: =UT13*$B13 -> #VALUE! | UW13: =UV13*$B13 -> #VALUE! | UY13: =UX13*$B13 -> #VALUE! | VA13: =係数マスタ!$A$9 -> 6 | VB13: =係数マスタ!$B9 | VD13: =VC13*$B13 -> #VALUE! | VF13: =VE13*$B13 -> #VALUE! | VH13: =VG13*$B13 -> #VALUE! | VJ13: =VI13*$B13 -> #VALUE! | VL13: =VK13*$B13 -> #VALUE! | VN13: =係数マスタ!$A$9 -> 6 | VO13: =係数マスタ!$B9 | VQ13: =VP13*$B13 -> #VALUE! | VS13: =VR13*$B13 -> #VALUE! | VU13: =VT13*$B13 -> #VALUE! | VW13: =VV13*$B13 -> #VALUE! | VY13: =VX13*$B13 -> #VALUE! | WA13: =係数マスタ!$A$9 -> 6 | WB13: =係数マスタ!$B9 | WD13: =WC13*$B13 -> #VALUE! | WF13: =WE13*$B13 -> #VALUE! | WH13: =WG13*$B13 -> #VALUE! | WJ13: =WI13*$B13 -> #VALUE! | WL13: =WK13*$B13 -> #VALUE! | WN13: =係数マスタ!$A$9 -> 6 | WO13: =係数マスタ!$B9 | WQ13: =WP13*$B13 -> #VALUE! | WS13: =WR13*$B13 -> #VALUE! | WU13: =WT13*$B13 -> #VALUE! | WW13: =WV13*$B13 -> #VALUE! | WY13: =WX13*$B13 -> #VALUE! | XA13: =係数マスタ!$A$9 -> 6 | XB13: =係数マスタ!$B9 | XD13: =XC13*$B13 -> #VALUE! | XF13: =XE13*$B13 -> #VALUE! | XH13: =XG13*$B13 -> #VALUE! | XJ13: =XI13*$B13 -> #VALUE! | XL13: =XK13*$B13 -> #VALUE! | XN13: =係数マスタ!$A$9 -> 6 | XO13: =係数マスタ!$B9 | XQ13: =XP13*$B13 -> #VALUE! | XS13: =XR13*$B13 -> #VALUE! | XU13: =XT13*$B13 -> #VALUE! | XW13: =XV13*$B13 -> #VALUE! | XY13: =XX13*$B13 -> #VALUE!
A14: =係数マスタ!$A$10 -> 7 | B14: =係数マスタ!$B10 | D14: =C14*$B14 -> #VALUE! | F14: =E14*$B14 -> #VALUE! | H14: =G14*$B14 -> #VALUE! | J14: =I14*$B14 -> #VALUE! | L14: =K14*$B14 -> #VALUE! | N14: =係数マスタ!$A$10 -> 7 | O14: =係数マスタ!$B10 | Q14: =P14*$B14 -> #VALUE! | S14: =R14*$B14 -> #VALUE! | U14: =T14*$B14 -> #VALUE! | W14: =V14*$B14 -> #VALUE! | Y14: =X14*$B14 -> #VALUE! | AA14: =係数マスタ!$A$10 -> 7 | AB14: =係数マスタ!$B10 | AD14: =AC14*$B14 -> #VALUE! | AF14: =AE14*$B14 -> #VALUE! | AH14: =AG14*$B14 -> #VALUE! | AJ14: =AI14*$B14 -> #VALUE! | AL14: =AK14*$B14 -> #VALUE! | AN14: =係数マスタ!$A$10 -> 7 | AO14: =係数マスタ!$B10 | AQ14: =AP14*$B14 -> #VALUE! | AS14: =AR14*$B14 -> #VALUE! | AU14: =AT14*$B14 -> #VALUE! | AW14: =AV14*$B14 -> #VALUE! | AY14: =AX14*$B14 -> #VALUE! | BA14: =係数マスタ!$A$10 -> 7 | BB14: =係数マスタ!$B10 | BD14: =BC14*$B14 -> #VALUE! | BF14: =BE14*$B14 -> #VALUE! | BH14: =BG14*$B14 -> #VALUE! | BJ14: =BI14*$B14 -> #VALUE! | BL14: =BK14*$B14 -> #VALUE! | BN14: =係数マスタ!$A$10 -> 7 | BO14: =係数マスタ!$B10 | BQ14: =BP14*$B14 -> #VALUE! | BS14: =BR14*$B14 -> #VALUE! | BU14: =BT14*$B14 -> #VALUE! | BW14: =BV14*$B14 -> #VALUE! | BY14: =BX14*$B14 -> #VALUE! | CA14: =係数マスタ!$A$10 -> 7 | CB14: =係数マスタ!$B10 | CD14: =CC14*$B14 -> #VALUE! | CF14: =CE14*$B14 -> #VALUE! | CH14: =CG14*$B14 -> #VALUE! | CJ14: =CI14*$B14 -> #VALUE! | CL14: =CK14*$B14 -> #VALUE! | CN14: =係数マスタ!$A$10 -> 7 | CO14: =係数マスタ!$B10 | CQ14: =CP14*$B14 -> #VALUE! | CS14: =CR14*$B14 -> #VALUE! | CU14: =CT14*$B14 -> #VALUE! | CW14: =CV14*$B14 -> #VALUE! | CY14: =CX14*$B14 -> #VALUE! | DA14: =係数マスタ!$A$10 -> 7 | DB14: =係数マスタ!$B10 | DD14: =DC14*$B14 -> #VALUE! | DF14: =DE14*$B14 -> #VALUE! | DH14: =DG14*$B14 -> #VALUE! | DJ14: =DI14*$B14 -> #VALUE! | DL14: =DK14*$B14 -> #VALUE! | DN14: =係数マスタ!$A$10 -> 7 | DO14: =係数マスタ!$B10 | DQ14: =DP14*$B14 -> #VALUE! | DS14: =DR14*$B14 -> #VALUE! | DU14: =DT14*$B14 -> #VALUE! | DW14: =DV14*$B14 -> #VALUE! | DY14: =DX14*$B14 -> #VALUE! | EA14: =係数マスタ!$A$10 -> 7 | EB14: =係数マスタ!$B10 | ED14: =EC14*$B14 -> #VALUE! | EF14: =EE14*$B14 -> #VALUE! | EH14: =EG14*$B14 -> #VALUE! | EJ14: =EI14*$B14 -> #VALUE! | EL14: =EK14*$B14 -> #VALUE! | EN14: =係数マスタ!$A$10 -> 7 | EO14: =係数マスタ!$B10 | EQ14: =EP14*$B14 -> #VALUE! | ES14: =ER14*$B14 -> #VALUE! | EU14: =ET14*$B14 -> #VALUE! | EW14: =EV14*$B14 -> #VALUE! | EY14: =EX14*$B14 -> #VALUE! | FA14: =係数マスタ!$A$10 -> 7 | FB14: =係数マスタ!$B10 | FD14: =FC14*$B14 -> #VALUE! | FF14: =FE14*$B14 -> #VALUE! | FH14: =FG14*$B14 -> #VALUE! | FJ14: =FI14*$B14 -> #VALUE! | FL14: =FK14*$B14 -> #VALUE! | FN14: =係数マスタ!$A$10 -> 7 | FO14: =係数マスタ!$B10 | FQ14: =FP14*$B14 -> #VALUE! | FS14: =FR14*$B14 -> #VALUE! | FU14: =FT14*$B14 -> #VALUE! | FW14: =FV14*$B14 -> #VALUE! | FY14: =FX14*$B14 -> #VALUE! | GA14: =係数マスタ!$A$10 -> 7 | GB14: =係数マスタ!$B10 | GD14: =GC14*$B14 -> #VALUE! | GF14: =GE14*$B14 -> #VALUE! | GH14: =GG14*$B14 -> #VALUE! | GJ14: =GI14*$B14 -> #VALUE! | GL14: =GK14*$B14 -> #VALUE! | GN14: =係数マスタ!$A$10 -> 7 | GO14: =係数マスタ!$B10 | GQ14: =GP14*$B14 -> #VALUE! | GS14: =GR14*$B14 -> #VALUE! | GU14: =GT14*$B14 -> #VALUE! | GW14: =GV14*$B14 -> #VALUE! | GY14: =GX14*$B14 -> #VALUE! | HA14: =係数マスタ!$A$10 -> 7 | HB14: =係数マスタ!$B10 | HD14: =HC14*$B14 -> #VALUE! | HF14: =HE14*$B14 -> #VALUE! | HH14: =HG14*$B14 -> #VALUE! | HJ14: =HI14*$B14 -> #VALUE! | HL14: =HK14*$B14 -> #VALUE! | HN14: =係数マスタ!$A$10 -> 7 | HO14: =係数マスタ!$B10 | HQ14: =HP14*$B14 -> #VALUE! | HS14: =HR14*$B14 -> #VALUE! | HU14: =HT14*$B14 -> #VALUE! | HW14: =HV14*$B14 -> #VALUE! | HY14: =HX14*$B14 -> #VALUE! | IA14: =係数マスタ!$A$10 -> 7 | IB14: =係数マスタ!$B10 | ID14: =IC14*$B14 -> #VALUE! | IF14: =IE14*$B14 -> #VALUE! | IH14: =IG14*$B14 -> #VALUE! | IJ14: =II14*$B14 -> #VALUE! | IL14: =IK14*$B14 -> #VALUE! | IN14: =係数マスタ!$A$10 -> 7 | IO14: =係数マスタ!$B10 | IQ14: =IP14*$B14 -> #VALUE! | IS14: =IR14*$B14 -> #VALUE! | IU14: =IT14*$B14 -> #VALUE! | IW14: =IV14*$B14 -> #VALUE! | IY14: =IX14*$B14 -> #VALUE! | JA14: =係数マスタ!$A$10 -> 7 | JB14: =係数マスタ!$B10 | JD14: =JC14*$B14 -> #VALUE! | JF14: =JE14*$B14 -> #VALUE! | JH14: =JG14*$B14 -> #VALUE! | JJ14: =JI14*$B14 -> #VALUE! | JL14: =JK14*$B14 -> #VALUE! | JN14: =係数マスタ!$A$10 -> 7 | JO14: =係数マスタ!$B10 | JQ14: =JP14*$B14 -> #VALUE! | JS14: =JR14*$B14 -> #VALUE! | JU14: =JT14*$B14 -> #VALUE! | JW14: =JV14*$B14 -> #VALUE! | JY14: =JX14*$B14 -> #VALUE! | KA14: =係数マスタ!$A$10 -> 7 | KB14: =係数マスタ!$B10 | KD14: =KC14*$B14 -> #VALUE! | KF14: =KE14*$B14 -> #VALUE! | KH14: =KG14*$B14 -> #VALUE! | KJ14: =KI14*$B14 -> #VALUE! | KL14: =KK14*$B14 -> #VALUE! | KN14: =係数マスタ!$A$10 -> 7 | KO14: =係数マスタ!$B10 | KQ14: =KP14*$B14 -> #VALUE! | KS14: =KR14*$B14 -> #VALUE! | KU14: =KT14*$B14 -> #VALUE! | KW14: =KV14*$B14 -> #VALUE! | KY14: =KX14*$B14 -> #VALUE! | LA14: =係数マスタ!$A$10 -> 7 | LB14: =係数マスタ!$B10 | LD14: =LC14*$B14 -> #VALUE! | LF14: =LE14*$B14 -> #VALUE! | LH14: =LG14*$B14 -> #VALUE! | LJ14: =LI14*$B14 -> #VALUE! | LL14: =LK14*$B14 -> #VALUE! | LN14: =係数マスタ!$A$10 -> 7 | LO14: =係数マスタ!$B10 | LQ14: =LP14*$B14 -> #VALUE! | LS14: =LR14*$B14 -> #VALUE! | LU14: =LT14*$B14 -> #VALUE! | LW14: =LV14*$B14 -> #VALUE! | LY14: =LX14*$B14 -> #VALUE! | MA14: =係数マスタ!$A$10 -> 7 | MB14: =係数マスタ!$B10 | MD14: =MC14*$B14 -> #VALUE! | MF14: =ME14*$B14 -> #VALUE! | MH14: =MG14*$B14 -> #VALUE! | MJ14: =MI14*$B14 -> #VALUE! | ML14: =MK14*$B14 -> #VALUE! | MN14: =係数マスタ!$A$10 -> 7 | MO14: =係数マスタ!$B10 | MQ14: =MP14*$B14 -> #VALUE! | MS14: =MR14*$B14 -> #VALUE! | MU14: =MT14*$B14 -> #VALUE! | MW14: =MV14*$B14 -> #VALUE! | MY14: =MX14*$B14 -> #VALUE! | NA14: =係数マスタ!$A$10 -> 7 | NB14: =係数マスタ!$B10 | ND14: =NC14*$B14 -> #VALUE! | NF14: =NE14*$B14 -> #VALUE! | NH14: =NG14*$B14 -> #VALUE! | NJ14: =NI14*$B14 -> #VALUE! | NL14: =NK14*$B14 -> #VALUE! | NN14: =係数マスタ!$A$10 -> 7 | NO14: =係数マスタ!$B10 | NQ14: =NP14*$B14 -> #VALUE! | NS14: =NR14*$B14 -> #VALUE! | NU14: =NT14*$B14 -> #VALUE! | NW14: =NV14*$B14 -> #VALUE! | NY14: =NX14*$B14 -> #VALUE! | OA14: =係数マスタ!$A$10 -> 7 | OB14: =係数マスタ!$B10 | OD14: =OC14*$B14 -> #VALUE! | OF14: =OE14*$B14 -> #VALUE! | OH14: =OG14*$B14 -> #VALUE! | OJ14: =OI14*$B14 -> #VALUE! | OL14: =OK14*$B14 -> #VALUE! | ON14: =係数マスタ!$A$10 -> 7 | OO14: =係数マスタ!$B10 | OQ14: =OP14*$B14 -> #VALUE! | OS14: =OR14*$B14 -> #VALUE! | OU14: =OT14*$B14 -> #VALUE! | OW14: =OV14*$B14 -> #VALUE! | OY14: =OX14*$B14 -> #VALUE! | PA14: =係数マスタ!$A$10 -> 7 | PB14: =係数マスタ!$B10 | PD14: =PC14*$B14 -> #VALUE! | PF14: =PE14*$B14 -> #VALUE! | PH14: =PG14*$B14 -> #VALUE! | PJ14: =PI14*$B14 -> #VALUE! | PL14: =PK14*$B14 -> #VALUE! | PN14: =係数マスタ!$A$10 -> 7 | PO14: =係数マスタ!$B10 | PQ14: =PP14*$B14 -> #VALUE! | PS14: =PR14*$B14 -> #VALUE! | PU14: =PT14*$B14 -> #VALUE! | PW14: =PV14*$B14 -> #VALUE! | PY14: =PX14*$B14 -> #VALUE! | QA14: =係数マスタ!$A$10 -> 7 | QB14: =係数マスタ!$B10 | QD14: =QC14*$B14 -> #VALUE! | QF14: =QE14*$B14 -> #VALUE! | QH14: =QG14*$B14 -> #VALUE! | QJ14: =QI14*$B14 -> #VALUE! | QL14: =QK14*$B14 -> #VALUE! | QN14: =係数マスタ!$A$10 -> 7 | QO14: =係数マスタ!$B10 | QQ14: =QP14*$B14 -> #VALUE! | QS14: =QR14*$B14 -> #VALUE! | QU14: =QT14*$B14 -> #VALUE! | QW14: =QV14*$B14 -> #VALUE! | QY14: =QX14*$B14 -> #VALUE! | RA14: =係数マスタ!$A$10 -> 7 | RB14: =係数マスタ!$B10 | RD14: =RC14*$B14 -> #VALUE! | RF14: =RE14*$B14 -> #VALUE! | RH14: =RG14*$B14 -> #VALUE! | RJ14: =RI14*$B14 -> #VALUE! | RL14: =RK14*$B14 -> #VALUE! | RN14: =係数マスタ!$A$10 -> 7 | RO14: =係数マスタ!$B10 | RQ14: =RP14*$B14 -> #VALUE! | RS14: =RR14*$B14 -> #VALUE! | RU14: =RT14*$B14 -> #VALUE! | RW14: =RV14*$B14 -> #VALUE! | RY14: =RX14*$B14 -> #VALUE! | SA14: =係数マスタ!$A$10 -> 7 | SB14: =係数マスタ!$B10 | SD14: =SC14*$B14 -> #VALUE! | SF14: =SE14*$B14 -> #VALUE! | SH14: =SG14*$B14 -> #VALUE! | SJ14: =SI14*$B14 -> #VALUE! | SL14: =SK14*$B14 -> #VALUE! | SN14: =係数マスタ!$A$10 -> 7 | SO14: =係数マスタ!$B10 | SQ14: =SP14*$B14 -> #VALUE! | SS14: =SR14*$B14 -> #VALUE! | SU14: =ST14*$B14 -> #VALUE! | SW14: =SV14*$B14 -> #VALUE! | SY14: =SX14*$B14 -> #VALUE! | TA14: =係数マスタ!$A$10 -> 7 | TB14: =係数マスタ!$B10 | TD14: =TC14*$B14 -> #VALUE! | TF14: =TE14*$B14 -> #VALUE! | TH14: =TG14*$B14 -> #VALUE! | TJ14: =TI14*$B14 -> #VALUE! | TL14: =TK14*$B14 -> #VALUE! | TN14: =係数マスタ!$A$10 -> 7 | TO14: =係数マスタ!$B10 | TQ14: =TP14*$B14 -> #VALUE! | TS14: =TR14*$B14 -> #VALUE! | TU14: =TT14*$B14 -> #VALUE! | TW14: =TV14*$B14 -> #VALUE! | TY14: =TX14*$B14 -> #VALUE! | UA14: =係数マスタ!$A$10 -> 7 | UB14: =係数マスタ!$B10 | UD14: =UC14*$B14 -> #VALUE! | UF14: =UE14*$B14 -> #VALUE! | UH14: =UG14*$B14 -> #VALUE! | UJ14: =UI14*$B14 -> #VALUE! | UL14: =UK14*$B14 -> #VALUE! | UN14: =係数マスタ!$A$10 -> 7 | UO14: =係数マスタ!$B10 | UQ14: =UP14*$B14 -> #VALUE! | US14: =UR14*$B14 -> #VALUE! | UU14: =UT14*$B14 -> #VALUE! | UW14: =UV14*$B14 -> #VALUE! | UY14: =UX14*$B14 -> #VALUE! | VA14: =係数マスタ!$A$10 -> 7 | VB14: =係数マスタ!$B10 | VD14: =VC14*$B14 -> #VALUE! | VF14: =VE14*$B14 -> #VALUE! | VH14: =VG14*$B14 -> #VALUE! | VJ14: =VI14*$B14 -> #VALUE! | VL14: =VK14*$B14 -> #VALUE! | VN14: =係数マスタ!$A$10 -> 7 | VO14: =係数マスタ!$B10 | VQ14: =VP14*$B14 -> #VALUE! | VS14: =VR14*$B14 -> #VALUE! | VU14: =VT14*$B14 -> #VALUE! | VW14: =VV14*$B14 -> #VALUE! | VY14: =VX14*$B14 -> #VALUE! | WA14: =係数マスタ!$A$10 -> 7 | WB14: =係数マスタ!$B10 | WD14: =WC14*$B14 -> #VALUE! | WF14: =WE14*$B14 -> #VALUE! | WH14: =WG14*$B14 -> #VALUE! | WJ14: =WI14*$B14 -> #VALUE! | WL14: =WK14*$B14 -> #VALUE! | WN14: =係数マスタ!$A$10 -> 7 | WO14: =係数マスタ!$B10 | WQ14: =WP14*$B14 -> #VALUE! | WS14: =WR14*$B14 -> #VALUE! | WU14: =WT14*$B14 -> #VALUE! | WW14: =WV14*$B14 -> #VALUE! | WY14: =WX14*$B14 -> #VALUE! | XA14: =係数マスタ!$A$10 -> 7 | XB14: =係数マスタ!$B10 | XD14: =XC14*$B14 -> #VALUE! | XF14: =XE14*$B14 -> #VALUE! | XH14: =XG14*$B14 -> #VALUE! | XJ14: =XI14*$B14 -> #VALUE! | XL14: =XK14*$B14 -> #VALUE! | XN14: =係数マスタ!$A$10 -> 7 | XO14: =係数マスタ!$B10 | XQ14: =XP14*$B14 -> #VALUE! | XS14: =XR14*$B14 -> #VALUE! | XU14: =XT14*$B14 -> #VALUE! | XW14: =XV14*$B14 -> #VALUE! | XY14: =XX14*$B14 -> #VALUE!
A15: =係数マスタ!$A$11 -> 8 | B15: =係数マスタ!$B11 | D15: =C15*$B15 -> #VALUE! | F15: =E15*$B15 -> #VALUE! | H15: =G15*$B15 -> #VALUE! | J15: =I15*$B15 -> #VALUE! | L15: =K15*$B15 -> #VALUE! | N15: =係数マスタ!$A$11 -> 8 | O15: =係数マスタ!$B11 | Q15: =P15*$B15 -> #VALUE! | S15: =R15*$B15 -> #VALUE! | U15: =T15*$B15 -> #VALUE! | W15: =V15*$B15 -> #VALUE! | Y15: =X15*$B15 -> #VALUE! | AA15: =係数マスタ!$A$11 -> 8 | AB15: =係数マスタ!$B11 | AD15: =AC15*$B15 -> #VALUE! | AF15: =AE15*$B15 -> #VALUE! | AH15: =AG15*$B15 -> #VALUE! | AJ15: =AI15*$B15 -> #VALUE! | AL15: =AK15*$B15 -> #VALUE! | AN15: =係数マスタ!$A$11 -> 8 | AO15: =係数マスタ!$B11 | AQ15: =AP15*$B15 -> #VALUE! | AS15: =AR15*$B15 -> #VALUE! | AU15: =AT15*$B15 -> #VALUE! | AW15: =AV15*$B15 -> #VALUE! | AY15: =AX15*$B15 -> #VALUE! | BA15: =係数マスタ!$A$11 -> 8 | BB15: =係数マスタ!$B11 | BD15: =BC15*$B15 -> #VALUE! | BF15: =BE15*$B15 -> #VALUE! | BH15: =BG15*$B15 -> #VALUE! | BJ15: =BI15*$B15 -> #VALUE! | BL15: =BK15*$B15 -> #VALUE! | BN15: =係数マスタ!$A$11 -> 8 | BO15: =係数マスタ!$B11 | BQ15: =BP15*$B15 -> #VALUE! | BS15: =BR15*$B15 -> #VALUE! | BU15: =BT15*$B15 -> #VALUE! | BW15: =BV15*$B15 -> #VALUE! | BY15: =BX15*$B15 -> #VALUE! | CA15: =係数マスタ!$A$11 -> 8 | CB15: =係数マスタ!$B11 | CD15: =CC15*$B15 -> #VALUE! | CF15: =CE15*$B15 -> #VALUE! | CH15: =CG15*$B15 -> #VALUE! | CJ15: =CI15*$B15 -> #VALUE! | CL15: =CK15*$B15 -> #VALUE! | CN15: =係数マスタ!$A$11 -> 8 | CO15: =係数マスタ!$B11 | CQ15: =CP15*$B15 -> #VALUE! | CS15: =CR15*$B15 -> #VALUE! | CU15: =CT15*$B15 -> #VALUE! | CW15: =CV15*$B15 -> #VALUE! | CY15: =CX15*$B15 -> #VALUE! | DA15: =係数マスタ!$A$11 -> 8 | DB15: =係数マスタ!$B11 | DD15: =DC15*$B15 -> #VALUE! | DF15: =DE15*$B15 -> #VALUE! | DH15: =DG15*$B15 -> #VALUE! | DJ15: =DI15*$B15 -> #VALUE! | DL15: =DK15*$B15 -> #VALUE! | DN15: =係数マスタ!$A$11 -> 8 | DO15: =係数マスタ!$B11 | DQ15: =DP15*$B15 -> #VALUE! | DS15: =DR15*$B15 -> #VALUE! | DU15: =DT15*$B15 -> #VALUE! | DW15: =DV15*$B15 -> #VALUE! | DY15: =DX15*$B15 -> #VALUE! | EA15: =係数マスタ!$A$11 -> 8 | EB15: =係数マスタ!$B11 | ED15: =EC15*$B15 -> #VALUE! | EF15: =EE15*$B15 -> #VALUE! | EH15: =EG15*$B15 -> #VALUE! | EJ15: =EI15*$B15 -> #VALUE! | EL15: =EK15*$B15 -> #VALUE! | EN15: =係数マスタ!$A$11 -> 8 | EO15: =係数マスタ!$B11 | EQ15: =EP15*$B15 -> #VALUE! | ES15: =ER15*$B15 -> #VALUE! | EU15: =ET15*$B15 -> #VALUE! | EW15: =EV15*$B15 -> #VALUE! | EY15: =EX15*$B15 -> #VALUE! | FA15: =係数マスタ!$A$11 -> 8 | FB15: =係数マスタ!$B11 | FD15: =FC15*$B15 -> #VALUE! | FF15: =FE15*$B15 -> #VALUE! | FH15: =FG15*$B15 -> #VALUE! | FJ15: =FI15*$B15 -> #VALUE! | FL15: =FK15*$B15 -> #VALUE! | FN15: =係数マスタ!$A$11 -> 8 | FO15: =係数マスタ!$B11 | FQ15: =FP15*$B15 -> #VALUE! | FS15: =FR15*$B15 -> #VALUE! | FU15: =FT15*$B15 -> #VALUE! | FW15: =FV15*$B15 -> #VALUE! | FY15: =FX15*$B15 -> #VALUE! | GA15: =係数マスタ!$A$11 -> 8 | GB15: =係数マスタ!$B11 | GD15: =GC15*$B15 -> #VALUE! | GF15: =GE15*$B15 -> #VALUE! | GH15: =GG15*$B15 -> #VALUE! | GJ15: =GI15*$B15 -> #VALUE! | GL15: =GK15*$B15 -> #VALUE! | GN15: =係数マスタ!$A$11 -> 8 | GO15: =係数マスタ!$B11 | GQ15: =GP15*$B15 -> #VALUE! | GS15: =GR15*$B15 -> #VALUE! | GU15: =GT15*$B15 -> #VALUE! | GW15: =GV15*$B15 -> #VALUE! | GY15: =GX15*$B15 -> #VALUE! | HA15: =係数マスタ!$A$11 -> 8 | HB15: =係数マスタ!$B11 | HD15: =HC15*$B15 -> #VALUE! | HF15: =HE15*$B15 -> #VALUE! | HH15: =HG15*$B15 -> #VALUE! | HJ15: =HI15*$B15 -> #VALUE! | HL15: =HK15*$B15 -> #VALUE! | HN15: =係数マスタ!$A$11 -> 8 | HO15: =係数マスタ!$B11 | HQ15: =HP15*$B15 -> #VALUE! | HS15: =HR15*$B15 -> #VALUE! | HU15: =HT15*$B15 -> #VALUE! | HW15: =HV15*$B15 -> #VALUE! | HY15: =HX15*$B15 -> #VALUE! | IA15: =係数マスタ!$A$11 -> 8 | IB15: =係数マスタ!$B11 | ID15: =IC15*$B15 -> #VALUE! | IF15: =IE15*$B15 -> #VALUE! | IH15: =IG15*$B15 -> #VALUE! | IJ15: =II15*$B15 -> #VALUE! | IL15: =IK15*$B15 -> #VALUE! | IN15: =係数マスタ!$A$11 -> 8 | IO15: =係数マスタ!$B11 | IQ15: =IP15*$B15 -> #VALUE! | IS15: =IR15*$B15 -> #VALUE! | IU15: =IT15*$B15 -> #VALUE! | IW15: =IV15*$B15 -> #VALUE! | IY15: =IX15*$B15 -> #VALUE! | JA15: =係数マスタ!$A$11 -> 8 | JB15: =係数マスタ!$B11 | JD15: =JC15*$B15 -> #VALUE! | JF15: =JE15*$B15 -> #VALUE! | JH15: =JG15*$B15 -> #VALUE! | JJ15: =JI15*$B15 -> #VALUE! | JL15: =JK15*$B15 -> #VALUE! | JN15: =係数マスタ!$A$11 -> 8 | JO15: =係数マスタ!$B11 | JQ15: =JP15*$B15 -> #VALUE! | JS15: =JR15*$B15 -> #VALUE! | JU15: =JT15*$B15 -> #VALUE! | JW15: =JV15*$B15 -> #VALUE! | JY15: =JX15*$B15 -> #VALUE! | KA15: =係数マスタ!$A$11 -> 8 | KB15: =係数マスタ!$B11 | KD15: =KC15*$B15 -> #VALUE! | KF15: =KE15*$B15 -> #VALUE! | KH15: =KG15*$B15 -> #VALUE! | KJ15: =KI15*$B15 -> #VALUE! | KL15: =KK15*$B15 -> #VALUE! | KN15: =係数マスタ!$A$11 -> 8 | KO15: =係数マスタ!$B11 | KQ15: =KP15*$B15 -> #VALUE! | KS15: =KR15*$B15 -> #VALUE! | KU15: =KT15*$B15 -> #VALUE! | KW15: =KV15*$B15 -> #VALUE! | KY15: =KX15*$B15 -> #VALUE! | LA15: =係数マスタ!$A$11 -> 8 | LB15: =係数マスタ!$B11 | LD15: =LC15*$B15 -> #VALUE! | LF15: =LE15*$B15 -> #VALUE! | LH15: =LG15*$B15 -> #VALUE! | LJ15: =LI15*$B15 -> #VALUE! | LL15: =LK15*$B15 -> #VALUE! | LN15: =係数マスタ!$A$11 -> 8 | LO15: =係数マスタ!$B11 | LQ15: =LP15*$B15 -> #VALUE! | LS15: =LR15*$B15 -> #VALUE! | LU15: =LT15*$B15 -> #VALUE! | LW15: =LV15*$B15 -> #VALUE! | LY15: =LX15*$B15 -> #VALUE! | MA15: =係数マスタ!$A$11 -> 8 | MB15: =係数マスタ!$B11 | MD15: =MC15*$B15 -> #VALUE! | MF15: =ME15*$B15 -> #VALUE! | MH15: =MG15*$B15 -> #VALUE! | MJ15: =MI15*$B15 -> #VALUE! | ML15: =MK15*$B15 -> #VALUE! | MN15: =係数マスタ!$A$11 -> 8 | MO15: =係数マスタ!$B11 | MQ15: =MP15*$B15 -> #VALUE! | MS15: =MR15*$B15 -> #VALUE! | MU15: =MT15*$B15 -> #VALUE! | MW15: =MV15*$B15 -> #VALUE! | MY15: =MX15*$B15 -> #VALUE! | NA15: =係数マスタ!$A$11 -> 8 | NB15: =係数マスタ!$B11 | ND15: =NC15*$B15 -> #VALUE! | NF15: =NE15*$B15 -> #VALUE! | NH15: =NG15*$B15 -> #VALUE! | NJ15: =NI15*$B15 -> #VALUE! | NL15: =NK15*$B15 -> #VALUE! | NN15: =係数マスタ!$A$11 -> 8 | NO15: =係数マスタ!$B11 | NQ15: =NP15*$B15 -> #VALUE! | NS15: =NR15*$B15 -> #VALUE! | NU15: =NT15*$B15 -> #VALUE! | NW15: =NV15*$B15 -> #VALUE! | NY15: =NX15*$B15 -> #VALUE! | OA15: =係数マスタ!$A$11 -> 8 | OB15: =係数マスタ!$B11 | OD15: =OC15*$B15 -> #VALUE! | OF15: =OE15*$B15 -> #VALUE! | OH15: =OG15*$B15 -> #VALUE! | OJ15: =OI15*$B15 -> #VALUE! | OL15: =OK15*$B15 -> #VALUE! | ON15: =係数マスタ!$A$11 -> 8 | OO15: =係数マスタ!$B11 | OQ15: =OP15*$B15 -> #VALUE! | OS15: =OR15*$B15 -> #VALUE! | OU15: =OT15*$B15 -> #VALUE! | OW15: =OV15*$B15 -> #VALUE! | OY15: =OX15*$B15 -> #VALUE! | PA15: =係数マスタ!$A$11 -> 8 | PB15: =係数マスタ!$B11 | PD15: =PC15*$B15 -> #VALUE! | PF15: =PE15*$B15 -> #VALUE! | PH15: =PG15*$B15 -> #VALUE! | PJ15: =PI15*$B15 -> #VALUE! | PL15: =PK15*$B15 -> #VALUE! | PN15: =係数マスタ!$A$11 -> 8 | PO15: =係数マスタ!$B11 | PQ15: =PP15*$B15 -> #VALUE! | PS15: =PR15*$B15 -> #VALUE! | PU15: =PT15*$B15 -> #VALUE! | PW15: =PV15*$B15 -> #VALUE! | PY15: =PX15*$B15 -> #VALUE! | QA15: =係数マスタ!$A$11 -> 8 | QB15: =係数マスタ!$B11 | QD15: =QC15*$B15 -> #VALUE! | QF15: =QE15*$B15 -> #VALUE! | QH15: =QG15*$B15 -> #VALUE! | QJ15: =QI15*$B15 -> #VALUE! | QL15: =QK15*$B15 -> #VALUE! | QN15: =係数マスタ!$A$11 -> 8 | QO15: =係数マスタ!$B11 | QQ15: =QP15*$B15 -> #VALUE! | QS15: =QR15*$B15 -> #VALUE! | QU15: =QT15*$B15 -> #VALUE! | QW15: =QV15*$B15 -> #VALUE! | QY15: =QX15*$B15 -> #VALUE! | RA15: =係数マスタ!$A$11 -> 8 | RB15: =係数マスタ!$B11 | RD15: =RC15*$B15 -> #VALUE! | RF15: =RE15*$B15 -> #VALUE! | RH15: =RG15*$B15 -> #VALUE! | RJ15: =RI15*$B15 -> #VALUE! | RL15: =RK15*$B15 -> #VALUE! | RN15: =係数マスタ!$A$11 -> 8 | RO15: =係数マスタ!$B11 | RQ15: =RP15*$B15 -> #VALUE! | RS15: =RR15*$B15 -> #VALUE! | RU15: =RT15*$B15 -> #VALUE! | RW15: =RV15*$B15 -> #VALUE! | RY15: =RX15*$B15 -> #VALUE! | SA15: =係数マスタ!$A$11 -> 8 | SB15: =係数マスタ!$B11 | SD15: =SC15*$B15 -> #VALUE! | SF15: =SE15*$B15 -> #VALUE! | SH15: =SG15*$B15 -> #VALUE! | SJ15: =SI15*$B15 -> #VALUE! | SL15: =SK15*$B15 -> #VALUE! | SN15: =係数マスタ!$A$11 -> 8 | SO15: =係数マスタ!$B11 | SQ15: =SP15*$B15 -> #VALUE! | SS15: =SR15*$B15 -> #VALUE! | SU15: =ST15*$B15 -> #VALUE! | SW15: =SV15*$B15 -> #VALUE! | SY15: =SX15*$B15 -> #VALUE! | TA15: =係数マスタ!$A$11 -> 8 | TB15: =係数マスタ!$B11 | TD15: =TC15*$B15 -> #VALUE! | TF15: =TE15*$B15 -> #VALUE! | TH15: =TG15*$B15 -> #VALUE! | TJ15: =TI15*$B15 -> #VALUE! | TL15: =TK15*$B15 -> #VALUE! | TN15: =係数マスタ!$A$11 -> 8 | TO15: =係数マスタ!$B11 | TQ15: =TP15*$B15 -> #VALUE! | TS15: =TR15*$B15 -> #VALUE! | TU15: =TT15*$B15 -> #VALUE! | TW15: =TV15*$B15 -> #VALUE! | TY15: =TX15*$B15 -> #VALUE! | UA15: =係数マスタ!$A$11 -> 8 | UB15: =係数マスタ!$B11 | UD15: =UC15*$B15 -> #VALUE! | UF15: =UE15*$B15 -> #VALUE! | UH15: =UG15*$B15 -> #VALUE! | UJ15: =UI15*$B15 -> #VALUE! | UL15: =UK15*$B15 -> #VALUE! | UN15: =係数マスタ!$A$11 -> 8 | UO15: =係数マスタ!$B11 | UQ15: =UP15*$B15 -> #VALUE! | US15: =UR15*$B15 -> #VALUE! | UU15: =UT15*$B15 -> #VALUE! | UW15: =UV15*$B15 -> #VALUE! | UY15: =UX15*$B15 -> #VALUE! | VA15: =係数マスタ!$A$11 -> 8 | VB15: =係数マスタ!$B11 | VD15: =VC15*$B15 -> #VALUE! | VF15: =VE15*$B15 -> #VALUE! | VH15: =VG15*$B15 -> #VALUE! | VJ15: =VI15*$B15 -> #VALUE! | VL15: =VK15*$B15 -> #VALUE! | VN15: =係数マスタ!$A$11 -> 8 | VO15: =係数マスタ!$B11 | VQ15: =VP15*$B15 -> #VALUE! | VS15: =VR15*$B15 -> #VALUE! | VU15: =VT15*$B15 -> #VALUE! | VW15: =VV15*$B15 -> #VALUE! | VY15: =VX15*$B15 -> #VALUE! | WA15: =係数マスタ!$A$11 -> 8 | WB15: =係数マスタ!$B11 | WD15: =WC15*$B15 -> #VALUE! | WF15: =WE15*$B15 -> #VALUE! | WH15: =WG15*$B15 -> #VALUE! | WJ15: =WI15*$B15 -> #VALUE! | WL15: =WK15*$B15 -> #VALUE! | WN15: =係数マスタ!$A$11 -> 8 | WO15: =係数マスタ!$B11 | WQ15: =WP15*$B15 -> #VALUE! | WS15: =WR15*$B15 -> #VALUE! | WU15: =WT15*$B15 -> #VALUE! | WW15: =WV15*$B15 -> #VALUE! | WY15: =WX15*$B15 -> #VALUE! | XA15: =係数マスタ!$A$11 -> 8 | XB15: =係数マスタ!$B11 | XD15: =XC15*$B15 -> #VALUE! | XF15: =XE15*$B15 -> #VALUE! | XH15: =XG15*$B15 -> #VALUE! | XJ15: =XI15*$B15 -> #VALUE! | XL15: =XK15*$B15 -> #VALUE! | XN15: =係数マスタ!$A$11 -> 8 | XO15: =係数マスタ!$B11 | XQ15: =XP15*$B15 -> #VALUE! | XS15: =XR15*$B15 -> #VALUE! | XU15: =XT15*$B15 -> #VALUE! | XW15: =XV15*$B15 -> #VALUE! | XY15: =XX15*$B15 -> #VALUE!
A16: =係数マスタ!$A$12 -> 9 | B16: =係数マスタ!$B12 | D16: =C16*$B16 -> #VALUE! | F16: =E16*$B16 -> #VALUE! | H16: =G16*$B16 -> #VALUE! | J16: =I16*$B16 -> #VALUE! | L16: =K16*$B16 -> #VALUE! | N16: =係数マスタ!$A$12 -> 9 | O16: =係数マスタ!$B12 | Q16: =P16*$B16 -> #VALUE! | S16: =R16*$B16 -> #VALUE! | U16: =T16*$B16 -> #VALUE! | W16: =V16*$B16 -> #VALUE! | Y16: =X16*$B16 -> #VALUE! | AA16: =係数マスタ!$A$12 -> 9 | AB16: =係数マスタ!$B12 | AD16: =AC16*$B16 -> #VALUE! | AF16: =AE16*$B16 -> #VALUE! | AH16: =AG16*$B16 -> #VALUE! | AJ16: =AI16*$B16 -> #VALUE! | AL16: =AK16*$B16 -> #VALUE! | AN16: =係数マスタ!$A$12 -> 9 | AO16: =係数マスタ!$B12 | AQ16: =AP16*$B16 -> #VALUE! | AS16: =AR16*$B16 -> #VALUE! | AU16: =AT16*$B16 -> #VALUE! | AW16: =AV16*$B16 -> #VALUE! | AY16: =AX16*$B16 -> #VALUE! | BA16: =係数マスタ!$A$12 -> 9 | BB16: =係数マスタ!$B12 | BD16: =BC16*$B16 -> #VALUE! | BF16: =BE16*$B16 -> #VALUE! | BH16: =BG16*$B16 -> #VALUE! | BJ16: =BI16*$B16 -> #VALUE! | BL16: =BK16*$B16 -> #VALUE! | BN16: =係数マスタ!$A$12 -> 9 | BO16: =係数マスタ!$B12 | BQ16: =BP16*$B16 -> #VALUE! | BS16: =BR16*$B16 -> #VALUE! | BU16: =BT16*$B16 -> #VALUE! | BW16: =BV16*$B16 -> #VALUE! | BY16: =BX16*$B16 -> #VALUE! | CA16: =係数マスタ!$A$12 -> 9 | CB16: =係数マスタ!$B12 | CD16: =CC16*$B16 -> #VALUE! | CF16: =CE16*$B16 -> #VALUE! | CH16: =CG16*$B16 -> #VALUE! | CJ16: =CI16*$B16 -> #VALUE! | CL16: =CK16*$B16 -> #VALUE! | CN16: =係数マスタ!$A$12 -> 9 | CO16: =係数マスタ!$B12 | CQ16: =CP16*$B16 -> #VALUE! | CS16: =CR16*$B16 -> #VALUE! | CU16: =CT16*$B16 -> #VALUE! | CW16: =CV16*$B16 -> #VALUE! | CY16: =CX16*$B16 -> #VALUE! | DA16: =係数マスタ!$A$12 -> 9 | DB16: =係数マスタ!$B12 | DD16: =DC16*$B16 -> #VALUE! | DF16: =DE16*$B16 -> #VALUE! | DH16: =DG16*$B16 -> #VALUE! | DJ16: =DI16*$B16 -> #VALUE! | DL16: =DK16*$B16 -> #VALUE! | DN16: =係数マスタ!$A$12 -> 9 | DO16: =係数マスタ!$B12 | DQ16: =DP16*$B16 -> #VALUE! | DS16: =DR16*$B16 -> #VALUE! | DU16: =DT16*$B16 -> #VALUE! | DW16: =DV16*$B16 -> #VALUE! | DY16: =DX16*$B16 -> #VALUE! | EA16: =係数マスタ!$A$12 -> 9 | EB16: =係数マスタ!$B12 | ED16: =EC16*$B16 -> #VALUE! | EF16: =EE16*$B16 -> #VALUE! | EH16: =EG16*$B16 -> #VALUE! | EJ16: =EI16*$B16 -> #VALUE! | EL16: =EK16*$B16 -> #VALUE! | EN16: =係数マスタ!$A$12 -> 9 | EO16: =係数マスタ!$B12 | EQ16: =EP16*$B16 -> #VALUE! | ES16: =ER16*$B16 -> #VALUE! | EU16: =ET16*$B16 -> #VALUE! | EW16: =EV16*$B16 -> #VALUE! | EY16: =EX16*$B16 -> #VALUE! | FA16: =係数マスタ!$A$12 -> 9 | FB16: =係数マスタ!$B12 | FD16: =FC16*$B16 -> #VALUE! | FF16: =FE16*$B16 -> #VALUE! | FH16: =FG16*$B16 -> #VALUE! | FJ16: =FI16*$B16 -> #VALUE! | FL16: =FK16*$B16 -> #VALUE! | FN16: =係数マスタ!$A$12 -> 9 | FO16: =係数マスタ!$B12 | FQ16: =FP16*$B16 -> #VALUE! | FS16: =FR16*$B16 -> #VALUE! | FU16: =FT16*$B16 -> #VALUE! | FW16: =FV16*$B16 -> #VALUE! | FY16: =FX16*$B16 -> #VALUE! | GA16: =係数マスタ!$A$12 -> 9 | GB16: =係数マスタ!$B12 | GD16: =GC16*$B16 -> #VALUE! | GF16: =GE16*$B16 -> #VALUE! | GH16: =GG16*$B16 -> #VALUE! | GJ16: =GI16*$B16 -> #VALUE! | GL16: =GK16*$B16 -> #VALUE! | GN16: =係数マスタ!$A$12 -> 9 | GO16: =係数マスタ!$B12 | GQ16: =GP16*$B16 -> #VALUE! | GS16: =GR16*$B16 -> #VALUE! | GU16: =GT16*$B16 -> #VALUE! | GW16: =GV16*$B16 -> #VALUE! | GY16: =GX16*$B16 -> #VALUE! | HA16: =係数マスタ!$A$12 -> 9 | HB16: =係数マスタ!$B12 | HD16: =HC16*$B16 -> #VALUE! | HF16: =HE16*$B16 -> #VALUE! | HH16: =HG16*$B16 -> #VALUE! | HJ16: =HI16*$B16 -> #VALUE! | HL16: =HK16*$B16 -> #VALUE! | HN16: =係数マスタ!$A$12 -> 9 | HO16: =係数マスタ!$B12 | HQ16: =HP16*$B16 -> #VALUE! | HS16: =HR16*$B16 -> #VALUE! | HU16: =HT16*$B16 -> #VALUE! | HW16: =HV16*$B16 -> #VALUE! | HY16: =HX16*$B16 -> #VALUE! | IA16: =係数マスタ!$A$12 -> 9 | IB16: =係数マスタ!$B12 | ID16: =IC16*$B16 -> #VALUE! | IF16: =IE16*$B16 -> #VALUE! | IH16: =IG16*$B16 -> #VALUE! | IJ16: =II16*$B16 -> #VALUE! | IL16: =IK16*$B16 -> #VALUE! | IN16: =係数マスタ!$A$12 -> 9 | IO16: =係数マスタ!$B12 | IQ16: =IP16*$B16 -> #VALUE! | IS16: =IR16*$B16 -> #VALUE! | IU16: =IT16*$B16 -> #VALUE! | IW16: =IV16*$B16 -> #VALUE! | IY16: =IX16*$B16 -> #VALUE! | JA16: =係数マスタ!$A$12 -> 9 | JB16: =係数マスタ!$B12 | JD16: =JC16*$B16 -> #VALUE! | JF16: =JE16*$B16 -> #VALUE! | JH16: =JG16*$B16 -> #VALUE! | JJ16: =JI16*$B16 -> #VALUE! | JL16: =JK16*$B16 -> #VALUE! | JN16: =係数マスタ!$A$12 -> 9 | JO16: =係数マスタ!$B12 | JQ16: =JP16*$B16 -> #VALUE! | JS16: =JR16*$B16 -> #VALUE! | JU16: =JT16*$B16 -> #VALUE! | JW16: =JV16*$B16 -> #VALUE! | JY16: =JX16*$B16 -> #VALUE! | KA16: =係数マスタ!$A$12 -> 9 | KB16: =係数マスタ!$B12 | KD16: =KC16*$B16 -> #VALUE! | KF16: =KE16*$B16 -> #VALUE! | KH16: =KG16*$B16 -> #VALUE! | KJ16: =KI16*$B16 -> #VALUE! | KL16: =KK16*$B16 -> #VALUE! | KN16: =係数マスタ!$A$12 -> 9 | KO16: =係数マスタ!$B12 | KQ16: =KP16*$B16 -> #VALUE! | KS16: =KR16*$B16 -> #VALUE! | KU16: =KT16*$B16 -> #VALUE! | KW16: =KV16*$B16 -> #VALUE! | KY16: =KX16*$B16 -> #VALUE! | LA16: =係数マスタ!$A$12 -> 9 | LB16: =係数マスタ!$B12 | LD16: =LC16*$B16 -> #VALUE! | LF16: =LE16*$B16 -> #VALUE! | LH16: =LG16*$B16 -> #VALUE! | LJ16: =LI16*$B16 -> #VALUE! | LL16: =LK16*$B16 -> #VALUE! | LN16: =係数マスタ!$A$12 -> 9 | LO16: =係数マスタ!$B12 | LQ16: =LP16*$B16 -> #VALUE! | LS16: =LR16*$B16 -> #VALUE! | LU16: =LT16*$B16 -> #VALUE! | LW16: =LV16*$B16 -> #VALUE! | LY16: =LX16*$B16 -> #VALUE! | MA16: =係数マスタ!$A$12 -> 9 | MB16: =係数マスタ!$B12 | MD16: =MC16*$B16 -> #VALUE! | MF16: =ME16*$B16 -> #VALUE! | MH16: =MG16*$B16 -> #VALUE! | MJ16: =MI16*$B16 -> #VALUE! | ML16: =MK16*$B16 -> #VALUE! | MN16: =係数マスタ!$A$12 -> 9 | MO16: =係数マスタ!$B12 | MQ16: =MP16*$B16 -> #VALUE! | MS16: =MR16*$B16 -> #VALUE! | MU16: =MT16*$B16 -> #VALUE! | MW16: =MV16*$B16 -> #VALUE! | MY16: =MX16*$B16 -> #VALUE! | NA16: =係数マスタ!$A$12 -> 9 | NB16: =係数マスタ!$B12 | ND16: =NC16*$B16 -> #VALUE! | NF16: =NE16*$B16 -> #VALUE! | NH16: =NG16*$B16 -> #VALUE! | NJ16: =NI16*$B16 -> #VALUE! | NL16: =NK16*$B16 -> #VALUE! | NN16: =係数マスタ!$A$12 -> 9 | NO16: =係数マスタ!$B12 | NQ16: =NP16*$B16 -> #VALUE! | NS16: =NR16*$B16 -> #VALUE! | NU16: =NT16*$B16 -> #VALUE! | NW16: =NV16*$B16 -> #VALUE! | NY16: =NX16*$B16 -> #VALUE! | OA16: =係数マスタ!$A$12 -> 9 | OB16: =係数マスタ!$B12 | OD16: =OC16*$B16 -> #VALUE! | OF16: =OE16*$B16 -> #VALUE! | OH16: =OG16*$B16 -> #VALUE! | OJ16: =OI16*$B16 -> #VALUE! | OL16: =OK16*$B16 -> #VALUE! | ON16: =係数マスタ!$A$12 -> 9 | OO16: =係数マスタ!$B12 | OQ16: =OP16*$B16 -> #VALUE! | OS16: =OR16*$B16 -> #VALUE! | OU16: =OT16*$B16 -> #VALUE! | OW16: =OV16*$B16 -> #VALUE! | OY16: =OX16*$B16 -> #VALUE! | PA16: =係数マスタ!$A$12 -> 9 | PB16: =係数マスタ!$B12 | PD16: =PC16*$B16 -> #VALUE! | PF16: =PE16*$B16 -> #VALUE! | PH16: =PG16*$B16 -> #VALUE! | PJ16: =PI16*$B16 -> #VALUE! | PL16: =PK16*$B16 -> #VALUE! | PN16: =係数マスタ!$A$12 -> 9 | PO16: =係数マスタ!$B12 | PQ16: =PP16*$B16 -> #VALUE! | PS16: =PR16*$B16 -> #VALUE! | PU16: =PT16*$B16 -> #VALUE! | PW16: =PV16*$B16 -> #VALUE! | PY16: =PX16*$B16 -> #VALUE! | QA16: =係数マスタ!$A$12 -> 9 | QB16: =係数マスタ!$B12 | QD16: =QC16*$B16 -> #VALUE! | QF16: =QE16*$B16 -> #VALUE! | QH16: =QG16*$B16 -> #VALUE! | QJ16: =QI16*$B16 -> #VALUE! | QL16: =QK16*$B16 -> #VALUE! | QN16: =係数マスタ!$A$12 -> 9 | QO16: =係数マスタ!$B12 | QQ16: =QP16*$B16 -> #VALUE! | QS16: =QR16*$B16 -> #VALUE! | QU16: =QT16*$B16 -> #VALUE! | QW16: =QV16*$B16 -> #VALUE! | QY16: =QX16*$B16 -> #VALUE! | RA16: =係数マスタ!$A$12 -> 9 | RB16: =係数マスタ!$B12 | RD16: =RC16*$B16 -> #VALUE! | RF16: =RE16*$B16 -> #VALUE! | RH16: =RG16*$B16 -> #VALUE! | RJ16: =RI16*$B16 -> #VALUE! | RL16: =RK16*$B16 -> #VALUE! | RN16: =係数マスタ!$A$12 -> 9 | RO16: =係数マスタ!$B12 | RQ16: =RP16*$B16 -> #VALUE! | RS16: =RR16*$B16 -> #VALUE! | RU16: =RT16*$B16 -> #VALUE! | RW16: =RV16*$B16 -> #VALUE! | RY16: =RX16*$B16 -> #VALUE! | SA16: =係数マスタ!$A$12 -> 9 | SB16: =係数マスタ!$B12 | SD16: =SC16*$B16 -> #VALUE! | SF16: =SE16*$B16 -> #VALUE! | SH16: =SG16*$B16 -> #VALUE! | SJ16: =SI16*$B16 -> #VALUE! | SL16: =SK16*$B16 -> #VALUE! | SN16: =係数マスタ!$A$12 -> 9 | SO16: =係数マスタ!$B12 | SQ16: =SP16*$B16 -> #VALUE! | SS16: =SR16*$B16 -> #VALUE! | SU16: =ST16*$B16 -> #VALUE! | SW16: =SV16*$B16 -> #VALUE! | SY16: =SX16*$B16 -> #VALUE! | TA16: =係数マスタ!$A$12 -> 9 | TB16: =係数マスタ!$B12 | TD16: =TC16*$B16 -> #VALUE! | TF16: =TE16*$B16 -> #VALUE! | TH16: =TG16*$B16 -> #VALUE! | TJ16: =TI16*$B16 -> #VALUE! | TL16: =TK16*$B16 -> #VALUE! | TN16: =係数マスタ!$A$12 -> 9 | TO16: =係数マスタ!$B12 | TQ16: =TP16*$B16 -> #VALUE! | TS16: =TR16*$B16 -> #VALUE! | TU16: =TT16*$B16 -> #VALUE! | TW16: =TV16*$B16 -> #VALUE! | TY16: =TX16*$B16 -> #VALUE! | UA16: =係数マスタ!$A$12 -> 9 | UB16: =係数マスタ!$B12 | UD16: =UC16*$B16 -> #VALUE! | UF16: =UE16*$B16 -> #VALUE! | UH16: =UG16*$B16 -> #VALUE! | UJ16: =UI16*$B16 -> #VALUE! | UL16: =UK16*$B16 -> #VALUE! | UN16: =係数マスタ!$A$12 -> 9 | UO16: =係数マスタ!$B12 | UQ16: =UP16*$B16 -> #VALUE! | US16: =UR16*$B16 -> #VALUE! | UU16: =UT16*$B16 -> #VALUE! | UW16: =UV16*$B16 -> #VALUE! | UY16: =UX16*$B16 -> #VALUE! | VA16: =係数マスタ!$A$12 -> 9 | VB16: =係数マスタ!$B12 | VD16: =VC16*$B16 -> #VALUE! | VF16: =VE16*$B16 -> #VALUE! | VH16: =VG16*$B16 -> #VALUE! | VJ16: =VI16*$B16 -> #VALUE! | VL16: =VK16*$B16 -> #VALUE! | VN16: =係数マスタ!$A$12 -> 9 | VO16: =係数マスタ!$B12 | VQ16: =VP16*$B16 -> #VALUE! | VS16: =VR16*$B16 -> #VALUE! | VU16: =VT16*$B16 -> #VALUE! | VW16: =VV16*$B16 -> #VALUE! | VY16: =VX16*$B16 -> #VALUE! | WA16: =係数マスタ!$A$12 -> 9 | WB16: =係数マスタ!$B12 | WD16: =WC16*$B16 -> #VALUE! | WF16: =WE16*$B16 -> #VALUE! | WH16: =WG16*$B16 -> #VALUE! | WJ16: =WI16*$B16 -> #VALUE! | WL16: =WK16*$B16 -> #VALUE! | WN16: =係数マスタ!$A$12 -> 9 | WO16: =係数マスタ!$B12 | WQ16: =WP16*$B16 -> #VALUE! | WS16: =WR16*$B16 -> #VALUE! | WU16: =WT16*$B16 -> #VALUE! | WW16: =WV16*$B16 -> #VALUE! | WY16: =WX16*$B16 -> #VALUE! | XA16: =係数マスタ!$A$12 -> 9 | XB16: =係数マスタ!$B12 | XD16: =XC16*$B16 -> #VALUE! | XF16: =XE16*$B16 -> #VALUE! | XH16: =XG16*$B16 -> #VALUE! | XJ16: =XI16*$B16 -> #VALUE! | XL16: =XK16*$B16 -> #VALUE! | XN16: =係数マスタ!$A$12 -> 9 | XO16: =係数マスタ!$B12 | XQ16: =XP16*$B16 -> #VALUE! | XS16: =XR16*$B16 -> #VALUE! | XU16: =XT16*$B16 -> #VALUE! | XW16: =XV16*$B16 -> #VALUE! | XY16: =XX16*$B16 -> #VALUE!
A17: =係数マスタ!$A$13 -> 10 | B17: =係数マスタ!$B13 | D17: =C17*$B17 -> #VALUE! | F17: =E17*$B17 -> #VALUE! | H17: =G17*$B17 -> #VALUE! | J17: =I17*$B17 -> #VALUE! | L17: =K17*$B17 -> #VALUE! | N17: =係数マスタ!$A$13 -> 10 | O17: =係数マスタ!$B13 | Q17: =P17*$B17 -> #VALUE! | S17: =R17*$B17 -> #VALUE! | U17: =T17*$B17 -> #VALUE! | W17: =V17*$B17 -> #VALUE! | Y17: =X17*$B17 -> #VALUE! | AA17: =係数マスタ!$A$13 -> 10 | AB17: =係数マスタ!$B13 | AD17: =AC17*$B17 -> #VALUE! | AF17: =AE17*$B17 -> #VALUE! | AH17: =AG17*$B17 -> #VALUE! | AJ17: =AI17*$B17 -> #VALUE! | AL17: =AK17*$B17 -> #VALUE! | AN17: =係数マスタ!$A$13 -> 10 | AO17: =係数マスタ!$B13 | AQ17: =AP17*$B17 -> #VALUE! | AS17: =AR17*$B17 -> #VALUE! | AU17: =AT17*$B17 -> #VALUE! | AW17: =AV17*$B17 -> #VALUE! | AY17: =AX17*$B17 -> #VALUE! | BA17: =係数マスタ!$A$13 -> 10 | BB17: =係数マスタ!$B13 | BD17: =BC17*$B17 -> #VALUE! | BF17: =BE17*$B17 -> #VALUE! | BH17: =BG17*$B17 -> #VALUE! | BJ17: =BI17*$B17 -> #VALUE! | BL17: =BK17*$B17 -> #VALUE! | BN17: =係数マスタ!$A$13 -> 10 | BO17: =係数マスタ!$B13 | BQ17: =BP17*$B17 -> #VALUE! | BS17: =BR17*$B17 -> #VALUE! | BU17: =BT17*$B17 -> #VALUE! | BW17: =BV17*$B17 -> #VALUE! | BY17: =BX17*$B17 -> #VALUE! | CA17: =係数マスタ!$A$13 -> 10 | CB17: =係数マスタ!$B13 | CD17: =CC17*$B17 -> #VALUE! | CF17: =CE17*$B17 -> #VALUE! | CH17: =CG17*$B17 -> #VALUE! | CJ17: =CI17*$B17 -> #VALUE! | CL17: =CK17*$B17 -> #VALUE! | CN17: =係数マスタ!$A$13 -> 10 | CO17: =係数マスタ!$B13 | CQ17: =CP17*$B17 -> #VALUE! | CS17: =CR17*$B17 -> #VALUE! | CU17: =CT17*$B17 -> #VALUE! | CW17: =CV17*$B17 -> #VALUE! | CY17: =CX17*$B17 -> #VALUE! | DA17: =係数マスタ!$A$13 -> 10 | DB17: =係数マスタ!$B13 | DD17: =DC17*$B17 -> #VALUE! | DF17: =DE17*$B17 -> #VALUE! | DH17: =DG17*$B17 -> #VALUE! | DJ17: =DI17*$B17 -> #VALUE! | DL17: =DK17*$B17 -> #VALUE! | DN17: =係数マスタ!$A$13 -> 10 | DO17: =係数マスタ!$B13 | DQ17: =DP17*$B17 -> #VALUE! | DS17: =DR17*$B17 -> #VALUE! | DU17: =DT17*$B17 -> #VALUE! | DW17: =DV17*$B17 -> #VALUE! | DY17: =DX17*$B17 -> #VALUE! | EA17: =係数マスタ!$A$13 -> 10 | EB17: =係数マスタ!$B13 | ED17: =EC17*$B17 -> #VALUE! | EF17: =EE17*$B17 -> #VALUE! | EH17: =EG17*$B17 -> #VALUE! | EJ17: =EI17*$B17 -> #VALUE! | EL17: =EK17*$B17 -> #VALUE! | EN17: =係数マスタ!$A$13 -> 10 | EO17: =係数マスタ!$B13 | EQ17: =EP17*$B17 -> #VALUE! | ES17: =ER17*$B17 -> #VALUE! | EU17: =ET17*$B17 -> #VALUE! | EW17: =EV17*$B17 -> #VALUE! | EY17: =EX17*$B17 -> #VALUE! | FA17: =係数マスタ!$A$13 -> 10 | FB17: =係数マスタ!$B13 | FD17: =FC17*$B17 -> #VALUE! | FF17: =FE17*$B17 -> #VALUE! | FH17: =FG17*$B17 -> #VALUE! | FJ17: =FI17*$B17 -> #VALUE! | FL17: =FK17*$B17 -> #VALUE! | FN17: =係数マスタ!$A$13 -> 10 | FO17: =係数マスタ!$B13 | FQ17: =FP17*$B17 -> #VALUE! | FS17: =FR17*$B17 -> #VALUE! | FU17: =FT17*$B17 -> #VALUE! | FW17: =FV17*$B17 -> #VALUE! | FY17: =FX17*$B17 -> #VALUE! | GA17: =係数マスタ!$A$13 -> 10 | GB17: =係数マスタ!$B13 | GD17: =GC17*$B17 -> #VALUE! | GF17: =GE17*$B17 -> #VALUE! | GH17: =GG17*$B17 -> #VALUE! | GJ17: =GI17*$B17 -> #VALUE! | GL17: =GK17*$B17 -> #VALUE! | GN17: =係数マスタ!$A$13 -> 10 | GO17: =係数マスタ!$B13 | GQ17: =GP17*$B17 -> #VALUE! | GS17: =GR17*$B17 -> #VALUE! | GU17: =GT17*$B17 -> #VALUE! | GW17: =GV17*$B17 -> #VALUE! | GY17: =GX17*$B17 -> #VALUE! | HA17: =係数マスタ!$A$13 -> 10 | HB17: =係数マスタ!$B13 | HD17: =HC17*$B17 -> #VALUE! | HF17: =HE17*$B17 -> #VALUE! | HH17: =HG17*$B17 -> #VALUE! | HJ17: =HI17*$B17 -> #VALUE! | HL17: =HK17*$B17 -> #VALUE! | HN17: =係数マスタ!$A$13 -> 10 | HO17: =係数マスタ!$B13 | HQ17: =HP17*$B17 -> #VALUE! | HS17: =HR17*$B17 -> #VALUE! | HU17: =HT17*$B17 -> #VALUE! | HW17: =HV17*$B17 -> #VALUE! | HY17: =HX17*$B17 -> #VALUE! | IA17: =係数マスタ!$A$13 -> 10 | IB17: =係数マスタ!$B13 | ID17: =IC17*$B17 -> #VALUE! | IF17: =IE17*$B17 -> #VALUE! | IH17: =IG17*$B17 -> #VALUE! | IJ17: =II17*$B17 -> #VALUE! | IL17: =IK17*$B17 -> #VALUE! | IN17: =係数マスタ!$A$13 -> 10 | IO17: =係数マスタ!$B13 | IQ17: =IP17*$B17 -> #VALUE! | IS17: =IR17*$B17 -> #VALUE! | IU17: =IT17*$B17 -> #VALUE! | IW17: =IV17*$B17 -> #VALUE! | IY17: =IX17*$B17 -> #VALUE! | JA17: =係数マスタ!$A$13 -> 10 | JB17: =係数マスタ!$B13 | JD17: =JC17*$B17 -> #VALUE! | JF17: =JE17*$B17 -> #VALUE! | JH17: =JG17*$B17 -> #VALUE! | JJ17: =JI17*$B17 -> #VALUE! | JL17: =JK17*$B17 -> #VALUE! | JN17: =係数マスタ!$A$13 -> 10 | JO17: =係数マスタ!$B13 | JQ17: =JP17*$B17 -> #VALUE! | JS17: =JR17*$B17 -> #VALUE! | JU17: =JT17*$B17 -> #VALUE! | JW17: =JV17*$B17 -> #VALUE! | JY17: =JX17*$B17 -> #VALUE! | KA17: =係数マスタ!$A$13 -> 10 | KB17: =係数マスタ!$B13 | KD17: =KC17*$B17 -> #VALUE! | KF17: =KE17*$B17 -> #VALUE! | KH17: =KG17*$B17 -> #VALUE! | KJ17: =KI17*$B17 -> #VALUE! | KL17: =KK17*$B17 -> #VALUE! | KN17: =係数マスタ!$A$13 -> 10 | KO17: =係数マスタ!$B13 | KQ17: =KP17*$B17 -> #VALUE! | KS17: =KR17*$B17 -> #VALUE! | KU17: =KT17*$B17 -> #VALUE! | KW17: =KV17*$B17 -> #VALUE! | KY17: =KX17*$B17 -> #VALUE! | LA17: =係数マスタ!$A$13 -> 10 | LB17: =係数マスタ!$B13 | LD17: =LC17*$B17 -> #VALUE! | LF17: =LE17*$B17 -> #VALUE! | LH17: =LG17*$B17 -> #VALUE! | LJ17: =LI17*$B17 -> #VALUE! | LL17: =LK17*$B17 -> #VALUE! | LN17: =係数マスタ!$A$13 -> 10 | LO17: =係数マスタ!$B13 | LQ17: =LP17*$B17 -> #VALUE! | LS17: =LR17*$B17 -> #VALUE! | LU17: =LT17*$B17 -> #VALUE! | LW17: =LV17*$B17 -> #VALUE! | LY17: =LX17*$B17 -> #VALUE! | MA17: =係数マスタ!$A$13 -> 10 | MB17: =係数マスタ!$B13 | MD17: =MC17*$B17 -> #VALUE! | MF17: =ME17*$B17 -> #VALUE! | MH17: =MG17*$B17 -> #VALUE! | MJ17: =MI17*$B17 -> #VALUE! | ML17: =MK17*$B17 -> #VALUE! | MN17: =係数マスタ!$A$13 -> 10 | MO17: =係数マスタ!$B13 | MQ17: =MP17*$B17 -> #VALUE! | MS17: =MR17*$B17 -> #VALUE! | MU17: =MT17*$B17 -> #VALUE! | MW17: =MV17*$B17 -> #VALUE! | MY17: =MX17*$B17 -> #VALUE! | NA17: =係数マスタ!$A$13 -> 10 | NB17: =係数マスタ!$B13 | ND17: =NC17*$B17 -> #VALUE! | NF17: =NE17*$B17 -> #VALUE! | NH17: =NG17*$B17 -> #VALUE! | NJ17: =NI17*$B17 -> #VALUE! | NL17: =NK17*$B17 -> #VALUE! | NN17: =係数マスタ!$A$13 -> 10 | NO17: =係数マスタ!$B13 | NQ17: =NP17*$B17 -> #VALUE! | NS17: =NR17*$B17 -> #VALUE! | NU17: =NT17*$B17 -> #VALUE! | NW17: =NV17*$B17 -> #VALUE! | NY17: =NX17*$B17 -> #VALUE! | OA17: =係数マスタ!$A$13 -> 10 | OB17: =係数マスタ!$B13 | OD17: =OC17*$B17 -> #VALUE! | OF17: =OE17*$B17 -> #VALUE! | OH17: =OG17*$B17 -> #VALUE! | OJ17: =OI17*$B17 -> #VALUE! | OL17: =OK17*$B17 -> #VALUE! | ON17: =係数マスタ!$A$13 -> 10 | OO17: =係数マスタ!$B13 | OQ17: =OP17*$B17 -> #VALUE! | OS17: =OR17*$B17 -> #VALUE! | OU17: =OT17*$B17 -> #VALUE! | OW17: =OV17*$B17 -> #VALUE! | OY17: =OX17*$B17 -> #VALUE! | PA17: =係数マスタ!$A$13 -> 10 | PB17: =係数マスタ!$B13 | PD17: =PC17*$B17 -> #VALUE! | PF17: =PE17*$B17 -> #VALUE! | PH17: =PG17*$B17 -> #VALUE! | PJ17: =PI17*$B17 -> #VALUE! | PL17: =PK17*$B17 -> #VALUE! | PN17: =係数マスタ!$A$13 -> 10 | PO17: =係数マスタ!$B13 | PQ17: =PP17*$B17 -> #VALUE! | PS17: =PR17*$B17 -> #VALUE! | PU17: =PT17*$B17 -> #VALUE! | PW17: =PV17*$B17 -> #VALUE! | PY17: =PX17*$B17 -> #VALUE! | QA17: =係数マスタ!$A$13 -> 10 | QB17: =係数マスタ!$B13 | QD17: =QC17*$B17 -> #VALUE! | QF17: =QE17*$B17 -> #VALUE! | QH17: =QG17*$B17 -> #VALUE! | QJ17: =QI17*$B17 -> #VALUE! | QL17: =QK17*$B17 -> #VALUE! | QN17: =係数マスタ!$A$13 -> 10 | QO17: =係数マスタ!$B13 | QQ17: =QP17*$B17 -> #VALUE! | QS17: =QR17*$B17 -> #VALUE! | QU17: =QT17*$B17 -> #VALUE! | QW17: =QV17*$B17 -> #VALUE! | QY17: =QX17*$B17 -> #VALUE! | RA17: =係数マスタ!$A$13 -> 10 | RB17: =係数マスタ!$B13 | RD17: =RC17*$B17 -> #VALUE! | RF17: =RE17*$B17 -> #VALUE! | RH17: =RG17*$B17 -> #VALUE! | RJ17: =RI17*$B17 -> #VALUE! | RL17: =RK17*$B17 -> #VALUE! | RN17: =係数マスタ!$A$13 -> 10 | RO17: =係数マスタ!$B13 | RQ17: =RP17*$B17 -> #VALUE! | RS17: =RR17*$B17 -> #VALUE! | RU17: =RT17*$B17 -> #VALUE! | RW17: =RV17*$B17 -> #VALUE! | RY17: =RX17*$B17 -> #VALUE! | SA17: =係数マスタ!$A$13 -> 10 | SB17: =係数マスタ!$B13 | SD17: =SC17*$B17 -> #VALUE! | SF17: =SE17*$B17 -> #VALUE! | SH17: =SG17*$B17 -> #VALUE! | SJ17: =SI17*$B17 -> #VALUE! | SL17: =SK17*$B17 -> #VALUE! | SN17: =係数マスタ!$A$13 -> 10 | SO17: =係数マスタ!$B13 | SQ17: =SP17*$B17 -> #VALUE! | SS17: =SR17*$B17 -> #VALUE! | SU17: =ST17*$B17 -> #VALUE! | SW17: =SV17*$B17 -> #VALUE! | SY17: =SX17*$B17 -> #VALUE! | TA17: =係数マスタ!$A$13 -> 10 | TB17: =係数マスタ!$B13 | TD17: =TC17*$B17 -> #VALUE! | TF17: =TE17*$B17 -> #VALUE! | TH17: =TG17*$B17 -> #VALUE! | TJ17: =TI17*$B17 -> #VALUE! | TL17: =TK17*$B17 -> #VALUE! | TN17: =係数マスタ!$A$13 -> 10 | TO17: =係数マスタ!$B13 | TQ17: =TP17*$B17 -> #VALUE! | TS17: =TR17*$B17 -> #VALUE! | TU17: =TT17*$B17 -> #VALUE! | TW17: =TV17*$B17 -> #VALUE! | TY17: =TX17*$B17 -> #VALUE! | UA17: =係数マスタ!$A$13 -> 10 | UB17: =係数マスタ!$B13 | UD17: =UC17*$B17 -> #VALUE! | UF17: =UE17*$B17 -> #VALUE! | UH17: =UG17*$B17 -> #VALUE! | UJ17: =UI17*$B17 -> #VALUE! | UL17: =UK17*$B17 -> #VALUE! | UN17: =係数マスタ!$A$13 -> 10 | UO17: =係数マスタ!$B13 | UQ17: =UP17*$B17 -> #VALUE! | US17: =UR17*$B17 -> #VALUE! | UU17: =UT17*$B17 -> #VALUE! | UW17: =UV17*$B17 -> #VALUE! | UY17: =UX17*$B17 -> #VALUE! | VA17: =係数マスタ!$A$13 -> 10 | VB17: =係数マスタ!$B13 | VD17: =VC17*$B17 -> #VALUE! | VF17: =VE17*$B17 -> #VALUE! | VH17: =VG17*$B17 -> #VALUE! | VJ17: =VI17*$B17 -> #VALUE! | VL17: =VK17*$B17 -> #VALUE! | VN17: =係数マスタ!$A$13 -> 10 | VO17: =係数マスタ!$B13 | VQ17: =VP17*$B17 -> #VALUE! | VS17: =VR17*$B17 -> #VALUE! | VU17: =VT17*$B17 -> #VALUE! | VW17: =VV17*$B17 -> #VALUE! | VY17: =VX17*$B17 -> #VALUE! | WA17: =係数マスタ!$A$13 -> 10 | WB17: =係数マスタ!$B13 | WD17: =WC17*$B17 -> #VALUE! | WF17: =WE17*$B17 -> #VALUE! | WH17: =WG17*$B17 -> #VALUE! | WJ17: =WI17*$B17 -> #VALUE! | WL17: =WK17*$B17 -> #VALUE! | WN17: =係数マスタ!$A$13 -> 10 | WO17: =係数マスタ!$B13 | WQ17: =WP17*$B17 -> #VALUE! | WS17: =WR17*$B17 -> #VALUE! | WU17: =WT17*$B17 -> #VALUE! | WW17: =WV17*$B17 -> #VALUE! | WY17: =WX17*$B17 -> #VALUE! | XA17: =係数マスタ!$A$13 -> 10 | XB17: =係数マスタ!$B13 | XD17: =XC17*$B17 -> #VALUE! | XF17: =XE17*$B17 -> #VALUE! | XH17: =XG17*$B17 -> #VALUE! | XJ17: =XI17*$B17 -> #VALUE! | XL17: =XK17*$B17 -> #VALUE! | XN17: =係数マスタ!$A$13 -> 10 | XO17: =係数マスタ!$B13 | XQ17: =XP17*$B17 -> #VALUE! | XS17: =XR17*$B17 -> #VALUE! | XU17: =XT17*$B17 -> #VALUE! | XW17: =XV17*$B17 -> #VALUE! | XY17: =XX17*$B17 -> #VALUE!
A18: =係数マスタ!$A$14 -> 11 | B18: =係数マスタ!$B14 | D18: =C18*$B18 -> #VALUE! | F18: =E18*$B18 -> #VALUE! | H18: =G18*$B18 -> #VALUE! | J18: =I18*$B18 -> #VALUE! | L18: =K18*$B18 -> #VALUE! | N18: =係数マスタ!$A$14 -> 11 | O18: =係数マスタ!$B14 | Q18: =P18*$B18 -> #VALUE! | S18: =R18*$B18 -> #VALUE! | U18: =T18*$B18 -> #VALUE! | W18: =V18*$B18 -> #VALUE! | Y18: =X18*$B18 -> #VALUE! | AA18: =係数マスタ!$A$14 -> 11 | AB18: =係数マスタ!$B14 | AD18: =AC18*$B18 -> #VALUE! | AF18: =AE18*$B18 -> #VALUE! | AH18: =AG18*$B18 -> #VALUE! | AJ18: =AI18*$B18 -> #VALUE! | AL18: =AK18*$B18 -> #VALUE! | AN18: =係数マスタ!$A$14 -> 11 | AO18: =係数マスタ!$B14 | AQ18: =AP18*$B18 -> #VALUE! | AS18: =AR18*$B18 -> #VALUE! | AU18: =AT18*$B18 -> #VALUE! | AW18: =AV18*$B18 -> #VALUE! | AY18: =AX18*$B18 -> #VALUE! | BA18: =係数マスタ!$A$14 -> 11 | BB18: =係数マスタ!$B14 | BD18: =BC18*$B18 -> #VALUE! | BF18: =BE18*$B18 -> #VALUE! | BH18: =BG18*$B18 -> #VALUE! | BJ18: =BI18*$B18 -> #VALUE! | BL18: =BK18*$B18 -> #VALUE! | BN18: =係数マスタ!$A$14 -> 11 | BO18: =係数マスタ!$B14 | BQ18: =BP18*$B18 -> #VALUE! | BS18: =BR18*$B18 -> #VALUE! | BU18: =BT18*$B18 -> #VALUE! | BW18: =BV18*$B18 -> #VALUE! | BY18: =BX18*$B18 -> #VALUE! | CA18: =係数マスタ!$A$14 -> 11 | CB18: =係数マスタ!$B14 | CD18: =CC18*$B18 -> #VALUE! | CF18: =CE18*$B18 -> #VALUE! | CH18: =CG18*$B18 -> #VALUE! | CJ18: =CI18*$B18 -> #VALUE! | CL18: =CK18*$B18 -> #VALUE! | CN18: =係数マスタ!$A$14 -> 11 | CO18: =係数マスタ!$B14 | CQ18: =CP18*$B18 -> #VALUE! | CS18: =CR18*$B18 -> #VALUE! | CU18: =CT18*$B18 -> #VALUE! | CW18: =CV18*$B18 -> #VALUE! | CY18: =CX18*$B18 -> #VALUE! | DA18: =係数マスタ!$A$14 -> 11 | DB18: =係数マスタ!$B14 | DD18: =DC18*$B18 -> #VALUE! | DF18: =DE18*$B18 -> #VALUE! | DH18: =DG18*$B18 -> #VALUE! | DJ18: =DI18*$B18 -> #VALUE! | DL18: =DK18*$B18 -> #VALUE! | DN18: =係数マスタ!$A$14 -> 11 | DO18: =係数マスタ!$B14 | DQ18: =DP18*$B18 -> #VALUE! | DS18: =DR18*$B18 -> #VALUE! | DU18: =DT18*$B18 -> #VALUE! | DW18: =DV18*$B18 -> #VALUE! | DY18: =DX18*$B18 -> #VALUE! | EA18: =係数マスタ!$A$14 -> 11 | EB18: =係数マスタ!$B14 | ED18: =EC18*$B18 -> #VALUE! | EF18: =EE18*$B18 -> #VALUE! | EH18: =EG18*$B18 -> #VALUE! | EJ18: =EI18*$B18 -> #VALUE! | EL18: =EK18*$B18 -> #VALUE! | EN18: =係数マスタ!$A$14 -> 11 | EO18: =係数マスタ!$B14 | EQ18: =EP18*$B18 -> #VALUE! | ES18: =ER18*$B18 -> #VALUE! | EU18: =ET18*$B18 -> #VALUE! | EW18: =EV18*$B18 -> #VALUE! | EY18: =EX18*$B18 -> #VALUE! | FA18: =係数マスタ!$A$14 -> 11 | FB18: =係数マスタ!$B14 | FD18: =FC18*$B18 -> #VALUE! | FF18: =FE18*$B18 -> #VALUE! | FH18: =FG18*$B18 -> #VALUE! | FJ18: =FI18*$B18 -> #VALUE! | FL18: =FK18*$B18 -> #VALUE! | FN18: =係数マスタ!$A$14 -> 11 | FO18: =係数マスタ!$B14 | FQ18: =FP18*$B18 -> #VALUE! | FS18: =FR18*$B18 -> #VALUE! | FU18: =FT18*$B18 -> #VALUE! | FW18: =FV18*$B18 -> #VALUE! | FY18: =FX18*$B18 -> #VALUE! | GA18: =係数マスタ!$A$14 -> 11 | GB18: =係数マスタ!$B14 | GD18: =GC18*$B18 -> #VALUE! | GF18: =GE18*$B18 -> #VALUE! | GH18: =GG18*$B18 -> #VALUE! | GJ18: =GI18*$B18 -> #VALUE! | GL18: =GK18*$B18 -> #VALUE! | GN18: =係数マスタ!$A$14 -> 11 | GO18: =係数マスタ!$B14 | GQ18: =GP18*$B18 -> #VALUE! | GS18: =GR18*$B18 -> #VALUE! | GU18: =GT18*$B18 -> #VALUE! | GW18: =GV18*$B18 -> #VALUE! | GY18: =GX18*$B18 -> #VALUE! | HA18: =係数マスタ!$A$14 -> 11 | HB18: =係数マスタ!$B14 | HD18: =HC18*$B18 -> #VALUE! | HF18: =HE18*$B18 -> #VALUE! | HH18: =HG18*$B18 -> #VALUE! | HJ18: =HI18*$B18 -> #VALUE! | HL18: =HK18*$B18 -> #VALUE! | HN18: =係数マスタ!$A$14 -> 11 | HO18: =係数マスタ!$B14 | HQ18: =HP18*$B18 -> #VALUE! | HS18: =HR18*$B18 -> #VALUE! | HU18: =HT18*$B18 -> #VALUE! | HW18: =HV18*$B18 -> #VALUE! | HY18: =HX18*$B18 -> #VALUE! | IA18: =係数マスタ!$A$14 -> 11 | IB18: =係数マスタ!$B14 | ID18: =IC18*$B18 -> #VALUE! | IF18: =IE18*$B18 -> #VALUE! | IH18: =IG18*$B18 -> #VALUE! | IJ18: =II18*$B18 -> #VALUE! | IL18: =IK18*$B18 -> #VALUE! | IN18: =係数マスタ!$A$14 -> 11 | IO18: =係数マスタ!$B14 | IQ18: =IP18*$B18 -> #VALUE! | IS18: =IR18*$B18 -> #VALUE! | IU18: =IT18*$B18 -> #VALUE! | IW18: =IV18*$B18 -> #VALUE! | IY18: =IX18*$B18 -> #VALUE! | JA18: =係数マスタ!$A$14 -> 11 | JB18: =係数マスタ!$B14 | JD18: =JC18*$B18 -> #VALUE! | JF18: =JE18*$B18 -> #VALUE! | JH18: =JG18*$B18 -> #VALUE! | JJ18: =JI18*$B18 -> #VALUE! | JL18: =JK18*$B18 -> #VALUE! | JN18: =係数マスタ!$A$14 -> 11 | JO18: =係数マスタ!$B14 | JQ18: =JP18*$B18 -> #VALUE! | JS18: =JR18*$B18 -> #VALUE! | JU18: =JT18*$B18 -> #VALUE! | JW18: =JV18*$B18 -> #VALUE! | JY18: =JX18*$B18 -> #VALUE! | KA18: =係数マスタ!$A$14 -> 11 | KB18: =係数マスタ!$B14 | KD18: =KC18*$B18 -> #VALUE! | KF18: =KE18*$B18 -> #VALUE! | KH18: =KG18*$B18 -> #VALUE! | KJ18: =KI18*$B18 -> #VALUE! | KL18: =KK18*$B18 -> #VALUE! | KN18: =係数マスタ!$A$14 -> 11 | KO18: =係数マスタ!$B14 | KQ18: =KP18*$B18 -> #VALUE! | KS18: =KR18*$B18 -> #VALUE! | KU18: =KT18*$B18 -> #VALUE! | KW18: =KV18*$B18 -> #VALUE! | KY18: =KX18*$B18 -> #VALUE! | LA18: =係数マスタ!$A$14 -> 11 | LB18: =係数マスタ!$B14 | LD18: =LC18*$B18 -> #VALUE! | LF18: =LE18*$B18 -> #VALUE! | LH18: =LG18*$B18 -> #VALUE! | LJ18: =LI18*$B18 -> #VALUE! | LL18: =LK18*$B18 -> #VALUE! | LN18: =係数マスタ!$A$14 -> 11 | LO18: =係数マスタ!$B14 | LQ18: =LP18*$B18 -> #VALUE! | LS18: =LR18*$B18 -> #VALUE! | LU18: =LT18*$B18 -> #VALUE! | LW18: =LV18*$B18 -> #VALUE! | LY18: =LX18*$B18 -> #VALUE! | MA18: =係数マスタ!$A$14 -> 11 | MB18: =係数マスタ!$B14 | MD18: =MC18*$B18 -> #VALUE! | MF18: =ME18*$B18 -> #VALUE! | MH18: =MG18*$B18 -> #VALUE! | MJ18: =MI18*$B18 -> #VALUE! | ML18: =MK18*$B18 -> #VALUE! | MN18: =係数マスタ!$A$14 -> 11 | MO18: =係数マスタ!$B14 | MQ18: =MP18*$B18 -> #VALUE! | MS18: =MR18*$B18 -> #VALUE! | MU18: =MT18*$B18 -> #VALUE! | MW18: =MV18*$B18 -> #VALUE! | MY18: =MX18*$B18 -> #VALUE! | NA18: =係数マスタ!$A$14 -> 11 | NB18: =係数マスタ!$B14 | ND18: =NC18*$B18 -> #VALUE! | NF18: =NE18*$B18 -> #VALUE! | NH18: =NG18*$B18 -> #VALUE! | NJ18: =NI18*$B18 -> #VALUE! | NL18: =NK18*$B18 -> #VALUE! | NN18: =係数マスタ!$A$14 -> 11 | NO18: =係数マスタ!$B14 | NQ18: =NP18*$B18 -> #VALUE! | NS18: =NR18*$B18 -> #VALUE! | NU18: =NT18*$B18 -> #VALUE! | NW18: =NV18*$B18 -> #VALUE! | NY18: =NX18*$B18 -> #VALUE! | OA18: =係数マスタ!$A$14 -> 11 | OB18: =係数マスタ!$B14 | OD18: =OC18*$B18 -> #VALUE! | OF18: =OE18*$B18 -> #VALUE! | OH18: =OG18*$B18 -> #VALUE! | OJ18: =OI18*$B18 -> #VALUE! | OL18: =OK18*$B18 -> #VALUE! | ON18: =係数マスタ!$A$14 -> 11 | OO18: =係数マスタ!$B14 | OQ18: =OP18*$B18 -> #VALUE! | OS18: =OR18*$B18 -> #VALUE! | OU18: =OT18*$B18 -> #VALUE! | OW18: =OV18*$B18 -> #VALUE! | OY18: =OX18*$B18 -> #VALUE! | PA18: =係数マスタ!$A$14 -> 11 | PB18: =係数マスタ!$B14 | PD18: =PC18*$B18 -> #VALUE! | PF18: =PE18*$B18 -> #VALUE! | PH18: =PG18*$B18 -> #VALUE! | PJ18: =PI18*$B18 -> #VALUE! | PL18: =PK18*$B18 -> #VALUE! | PN18: =係数マスタ!$A$14 -> 11 | PO18: =係数マスタ!$B14 | PQ18: =PP18*$B18 -> #VALUE! | PS18: =PR18*$B18 -> #VALUE! | PU18: =PT18*$B18 -> #VALUE! | PW18: =PV18*$B18 -> #VALUE! | PY18: =PX18*$B18 -> #VALUE! | QA18: =係数マスタ!$A$14 -> 11 | QB18: =係数マスタ!$B14 | QD18: =QC18*$B18 -> #VALUE! | QF18: =QE18*$B18 -> #VALUE! | QH18: =QG18*$B18 -> #VALUE! | QJ18: =QI18*$B18 -> #VALUE! | QL18: =QK18*$B18 -> #VALUE! | QN18: =係数マスタ!$A$14 -> 11 | QO18: =係数マスタ!$B14 | QQ18: =QP18*$B18 -> #VALUE! | QS18: =QR18*$B18 -> #VALUE! | QU18: =QT18*$B18 -> #VALUE! | QW18: =QV18*$B18 -> #VALUE! | QY18: =QX18*$B18 -> #VALUE! | RA18: =係数マスタ!$A$14 -> 11 | RB18: =係数マスタ!$B14 | RD18: =RC18*$B18 -> #VALUE! | RF18: =RE18*$B18 -> #VALUE! | RH18: =RG18*$B18 -> #VALUE! | RJ18: =RI18*$B18 -> #VALUE! | RL18: =RK18*$B18 -> #VALUE! | RN18: =係数マスタ!$A$14 -> 11 | RO18: =係数マスタ!$B14 | RQ18: =RP18*$B18 -> #VALUE! | RS18: =RR18*$B18 -> #VALUE! | RU18: =RT18*$B18 -> #VALUE! | RW18: =RV18*$B18 -> #VALUE! | RY18: =RX18*$B18 -> #VALUE! | SA18: =係数マスタ!$A$14 -> 11 | SB18: =係数マスタ!$B14 | SD18: =SC18*$B18 -> #VALUE! | SF18: =SE18*$B18 -> #VALUE! | SH18: =SG18*$B18 -> #VALUE! | SJ18: =SI18*$B18 -> #VALUE! | SL18: =SK18*$B18 -> #VALUE! | SN18: =係数マスタ!$A$14 -> 11 | SO18: =係数マスタ!$B14 | SQ18: =SP18*$B18 -> #VALUE! | SS18: =SR18*$B18 -> #VALUE! | SU18: =ST18*$B18 -> #VALUE! | SW18: =SV18*$B18 -> #VALUE! | SY18: =SX18*$B18 -> #VALUE! | TA18: =係数マスタ!$A$14 -> 11 | TB18: =係数マスタ!$B14 | TD18: =TC18*$B18 -> #VALUE! | TF18: =TE18*$B18 -> #VALUE! | TH18: =TG18*$B18 -> #VALUE! | TJ18: =TI18*$B18 -> #VALUE! | TL18: =TK18*$B18 -> #VALUE! | TN18: =係数マスタ!$A$14 -> 11 | TO18: =係数マスタ!$B14 | TQ18: =TP18*$B18 -> #VALUE! | TS18: =TR18*$B18 -> #VALUE! | TU18: =TT18*$B18 -> #VALUE! | TW18: =TV18*$B18 -> #VALUE! | TY18: =TX18*$B18 -> #VALUE! | UA18: =係数マスタ!$A$14 -> 11 | UB18: =係数マスタ!$B14 | UD18: =UC18*$B18 -> #VALUE! | UF18: =UE18*$B18 -> #VALUE! | UH18: =UG18*$B18 -> #VALUE! | UJ18: =UI18*$B18 -> #VALUE! | UL18: =UK18*$B18 -> #VALUE! | UN18: =係数マスタ!$A$14 -> 11 | UO18: =係数マスタ!$B14 | UQ18: =UP18*$B18 -> #VALUE! | US18: =UR18*$B18 -> #VALUE! | UU18: =UT18*$B18 -> #VALUE! | UW18: =UV18*$B18 -> #VALUE! | UY18: =UX18*$B18 -> #VALUE! | VA18: =係数マスタ!$A$14 -> 11 | VB18: =係数マスタ!$B14 | VD18: =VC18*$B18 -> #VALUE! | VF18: =VE18*$B18 -> #VALUE! | VH18: =VG18*$B18 -> #VALUE! | VJ18: =VI18*$B18 -> #VALUE! | VL18: =VK18*$B18 -> #VALUE! | VN18: =係数マスタ!$A$14 -> 11 | VO18: =係数マスタ!$B14 | VQ18: =VP18*$B18 -> #VALUE! | VS18: =VR18*$B18 -> #VALUE! | VU18: =VT18*$B18 -> #VALUE! | VW18: =VV18*$B18 -> #VALUE! | VY18: =VX18*$B18 -> #VALUE! | WA18: =係数マスタ!$A$14 -> 11 | WB18: =係数マスタ!$B14 | WD18: =WC18*$B18 -> #VALUE! | WF18: =WE18*$B18 -> #VALUE! | WH18: =WG18*$B18 -> #VALUE! | WJ18: =WI18*$B18 -> #VALUE! | WL18: =WK18*$B18 -> #VALUE! | WN18: =係数マスタ!$A$14 -> 11 | WO18: =係数マスタ!$B14 | WQ18: =WP18*$B18 -> #VALUE! | WS18: =WR18*$B18 -> #VALUE! | WU18: =WT18*$B18 -> #VALUE! | WW18: =WV18*$B18 -> #VALUE! | WY18: =WX18*$B18 -> #VALUE! | XA18: =係数マスタ!$A$14 -> 11 | XB18: =係数マスタ!$B14 | XD18: =XC18*$B18 -> #VALUE! | XF18: =XE18*$B18 -> #VALUE! | XH18: =XG18*$B18 -> #VALUE! | XJ18: =XI18*$B18 -> #VALUE! | XL18: =XK18*$B18 -> #VALUE! | XN18: =係数マスタ!$A$14 -> 11 | XO18: =係数マスタ!$B14 | XQ18: =XP18*$B18 -> #VALUE! | XS18: =XR18*$B18 -> #VALUE! | XU18: =XT18*$B18 -> #VALUE! | XW18: =XV18*$B18 -> #VALUE! | XY18: =XX18*$B18 -> #VALUE!
A19: =係数マスタ!$A$15 -> 12 | B19: =係数マスタ!$B15 | D19: =C19*$B19 -> #VALUE! | F19: =E19*$B19 -> #VALUE! | H19: =G19*$B19 -> #VALUE! | J19: =I19*$B19 -> #VALUE! | L19: =K19*$B19 -> #VALUE! | N19: =係数マスタ!$A$15 -> 12 | O19: =係数マスタ!$B15 | Q19: =P19*$B19 -> #VALUE! | S19: =R19*$B19 -> #VALUE! | U19: =T19*$B19 -> #VALUE! | W19: =V19*$B19 -> #VALUE! | Y19: =X19*$B19 -> #VALUE! | AA19: =係数マスタ!$A$15 -> 12 | AB19: =係数マスタ!$B15 | AD19: =AC19*$B19 -> #VALUE! | AF19: =AE19*$B19 -> #VALUE! | AH19: =AG19*$B19 -> #VALUE! | AJ19: =AI19*$B19 -> #VALUE! | AL19: =AK19*$B19 -> #VALUE! | AN19: =係数マスタ!$A$15 -> 12 | AO19: =係数マスタ!$B15 | AQ19: =AP19*$B19 -> #VALUE! | AS19: =AR19*$B19 -> #VALUE! | AU19: =AT19*$B19 -> #VALUE! | AW19: =AV19*$B19 -> #VALUE! | AY19: =AX19*$B19 -> #VALUE! | BA19: =係数マスタ!$A$15 -> 12 | BB19: =係数マスタ!$B15 | BD19: =BC19*$B19 -> #VALUE! | BF19: =BE19*$B19 -> #VALUE! | BH19: =BG19*$B19 -> #VALUE! | BJ19: =BI19*$B19 -> #VALUE! | BL19: =BK19*$B19 -> #VALUE! | BN19: =係数マスタ!$A$15 -> 12 | BO19: =係数マスタ!$B15 | BQ19: =BP19*$B19 -> #VALUE! | BS19: =BR19*$B19 -> #VALUE! | BU19: =BT19*$B19 -> #VALUE! | BW19: =BV19*$B19 -> #VALUE! | BY19: =BX19*$B19 -> #VALUE! | CA19: =係数マスタ!$A$15 -> 12 | CB19: =係数マスタ!$B15 | CD19: =CC19*$B19 -> #VALUE! | CF19: =CE19*$B19 -> #VALUE! | CH19: =CG19*$B19 -> #VALUE! | CJ19: =CI19*$B19 -> #VALUE! | CL19: =CK19*$B19 -> #VALUE! | CN19: =係数マスタ!$A$15 -> 12 | CO19: =係数マスタ!$B15 | CQ19: =CP19*$B19 -> #VALUE! | CS19: =CR19*$B19 -> #VALUE! | CU19: =CT19*$B19 -> #VALUE! | CW19: =CV19*$B19 -> #VALUE! | CY19: =CX19*$B19 -> #VALUE! | DA19: =係数マスタ!$A$15 -> 12 | DB19: =係数マスタ!$B15 | DD19: =DC19*$B19 -> #VALUE! | DF19: =DE19*$B19 -> #VALUE! | DH19: =DG19*$B19 -> #VALUE! | DJ19: =DI19*$B19 -> #VALUE! | DL19: =DK19*$B19 -> #VALUE! | DN19: =係数マスタ!$A$15 -> 12 | DO19: =係数マスタ!$B15 | DQ19: =DP19*$B19 -> #VALUE! | DS19: =DR19*$B19 -> #VALUE! | DU19: =DT19*$B19 -> #VALUE! | DW19: =DV19*$B19 -> #VALUE! | DY19: =DX19*$B19 -> #VALUE! | EA19: =係数マスタ!$A$15 -> 12 | EB19: =係数マスタ!$B15 | ED19: =EC19*$B19 -> #VALUE! | EF19: =EE19*$B19 -> #VALUE! | EH19: =EG19*$B19 -> #VALUE! | EJ19: =EI19*$B19 -> #VALUE! | EL19: =EK19*$B19 -> #VALUE! | EN19: =係数マスタ!$A$15 -> 12 | EO19: =係数マスタ!$B15 | EQ19: =EP19*$B19 -> #VALUE! | ES19: =ER19*$B19 -> #VALUE! | EU19: =ET19*$B19 -> #VALUE! | EW19: =EV19*$B19 -> #VALUE! | EY19: =EX19*$B19 -> #VALUE! | FA19: =係数マスタ!$A$15 -> 12 | FB19: =係数マスタ!$B15 | FD19: =FC19*$B19 -> #VALUE! | FF19: =FE19*$B19 -> #VALUE! | FH19: =FG19*$B19 -> #VALUE! | FJ19: =FI19*$B19 -> #VALUE! | FL19: =FK19*$B19 -> #VALUE! | FN19: =係数マスタ!$A$15 -> 12 | FO19: =係数マスタ!$B15 | FQ19: =FP19*$B19 -> #VALUE! | FS19: =FR19*$B19 -> #VALUE! | FU19: =FT19*$B19 -> #VALUE! | FW19: =FV19*$B19 -> #VALUE! | FY19: =FX19*$B19 -> #VALUE! | GA19: =係数マスタ!$A$15 -> 12 | GB19: =係数マスタ!$B15 | GD19: =GC19*$B19 -> #VALUE! | GF19: =GE19*$B19 -> #VALUE! | GH19: =GG19*$B19 -> #VALUE! | GJ19: =GI19*$B19 -> #VALUE! | GL19: =GK19*$B19 -> #VALUE! | GN19: =係数マスタ!$A$15 -> 12 | GO19: =係数マスタ!$B15 | GQ19: =GP19*$B19 -> #VALUE! | GS19: =GR19*$B19 -> #VALUE! | GU19: =GT19*$B19 -> #VALUE! | GW19: =GV19*$B19 -> #VALUE! | GY19: =GX19*$B19 -> #VALUE! | HA19: =係数マスタ!$A$15 -> 12 | HB19: =係数マスタ!$B15 | HD19: =HC19*$B19 -> #VALUE! | HF19: =HE19*$B19 -> #VALUE! | HH19: =HG19*$B19 -> #VALUE! | HJ19: =HI19*$B19 -> #VALUE! | HL19: =HK19*$B19 -> #VALUE! | HN19: =係数マスタ!$A$15 -> 12 | HO19: =係数マスタ!$B15 | HQ19: =HP19*$B19 -> #VALUE! | HS19: =HR19*$B19 -> #VALUE! | HU19: =HT19*$B19 -> #VALUE! | HW19: =HV19*$B19 -> #VALUE! | HY19: =HX19*$B19 -> #VALUE! | IA19: =係数マスタ!$A$15 -> 12 | IB19: =係数マスタ!$B15 | ID19: =IC19*$B19 -> #VALUE! | IF19: =IE19*$B19 -> #VALUE! | IH19: =IG19*$B19 -> #VALUE! | IJ19: =II19*$B19 -> #VALUE! | IL19: =IK19*$B19 -> #VALUE! | IN19: =係数マスタ!$A$15 -> 12 | IO19: =係数マスタ!$B15 | IQ19: =IP19*$B19 -> #VALUE! | IS19: =IR19*$B19 -> #VALUE! | IU19: =IT19*$B19 -> #VALUE! | IW19: =IV19*$B19 -> #VALUE! | IY19: =IX19*$B19 -> #VALUE! | JA19: =係数マスタ!$A$15 -> 12 | JB19: =係数マスタ!$B15 | JD19: =JC19*$B19 -> #VALUE! | JF19: =JE19*$B19 -> #VALUE! | JH19: =JG19*$B19 -> #VALUE! | JJ19: =JI19*$B19 -> #VALUE! | JL19: =JK19*$B19 -> #VALUE! | JN19: =係数マスタ!$A$15 -> 12 | JO19: =係数マスタ!$B15 | JQ19: =JP19*$B19 -> #VALUE! | JS19: =JR19*$B19 -> #VALUE! | JU19: =JT19*$B19 -> #VALUE! | JW19: =JV19*$B19 -> #VALUE! | JY19: =JX19*$B19 -> #VALUE! | KA19: =係数マスタ!$A$15 -> 12 | KB19: =係数マスタ!$B15 | KD19: =KC19*$B19 -> #VALUE! | KF19: =KE19*$B19 -> #VALUE! | KH19: =KG19*$B19 -> #VALUE! | KJ19: =KI19*$B19 -> #VALUE! | KL19: =KK19*$B19 -> #VALUE! | KN19: =係数マスタ!$A$15 -> 12 | KO19: =係数マスタ!$B15 | KQ19: =KP19*$B19 -> #VALUE! | KS19: =KR19*$B19 -> #VALUE! | KU19: =KT19*$B19 -> #VALUE! | KW19: =KV19*$B19 -> #VALUE! | KY19: =KX19*$B19 -> #VALUE! | LA19: =係数マスタ!$A$15 -> 12 | LB19: =係数マスタ!$B15 | LD19: =LC19*$B19 -> #VALUE! | LF19: =LE19*$B19 -> #VALUE! | LH19: =LG19*$B19 -> #VALUE! | LJ19: =LI19*$B19 -> #VALUE! | LL19: =LK19*$B19 -> #VALUE! | LN19: =係数マスタ!$A$15 -> 12 | LO19: =係数マスタ!$B15 | LQ19: =LP19*$B19 -> #VALUE! | LS19: =LR19*$B19 -> #VALUE! | LU19: =LT19*$B19 -> #VALUE! | LW19: =LV19*$B19 -> #VALUE! | LY19: =LX19*$B19 -> #VALUE! | MA19: =係数マスタ!$A$15 -> 12 | MB19: =係数マスタ!$B15 | MD19: =MC19*$B19 -> #VALUE! | MF19: =ME19*$B19 -> #VALUE! | MH19: =MG19*$B19 -> #VALUE! | MJ19: =MI19*$B19 -> #VALUE! | ML19: =MK19*$B19 -> #VALUE! | MN19: =係数マスタ!$A$15 -> 12 | MO19: =係数マスタ!$B15 | MQ19: =MP19*$B19 -> #VALUE! | MS19: =MR19*$B19 -> #VALUE! | MU19: =MT19*$B19 -> #VALUE! | MW19: =MV19*$B19 -> #VALUE! | MY19: =MX19*$B19 -> #VALUE! | NA19: =係数マスタ!$A$15 -> 12 | NB19: =係数マスタ!$B15 | ND19: =NC19*$B19 -> #VALUE! | NF19: =NE19*$B19 -> #VALUE! | NH19: =NG19*$B19 -> #VALUE! | NJ19: =NI19*$B19 -> #VALUE! | NL19: =NK19*$B19 -> #VALUE! | NN19: =係数マスタ!$A$15 -> 12 | NO19: =係数マスタ!$B15 | NQ19: =NP19*$B19 -> #VALUE! | NS19: =NR19*$B19 -> #VALUE! | NU19: =NT19*$B19 -> #VALUE! | NW19: =NV19*$B19 -> #VALUE! | NY19: =NX19*$B19 -> #VALUE! | OA19: =係数マスタ!$A$15 -> 12 | OB19: =係数マスタ!$B15 | OD19: =OC19*$B19 -> #VALUE! | OF19: =OE19*$B19 -> #VALUE! | OH19: =OG19*$B19 -> #VALUE! | OJ19: =OI19*$B19 -> #VALUE! | OL19: =OK19*$B19 -> #VALUE! | ON19: =係数マスタ!$A$15 -> 12 | OO19: =係数マスタ!$B15 | OQ19: =OP19*$B19 -> #VALUE! | OS19: =OR19*$B19 -> #VALUE! | OU19: =OT19*$B19 -> #VALUE! | OW19: =OV19*$B19 -> #VALUE! | OY19: =OX19*$B19 -> #VALUE! | PA19: =係数マスタ!$A$15 -> 12 | PB19: =係数マスタ!$B15 | PD19: =PC19*$B19 -> #VALUE! | PF19: =PE19*$B19 -> #VALUE! | PH19: =PG19*$B19 -> #VALUE! | PJ19: =PI19*$B19 -> #VALUE! | PL19: =PK19*$B19 -> #VALUE! | PN19: =係数マスタ!$A$15 -> 12 | PO19: =係数マスタ!$B15 | PQ19: =PP19*$B19 -> #VALUE! | PS19: =PR19*$B19 -> #VALUE! | PU19: =PT19*$B19 -> #VALUE! | PW19: =PV19*$B19 -> #VALUE! | PY19: =PX19*$B19 -> #VALUE! | QA19: =係数マスタ!$A$15 -> 12 | QB19: =係数マスタ!$B15 | QD19: =QC19*$B19 -> #VALUE! | QF19: =QE19*$B19 -> #VALUE! | QH19: =QG19*$B19 -> #VALUE! | QJ19: =QI19*$B19 -> #VALUE! | QL19: =QK19*$B19 -> #VALUE! | QN19: =係数マスタ!$A$15 -> 12 | QO19: =係数マスタ!$B15 | QQ19: =QP19*$B19 -> #VALUE! | QS19: =QR19*$B19 -> #VALUE! | QU19: =QT19*$B19 -> #VALUE! | QW19: =QV19*$B19 -> #VALUE! | QY19: =QX19*$B19 -> #VALUE! | RA19: =係数マスタ!$A$15 -> 12 | RB19: =係数マスタ!$B15 | RD19: =RC19*$B19 -> #VALUE! | RF19: =RE19*$B19 -> #VALUE! | RH19: =RG19*$B19 -> #VALUE! | RJ19: =RI19*$B19 -> #VALUE! | RL19: =RK19*$B19 -> #VALUE! | RN19: =係数マスタ!$A$15 -> 12 | RO19: =係数マスタ!$B15 | RQ19: =RP19*$B19 -> #VALUE! | RS19: =RR19*$B19 -> #VALUE! | RU19: =RT19*$B19 -> #VALUE! | RW19: =RV19*$B19 -> #VALUE! | RY19: =RX19*$B19 -> #VALUE! | SA19: =係数マスタ!$A$15 -> 12 | SB19: =係数マスタ!$B15 | SD19: =SC19*$B19 -> #VALUE! | SF19: =SE19*$B19 -> #VALUE! | SH19: =SG19*$B19 -> #VALUE! | SJ19: =SI19*$B19 -> #VALUE! | SL19: =SK19*$B19 -> #VALUE! | SN19: =係数マスタ!$A$15 -> 12 | SO19: =係数マスタ!$B15 | SQ19: =SP19*$B19 -> #VALUE! | SS19: =SR19*$B19 -> #VALUE! | SU19: =ST19*$B19 -> #VALUE! | SW19: =SV19*$B19 -> #VALUE! | SY19: =SX19*$B19 -> #VALUE! | TA19: =係数マスタ!$A$15 -> 12 | TB19: =係数マスタ!$B15 | TD19: =TC19*$B19 -> #VALUE! | TF19: =TE19*$B19 -> #VALUE! | TH19: =TG19*$B19 -> #VALUE! | TJ19: =TI19*$B19 -> #VALUE! | TL19: =TK19*$B19 -> #VALUE! | TN19: =係数マスタ!$A$15 -> 12 | TO19: =係数マスタ!$B15 | TQ19: =TP19*$B19 -> #VALUE! | TS19: =TR19*$B19 -> #VALUE! | TU19: =TT19*$B19 -> #VALUE! | TW19: =TV19*$B19 -> #VALUE! | TY19: =TX19*$B19 -> #VALUE! | UA19: =係数マスタ!$A$15 -> 12 | UB19: =係数マスタ!$B15 | UD19: =UC19*$B19 -> #VALUE! | UF19: =UE19*$B19 -> #VALUE! | UH19: =UG19*$B19 -> #VALUE! | UJ19: =UI19*$B19 -> #VALUE! | UL19: =UK19*$B19 -> #VALUE! | UN19: =係数マスタ!$A$15 -> 12 | UO19: =係数マスタ!$B15 | UQ19: =UP19*$B19 -> #VALUE! | US19: =UR19*$B19 -> #VALUE! | UU19: =UT19*$B19 -> #VALUE! | UW19: =UV19*$B19 -> #VALUE! | UY19: =UX19*$B19 -> #VALUE! | VA19: =係数マスタ!$A$15 -> 12 | VB19: =係数マスタ!$B15 | VD19: =VC19*$B19 -> #VALUE! | VF19: =VE19*$B19 -> #VALUE! | VH19: =VG19*$B19 -> #VALUE! | VJ19: =VI19*$B19 -> #VALUE! | VL19: =VK19*$B19 -> #VALUE! | VN19: =係数マスタ!$A$15 -> 12 | VO19: =係数マスタ!$B15 | VQ19: =VP19*$B19 -> #VALUE! | VS19: =VR19*$B19 -> #VALUE! | VU19: =VT19*$B19 -> #VALUE! | VW19: =VV19*$B19 -> #VALUE! | VY19: =VX19*$B19 -> #VALUE! | WA19: =係数マスタ!$A$15 -> 12 | WB19: =係数マスタ!$B15 | WD19: =WC19*$B19 -> #VALUE! | WF19: =WE19*$B19 -> #VALUE! | WH19: =WG19*$B19 -> #VALUE! | WJ19: =WI19*$B19 -> #VALUE! | WL19: =WK19*$B19 -> #VALUE! | WN19: =係数マスタ!$A$15 -> 12 | WO19: =係数マスタ!$B15 | WQ19: =WP19*$B19 -> #VALUE! | WS19: =WR19*$B19 -> #VALUE! | WU19: =WT19*$B19 -> #VALUE! | WW19: =WV19*$B19 -> #VALUE! | WY19: =WX19*$B19 -> #VALUE! | XA19: =係数マスタ!$A$15 -> 12 | XB19: =係数マスタ!$B15 | XD19: =XC19*$B19 -> #VALUE! | XF19: =XE19*$B19 -> #VALUE! | XH19: =XG19*$B19 -> #VALUE! | XJ19: =XI19*$B19 -> #VALUE! | XL19: =XK19*$B19 -> #VALUE! | XN19: =係数マスタ!$A$15 -> 12 | XO19: =係数マスタ!$B15 | XQ19: =XP19*$B19 -> #VALUE! | XS19: =XR19*$B19 -> #VALUE! | XU19: =XT19*$B19 -> #VALUE! | XW19: =XV19*$B19 -> #VALUE! | XY19: =XX19*$B19 -> #VALUE!
A20: =係数マスタ!$A$16 -> 13 | B20: =係数マスタ!$B16 | D20: =C20*$B20 -> #VALUE! | F20: =E20*$B20 -> #VALUE! | H20: =G20*$B20 -> #VALUE! | J20: =I20*$B20 -> #VALUE! | L20: =K20*$B20 -> #VALUE! | N20: =係数マスタ!$A$16 -> 13 | O20: =係数マスタ!$B16 | Q20: =P20*$B20 -> #VALUE! | S20: =R20*$B20 -> #VALUE! | U20: =T20*$B20 -> #VALUE! | W20: =V20*$B20 -> #VALUE! | Y20: =X20*$B20 -> #VALUE! | AA20: =係数マスタ!$A$16 -> 13 | AB20: =係数マスタ!$B16 | AD20: =AC20*$B20 -> #VALUE! | AF20: =AE20*$B20 -> #VALUE! | AH20: =AG20*$B20 -> #VALUE! | AJ20: =AI20*$B20 -> #VALUE! | AL20: =AK20*$B20 -> #VALUE! | AN20: =係数マスタ!$A$16 -> 13 | AO20: =係数マスタ!$B16 | AQ20: =AP20*$B20 -> #VALUE! | AS20: =AR20*$B20 -> #VALUE! | AU20: =AT20*$B20 -> #VALUE! | AW20: =AV20*$B20 -> #VALUE! | AY20: =AX20*$B20 -> #VALUE! | BA20: =係数マスタ!$A$16 -> 13 | BB20: =係数マスタ!$B16 | BD20: =BC20*$B20 -> #VALUE! | BF20: =BE20*$B20 -> #VALUE! | BH20: =BG20*$B20 -> #VALUE! | BJ20: =BI20*$B20 -> #VALUE! | BL20: =BK20*$B20 -> #VALUE! | BN20: =係数マスタ!$A$16 -> 13 | BO20: =係数マスタ!$B16 | BQ20: =BP20*$B20 -> #VALUE! | BS20: =BR20*$B20 -> #VALUE! | BU20: =BT20*$B20 -> #VALUE! | BW20: =BV20*$B20 -> #VALUE! | BY20: =BX20*$B20 -> #VALUE! | CA20: =係数マスタ!$A$16 -> 13 | CB20: =係数マスタ!$B16 | CD20: =CC20*$B20 -> #VALUE! | CF20: =CE20*$B20 -> #VALUE! | CH20: =CG20*$B20 -> #VALUE! | CJ20: =CI20*$B20 -> #VALUE! | CL20: =CK20*$B20 -> #VALUE! | CN20: =係数マスタ!$A$16 -> 13 | CO20: =係数マスタ!$B16 | CQ20: =CP20*$B20 -> #VALUE! | CS20: =CR20*$B20 -> #VALUE! | CU20: =CT20*$B20 -> #VALUE! | CW20: =CV20*$B20 -> #VALUE! | CY20: =CX20*$B20 -> #VALUE! | DA20: =係数マスタ!$A$16 -> 13 | DB20: =係数マスタ!$B16 | DD20: =DC20*$B20 -> #VALUE! | DF20: =DE20*$B20 -> #VALUE! | DH20: =DG20*$B20 -> #VALUE! | DJ20: =DI20*$B20 -> #VALUE! | DL20: =DK20*$B20 -> #VALUE! | DN20: =係数マスタ!$A$16 -> 13 | DO20: =係数マスタ!$B16 | DQ20: =DP20*$B20 -> #VALUE! | DS20: =DR20*$B20 -> #VALUE! | DU20: =DT20*$B20 -> #VALUE! | DW20: =DV20*$B20 -> #VALUE! | DY20: =DX20*$B20 -> #VALUE! | EA20: =係数マスタ!$A$16 -> 13 | EB20: =係数マスタ!$B16 | ED20: =EC20*$B20 -> #VALUE! | EF20: =EE20*$B20 -> #VALUE! | EH20: =EG20*$B20 -> #VALUE! | EJ20: =EI20*$B20 -> #VALUE! | EL20: =EK20*$B20 -> #VALUE! | EN20: =係数マスタ!$A$16 -> 13 | EO20: =係数マスタ!$B16 | EQ20: =EP20*$B20 -> #VALUE! | ES20: =ER20*$B20 -> #VALUE! | EU20: =ET20*$B20 -> #VALUE! | EW20: =EV20*$B20 -> #VALUE! | EY20: =EX20*$B20 -> #VALUE! | FA20: =係数マスタ!$A$16 -> 13 | FB20: =係数マスタ!$B16 | FD20: =FC20*$B20 -> #VALUE! | FF20: =FE20*$B20 -> #VALUE! | FH20: =FG20*$B20 -> #VALUE! | FJ20: =FI20*$B20 -> #VALUE! | FL20: =FK20*$B20 -> #VALUE! | FN20: =係数マスタ!$A$16 -> 13 | FO20: =係数マスタ!$B16 | FQ20: =FP20*$B20 -> #VALUE! | FS20: =FR20*$B20 -> #VALUE! | FU20: =FT20*$B20 -> #VALUE! | FW20: =FV20*$B20 -> #VALUE! | FY20: =FX20*$B20 -> #VALUE! | GA20: =係数マスタ!$A$16 -> 13 | GB20: =係数マスタ!$B16 | GD20: =GC20*$B20 -> #VALUE! | GF20: =GE20*$B20 -> #VALUE! | GH20: =GG20*$B20 -> #VALUE! | GJ20: =GI20*$B20 -> #VALUE! | GL20: =GK20*$B20 -> #VALUE! | GN20: =係数マスタ!$A$16 -> 13 | GO20: =係数マスタ!$B16 | GQ20: =GP20*$B20 -> #VALUE! | GS20: =GR20*$B20 -> #VALUE! | GU20: =GT20*$B20 -> #VALUE! | GW20: =GV20*$B20 -> #VALUE! | GY20: =GX20*$B20 -> #VALUE! | HA20: =係数マスタ!$A$16 -> 13 | HB20: =係数マスタ!$B16 | HD20: =HC20*$B20 -> #VALUE! | HF20: =HE20*$B20 -> #VALUE! | HH20: =HG20*$B20 -> #VALUE! | HJ20: =HI20*$B20 -> #VALUE! | HL20: =HK20*$B20 -> #VALUE! | HN20: =係数マスタ!$A$16 -> 13 | HO20: =係数マスタ!$B16 | HQ20: =HP20*$B20 -> #VALUE! | HS20: =HR20*$B20 -> #VALUE! | HU20: =HT20*$B20 -> #VALUE! | HW20: =HV20*$B20 -> #VALUE! | HY20: =HX20*$B20 -> #VALUE! | IA20: =係数マスタ!$A$16 -> 13 | IB20: =係数マスタ!$B16 | ID20: =IC20*$B20 -> #VALUE! | IF20: =IE20*$B20 -> #VALUE! | IH20: =IG20*$B20 -> #VALUE! | IJ20: =II20*$B20 -> #VALUE! | IL20: =IK20*$B20 -> #VALUE! | IN20: =係数マスタ!$A$16 -> 13 | IO20: =係数マスタ!$B16 | IQ20: =IP20*$B20 -> #VALUE! | IS20: =IR20*$B20 -> #VALUE! | IU20: =IT20*$B20 -> #VALUE! | IW20: =IV20*$B20 -> #VALUE! | IY20: =IX20*$B20 -> #VALUE! | JA20: =係数マスタ!$A$16 -> 13 | JB20: =係数マスタ!$B16 | JD20: =JC20*$B20 -> #VALUE! | JF20: =JE20*$B20 -> #VALUE! | JH20: =JG20*$B20 -> #VALUE! | JJ20: =JI20*$B20 -> #VALUE! | JL20: =JK20*$B20 -> #VALUE! | JN20: =係数マスタ!$A$16 -> 13 | JO20: =係数マスタ!$B16 | JQ20: =JP20*$B20 -> #VALUE! | JS20: =JR20*$B20 -> #VALUE! | JU20: =JT20*$B20 -> #VALUE! | JW20: =JV20*$B20 -> #VALUE! | JY20: =JX20*$B20 -> #VALUE! | KA20: =係数マスタ!$A$16 -> 13 | KB20: =係数マスタ!$B16 | KD20: =KC20*$B20 -> #VALUE! | KF20: =KE20*$B20 -> #VALUE! | KH20: =KG20*$B20 -> #VALUE! | KJ20: =KI20*$B20 -> #VALUE! | KL20: =KK20*$B20 -> #VALUE! | KN20: =係数マスタ!$A$16 -> 13 | KO20: =係数マスタ!$B16 | KQ20: =KP20*$B20 -> #VALUE! | KS20: =KR20*$B20 -> #VALUE! | KU20: =KT20*$B20 -> #VALUE! | KW20: =KV20*$B20 -> #VALUE! | KY20: =KX20*$B20 -> #VALUE! | LA20: =係数マスタ!$A$16 -> 13 | LB20: =係数マスタ!$B16 | LD20: =LC20*$B20 -> #VALUE! | LF20: =LE20*$B20 -> #VALUE! | LH20: =LG20*$B20 -> #VALUE! | LJ20: =LI20*$B20 -> #VALUE! | LL20: =LK20*$B20 -> #VALUE! | LN20: =係数マスタ!$A$16 -> 13 | LO20: =係数マスタ!$B16 | LQ20: =LP20*$B20 -> #VALUE! | LS20: =LR20*$B20 -> #VALUE! | LU20: =LT20*$B20 -> #VALUE! | LW20: =LV20*$B20 -> #VALUE! | LY20: =LX20*$B20 -> #VALUE! | MA20: =係数マスタ!$A$16 -> 13 | MB20: =係数マスタ!$B16 | MD20: =MC20*$B20 -> #VALUE! | MF20: =ME20*$B20 -> #VALUE! | MH20: =MG20*$B20 -> #VALUE! | MJ20: =MI20*$B20 -> #VALUE! | ML20: =MK20*$B20 -> #VALUE! | MN20: =係数マスタ!$A$16 -> 13 | MO20: =係数マスタ!$B16 | MQ20: =MP20*$B20 -> #VALUE! | MS20: =MR20*$B20 -> #VALUE! | MU20: =MT20*$B20 -> #VALUE! | MW20: =MV20*$B20 -> #VALUE! | MY20: =MX20*$B20 -> #VALUE! | NA20: =係数マスタ!$A$16 -> 13 | NB20: =係数マスタ!$B16 | ND20: =NC20*$B20 -> #VALUE! | NF20: =NE20*$B20 -> #VALUE! | NH20: =NG20*$B20 -> #VALUE! | NJ20: =NI20*$B20 -> #VALUE! | NL20: =NK20*$B20 -> #VALUE! | NN20: =係数マスタ!$A$16 -> 13 | NO20: =係数マスタ!$B16 | NQ20: =NP20*$B20 -> #VALUE! | NS20: =NR20*$B20 -> #VALUE! | NU20: =NT20*$B20 -> #VALUE! | NW20: =NV20*$B20 -> #VALUE! | NY20: =NX20*$B20 -> #VALUE! | OA20: =係数マスタ!$A$16 -> 13 | OB20: =係数マスタ!$B16 | OD20: =OC20*$B20 -> #VALUE! | OF20: =OE20*$B20 -> #VALUE! | OH20: =OG20*$B20 -> #VALUE! | OJ20: =OI20*$B20 -> #VALUE! | OL20: =OK20*$B20 -> #VALUE! | ON20: =係数マスタ!$A$16 -> 13 | OO20: =係数マスタ!$B16 | OQ20: =OP20*$B20 -> #VALUE! | OS20: =OR20*$B20 -> #VALUE! | OU20: =OT20*$B20 -> #VALUE! | OW20: =OV20*$B20 -> #VALUE! | OY20: =OX20*$B20 -> #VALUE! | PA20: =係数マスタ!$A$16 -> 13 | PB20: =係数マスタ!$B16 | PD20: =PC20*$B20 -> #VALUE! | PF20: =PE20*$B20 -> #VALUE! | PH20: =PG20*$B20 -> #VALUE! | PJ20: =PI20*$B20 -> #VALUE! | PL20: =PK20*$B20 -> #VALUE! | PN20: =係数マスタ!$A$16 -> 13 | PO20: =係数マスタ!$B16 | PQ20: =PP20*$B20 -> #VALUE! | PS20: =PR20*$B20 -> #VALUE! | PU20: =PT20*$B20 -> #VALUE! | PW20: =PV20*$B20 -> #VALUE! | PY20: =PX20*$B20 -> #VALUE! | QA20: =係数マスタ!$A$16 -> 13 | QB20: =係数マスタ!$B16 | QD20: =QC20*$B20 -> #VALUE! | QF20: =QE20*$B20 -> #VALUE! | QH20: =QG20*$B20 -> #VALUE! | QJ20: =QI20*$B20 -> #VALUE! | QL20: =QK20*$B20 -> #VALUE! | QN20: =係数マスタ!$A$16 -> 13 | QO20: =係数マスタ!$B16 | QQ20: =QP20*$B20 -> #VALUE! | QS20: =QR20*$B20 -> #VALUE! | QU20: =QT20*$B20 -> #VALUE! | QW20: =QV20*$B20 -> #VALUE! | QY20: =QX20*$B20 -> #VALUE! | RA20: =係数マスタ!$A$16 -> 13 | RB20: =係数マスタ!$B16 | RD20: =RC20*$B20 -> #VALUE! | RF20: =RE20*$B20 -> #VALUE! | RH20: =RG20*$B20 -> #VALUE! | RJ20: =RI20*$B20 -> #VALUE! | RL20: =RK20*$B20 -> #VALUE! | RN20: =係数マスタ!$A$16 -> 13 | RO20: =係数マスタ!$B16 | RQ20: =RP20*$B20 -> #VALUE! | RS20: =RR20*$B20 -> #VALUE! | RU20: =RT20*$B20 -> #VALUE! | RW20: =RV20*$B20 -> #VALUE! | RY20: =RX20*$B20 -> #VALUE! | SA20: =係数マスタ!$A$16 -> 13 | SB20: =係数マスタ!$B16 | SD20: =SC20*$B20 -> #VALUE! | SF20: =SE20*$B20 -> #VALUE! | SH20: =SG20*$B20 -> #VALUE! | SJ20: =SI20*$B20 -> #VALUE! | SL20: =SK20*$B20 -> #VALUE! | SN20: =係数マスタ!$A$16 -> 13 | SO20: =係数マスタ!$B16 | SQ20: =SP20*$B20 -> #VALUE! | SS20: =SR20*$B20 -> #VALUE! | SU20: =ST20*$B20 -> #VALUE! | SW20: =SV20*$B20 -> #VALUE! | SY20: =SX20*$B20 -> #VALUE! | TA20: =係数マスタ!$A$16 -> 13 | TB20: =係数マスタ!$B16 | TD20: =TC20*$B20 -> #VALUE! | TF20: =TE20*$B20 -> #VALUE! | TH20: =TG20*$B20 -> #VALUE! | TJ20: =TI20*$B20 -> #VALUE! | TL20: =TK20*$B20 -> #VALUE! | TN20: =係数マスタ!$A$16 -> 13 | TO20: =係数マスタ!$B16 | TQ20: =TP20*$B20 -> #VALUE! | TS20: =TR20*$B20 -> #VALUE! | TU20: =TT20*$B20 -> #VALUE! | TW20: =TV20*$B20 -> #VALUE! | TY20: =TX20*$B20 -> #VALUE! | UA20: =係数マスタ!$A$16 -> 13 | UB20: =係数マスタ!$B16 | UD20: =UC20*$B20 -> #VALUE! | UF20: =UE20*$B20 -> #VALUE! | UH20: =UG20*$B20 -> #VALUE! | UJ20: =UI20*$B20 -> #VALUE! | UL20: =UK20*$B20 -> #VALUE! | UN20: =係数マスタ!$A$16 -> 13 | UO20: =係数マスタ!$B16 | UQ20: =UP20*$B20 -> #VALUE! | US20: =UR20*$B20 -> #VALUE! | UU20: =UT20*$B20 -> #VALUE! | UW20: =UV20*$B20 -> #VALUE! | UY20: =UX20*$B20 -> #VALUE! | VA20: =係数マスタ!$A$16 -> 13 | VB20: =係数マスタ!$B16 | VD20: =VC20*$B20 -> #VALUE! | VF20: =VE20*$B20 -> #VALUE! | VH20: =VG20*$B20 -> #VALUE! | VJ20: =VI20*$B20 -> #VALUE! | VL20: =VK20*$B20 -> #VALUE! | VN20: =係数マスタ!$A$16 -> 13 | VO20: =係数マスタ!$B16 | VQ20: =VP20*$B20 -> #VALUE! | VS20: =VR20*$B20 -> #VALUE! | VU20: =VT20*$B20 -> #VALUE! | VW20: =VV20*$B20 -> #VALUE! | VY20: =VX20*$B20 -> #VALUE! | WA20: =係数マスタ!$A$16 -> 13 | WB20: =係数マスタ!$B16 | WD20: =WC20*$B20 -> #VALUE! | WF20: =WE20*$B20 -> #VALUE! | WH20: =WG20*$B20 -> #VALUE! | WJ20: =WI20*$B20 -> #VALUE! | WL20: =WK20*$B20 -> #VALUE! | WN20: =係数マスタ!$A$16 -> 13 | WO20: =係数マスタ!$B16 | WQ20: =WP20*$B20 -> #VALUE! | WS20: =WR20*$B20 -> #VALUE! | WU20: =WT20*$B20 -> #VALUE! | WW20: =WV20*$B20 -> #VALUE! | WY20: =WX20*$B20 -> #VALUE! | XA20: =係数マスタ!$A$16 -> 13 | XB20: =係数マスタ!$B16 | XD20: =XC20*$B20 -> #VALUE! | XF20: =XE20*$B20 -> #VALUE! | XH20: =XG20*$B20 -> #VALUE! | XJ20: =XI20*$B20 -> #VALUE! | XL20: =XK20*$B20 -> #VALUE! | XN20: =係数マスタ!$A$16 -> 13 | XO20: =係数マスタ!$B16 | XQ20: =XP20*$B20 -> #VALUE! | XS20: =XR20*$B20 -> #VALUE! | XU20: =XT20*$B20 -> #VALUE! | XW20: =XV20*$B20 -> #VALUE! | XY20: =XX20*$B20 -> #VALUE!
A21: =係数マスタ!$A$17 -> 14 | B21: =係数マスタ!$B17 | D21: =C21*$B21 -> #VALUE! | F21: =E21*$B21 -> #VALUE! | H21: =G21*$B21 -> #VALUE! | J21: =I21*$B21 -> #VALUE! | L21: =K21*$B21 -> #VALUE! | N21: =係数マスタ!$A$17 -> 14 | O21: =係数マスタ!$B17 | Q21: =P21*$B21 -> #VALUE! | S21: =R21*$B21 -> #VALUE! | U21: =T21*$B21 -> #VALUE! | W21: =V21*$B21 -> #VALUE! | Y21: =X21*$B21 -> #VALUE! | AA21: =係数マスタ!$A$17 -> 14 | AB21: =係数マスタ!$B17 | AD21: =AC21*$B21 -> #VALUE! | AF21: =AE21*$B21 -> #VALUE! | AH21: =AG21*$B21 -> #VALUE! | AJ21: =AI21*$B21 -> #VALUE! | AL21: =AK21*$B21 -> #VALUE! | AN21: =係数マスタ!$A$17 -> 14 | AO21: =係数マスタ!$B17 | AQ21: =AP21*$B21 -> #VALUE! | AS21: =AR21*$B21 -> #VALUE! | AU21: =AT21*$B21 -> #VALUE! | AW21: =AV21*$B21 -> #VALUE! | AY21: =AX21*$B21 -> #VALUE! | BA21: =係数マスタ!$A$17 -> 14 | BB21: =係数マスタ!$B17 | BD21: =BC21*$B21 -> #VALUE! | BF21: =BE21*$B21 -> #VALUE! | BH21: =BG21*$B21 -> #VALUE! | BJ21: =BI21*$B21 -> #VALUE! | BL21: =BK21*$B21 -> #VALUE! | BN21: =係数マスタ!$A$17 -> 14 | BO21: =係数マスタ!$B17 | BQ21: =BP21*$B21 -> #VALUE! | BS21: =BR21*$B21 -> #VALUE! | BU21: =BT21*$B21 -> #VALUE! | BW21: =BV21*$B21 -> #VALUE! | BY21: =BX21*$B21 -> #VALUE! | CA21: =係数マスタ!$A$17 -> 14 | CB21: =係数マスタ!$B17 | CD21: =CC21*$B21 -> #VALUE! | CF21: =CE21*$B21 -> #VALUE! | CH21: =CG21*$B21 -> #VALUE! | CJ21: =CI21*$B21 -> #VALUE! | CL21: =CK21*$B21 -> #VALUE! | CN21: =係数マスタ!$A$17 -> 14 | CO21: =係数マスタ!$B17 | CQ21: =CP21*$B21 -> #VALUE! | CS21: =CR21*$B21 -> #VALUE! | CU21: =CT21*$B21 -> #VALUE! | CW21: =CV21*$B21 -> #VALUE! | CY21: =CX21*$B21 -> #VALUE! | DA21: =係数マスタ!$A$17 -> 14 | DB21: =係数マスタ!$B17 | DD21: =DC21*$B21 -> #VALUE! | DF21: =DE21*$B21 -> #VALUE! | DH21: =DG21*$B21 -> #VALUE! | DJ21: =DI21*$B21 -> #VALUE! | DL21: =DK21*$B21 -> #VALUE! | DN21: =係数マスタ!$A$17 -> 14 | DO21: =係数マスタ!$B17 | DQ21: =DP21*$B21 -> #VALUE! | DS21: =DR21*$B21 -> #VALUE! | DU21: =DT21*$B21 -> #VALUE! | DW21: =DV21*$B21 -> #VALUE! | DY21: =DX21*$B21 -> #VALUE! | EA21: =係数マスタ!$A$17 -> 14 | EB21: =係数マスタ!$B17 | ED21: =EC21*$B21 -> #VALUE! | EF21: =EE21*$B21 -> #VALUE! | EH21: =EG21*$B21 -> #VALUE! | EJ21: =EI21*$B21 -> #VALUE! | EL21: =EK21*$B21 -> #VALUE! | EN21: =係数マスタ!$A$17 -> 14 | EO21: =係数マスタ!$B17 | EQ21: =EP21*$B21 -> #VALUE! | ES21: =ER21*$B21 -> #VALUE! | EU21: =ET21*$B21 -> #VALUE! | EW21: =EV21*$B21 -> #VALUE! | EY21: =EX21*$B21 -> #VALUE! | FA21: =係数マスタ!$A$17 -> 14 | FB21: =係数マスタ!$B17 | FD21: =FC21*$B21 -> #VALUE! | FF21: =FE21*$B21 -> #VALUE! | FH21: =FG21*$B21 -> #VALUE! | FJ21: =FI21*$B21 -> #VALUE! | FL21: =FK21*$B21 -> #VALUE! | FN21: =係数マスタ!$A$17 -> 14 | FO21: =係数マスタ!$B17 | FQ21: =FP21*$B21 -> #VALUE! | FS21: =FR21*$B21 -> #VALUE! | FU21: =FT21*$B21 -> #VALUE! | FW21: =FV21*$B21 -> #VALUE! | FY21: =FX21*$B21 -> #VALUE! | GA21: =係数マスタ!$A$17 -> 14 | GB21: =係数マスタ!$B17 | GD21: =GC21*$B21 -> #VALUE! | GF21: =GE21*$B21 -> #VALUE! | GH21: =GG21*$B21 -> #VALUE! | GJ21: =GI21*$B21 -> #VALUE! | GL21: =GK21*$B21 -> #VALUE! | GN21: =係数マスタ!$A$17 -> 14 | GO21: =係数マスタ!$B17 | GQ21: =GP21*$B21 -> #VALUE! | GS21: =GR21*$B21 -> #VALUE! | GU21: =GT21*$B21 -> #VALUE! | GW21: =GV21*$B21 -> #VALUE! | GY21: =GX21*$B21 -> #VALUE! | HA21: =係数マスタ!$A$17 -> 14 | HB21: =係数マスタ!$B17 | HD21: =HC21*$B21 -> #VALUE! | HF21: =HE21*$B21 -> #VALUE! | HH21: =HG21*$B21 -> #VALUE! | HJ21: =HI21*$B21 -> #VALUE! | HL21: =HK21*$B21 -> #VALUE! | HN21: =係数マスタ!$A$17 -> 14 | HO21: =係数マスタ!$B17 | HQ21: =HP21*$B21 -> #VALUE! | HS21: =HR21*$B21 -> #VALUE! | HU21: =HT21*$B21 -> #VALUE! | HW21: =HV21*$B21 -> #VALUE! | HY21: =HX21*$B21 -> #VALUE! | IA21: =係数マスタ!$A$17 -> 14 | IB21: =係数マスタ!$B17 | ID21: =IC21*$B21 -> #VALUE! | IF21: =IE21*$B21 -> #VALUE! | IH21: =IG21*$B21 -> #VALUE! | IJ21: =II21*$B21 -> #VALUE! | IL21: =IK21*$B21 -> #VALUE! | IN21: =係数マスタ!$A$17 -> 14 | IO21: =係数マスタ!$B17 | IQ21: =IP21*$B21 -> #VALUE! | IS21: =IR21*$B21 -> #VALUE! | IU21: =IT21*$B21 -> #VALUE! | IW21: =IV21*$B21 -> #VALUE! | IY21: =IX21*$B21 -> #VALUE! | JA21: =係数マスタ!$A$17 -> 14 | JB21: =係数マスタ!$B17 | JD21: =JC21*$B21 -> #VALUE! | JF21: =JE21*$B21 -> #VALUE! | JH21: =JG21*$B21 -> #VALUE! | JJ21: =JI21*$B21 -> #VALUE! | JL21: =JK21*$B21 -> #VALUE! | JN21: =係数マスタ!$A$17 -> 14 | JO21: =係数マスタ!$B17 | JQ21: =JP21*$B21 -> #VALUE! | JS21: =JR21*$B21 -> #VALUE! | JU21: =JT21*$B21 -> #VALUE! | JW21: =JV21*$B21 -> #VALUE! | JY21: =JX21*$B21 -> #VALUE! | KA21: =係数マスタ!$A$17 -> 14 | KB21: =係数マスタ!$B17 | KD21: =KC21*$B21 -> #VALUE! | KF21: =KE21*$B21 -> #VALUE! | KH21: =KG21*$B21 -> #VALUE! | KJ21: =KI21*$B21 -> #VALUE! | KL21: =KK21*$B21 -> #VALUE! | KN21: =係数マスタ!$A$17 -> 14 | KO21: =係数マスタ!$B17 | KQ21: =KP21*$B21 -> #VALUE! | KS21: =KR21*$B21 -> #VALUE! | KU21: =KT21*$B21 -> #VALUE! | KW21: =KV21*$B21 -> #VALUE! | KY21: =KX21*$B21 -> #VALUE! | LA21: =係数マスタ!$A$17 -> 14 | LB21: =係数マスタ!$B17 | LD21: =LC21*$B21 -> #VALUE! | LF21: =LE21*$B21 -> #VALUE! | LH21: =LG21*$B21 -> #VALUE! | LJ21: =LI21*$B21 -> #VALUE! | LL21: =LK21*$B21 -> #VALUE! | LN21: =係数マスタ!$A$17 -> 14 | LO21: =係数マスタ!$B17 | LQ21: =LP21*$B21 -> #VALUE! | LS21: =LR21*$B21 -> #VALUE! | LU21: =LT21*$B21 -> #VALUE! | LW21: =LV21*$B21 -> #VALUE! | LY21: =LX21*$B21 -> #VALUE! | MA21: =係数マスタ!$A$17 -> 14 | MB21: =係数マスタ!$B17 | MD21: =MC21*$B21 -> #VALUE! | MF21: =ME21*$B21 -> #VALUE! | MH21: =MG21*$B21 -> #VALUE! | MJ21: =MI21*$B21 -> #VALUE! | ML21: =MK21*$B21 -> #VALUE! | MN21: =係数マスタ!$A$17 -> 14 | MO21: =係数マスタ!$B17 | MQ21: =MP21*$B21 -> #VALUE! | MS21: =MR21*$B21 -> #VALUE! | MU21: =MT21*$B21 -> #VALUE! | MW21: =MV21*$B21 -> #VALUE! | MY21: =MX21*$B21 -> #VALUE! | NA21: =係数マスタ!$A$17 -> 14 | NB21: =係数マスタ!$B17 | ND21: =NC21*$B21 -> #VALUE! | NF21: =NE21*$B21 -> #VALUE! | NH21: =NG21*$B21 -> #VALUE! | NJ21: =NI21*$B21 -> #VALUE! | NL21: =NK21*$B21 -> #VALUE! | NN21: =係数マスタ!$A$17 -> 14 | NO21: =係数マスタ!$B17 | NQ21: =NP21*$B21 -> #VALUE! | NS21: =NR21*$B21 -> #VALUE! | NU21: =NT21*$B21 -> #VALUE! | NW21: =NV21*$B21 -> #VALUE! | NY21: =NX21*$B21 -> #VALUE! | OA21: =係数マスタ!$A$17 -> 14 | OB21: =係数マスタ!$B17 | OD21: =OC21*$B21 -> #VALUE! | OF21: =OE21*$B21 -> #VALUE! | OH21: =OG21*$B21 -> #VALUE! | OJ21: =OI21*$B21 -> #VALUE! | OL21: =OK21*$B21 -> #VALUE! | ON21: =係数マスタ!$A$17 -> 14 | OO21: =係数マスタ!$B17 | OQ21: =OP21*$B21 -> #VALUE! | OS21: =OR21*$B21 -> #VALUE! | OU21: =OT21*$B21 -> #VALUE! | OW21: =OV21*$B21 -> #VALUE! | OY21: =OX21*$B21 -> #VALUE! | PA21: =係数マスタ!$A$17 -> 14 | PB21: =係数マスタ!$B17 | PD21: =PC21*$B21 -> #VALUE! | PF21: =PE21*$B21 -> #VALUE! | PH21: =PG21*$B21 -> #VALUE! | PJ21: =PI21*$B21 -> #VALUE! | PL21: =PK21*$B21 -> #VALUE! | PN21: =係数マスタ!$A$17 -> 14 | PO21: =係数マスタ!$B17 | PQ21: =PP21*$B21 -> #VALUE! | PS21: =PR21*$B21 -> #VALUE! | PU21: =PT21*$B21 -> #VALUE! | PW21: =PV21*$B21 -> #VALUE! | PY21: =PX21*$B21 -> #VALUE! | QA21: =係数マスタ!$A$17 -> 14 | QB21: =係数マスタ!$B17 | QD21: =QC21*$B21 -> #VALUE! | QF21: =QE21*$B21 -> #VALUE! | QH21: =QG21*$B21 -> #VALUE! | QJ21: =QI21*$B21 -> #VALUE! | QL21: =QK21*$B21 -> #VALUE! | QN21: =係数マスタ!$A$17 -> 14 | QO21: =係数マスタ!$B17 | QQ21: =QP21*$B21 -> #VALUE! | QS21: =QR21*$B21 -> #VALUE! | QU21: =QT21*$B21 -> #VALUE! | QW21: =QV21*$B21 -> #VALUE! | QY21: =QX21*$B21 -> #VALUE! | RA21: =係数マスタ!$A$17 -> 14 | RB21: =係数マスタ!$B17 | RD21: =RC21*$B21 -> #VALUE! | RF21: =RE21*$B21 -> #VALUE! | RH21: =RG21*$B21 -> #VALUE! | RJ21: =RI21*$B21 -> #VALUE! | RL21: =RK21*$B21 -> #VALUE! | RN21: =係数マスタ!$A$17 -> 14 | RO21: =係数マスタ!$B17 | RQ21: =RP21*$B21 -> #VALUE! | RS21: =RR21*$B21 -> #VALUE! | RU21: =RT21*$B21 -> #VALUE! | RW21: =RV21*$B21 -> #VALUE! | RY21: =RX21*$B21 -> #VALUE! | SA21: =係数マスタ!$A$17 -> 14 | SB21: =係数マスタ!$B17 | SD21: =SC21*$B21 -> #VALUE! | SF21: =SE21*$B21 -> #VALUE! | SH21: =SG21*$B21 -> #VALUE! | SJ21: =SI21*$B21 -> #VALUE! | SL21: =SK21*$B21 -> #VALUE! | SN21: =係数マスタ!$A$17 -> 14 | SO21: =係数マスタ!$B17 | SQ21: =SP21*$B21 -> #VALUE! | SS21: =SR21*$B21 -> #VALUE! | SU21: =ST21*$B21 -> #VALUE! | SW21: =SV21*$B21 -> #VALUE! | SY21: =SX21*$B21 -> #VALUE! | TA21: =係数マスタ!$A$17 -> 14 | TB21: =係数マスタ!$B17 | TD21: =TC21*$B21 -> #VALUE! | TF21: =TE21*$B21 -> #VALUE! | TH21: =TG21*$B21 -> #VALUE! | TJ21: =TI21*$B21 -> #VALUE! | TL21: =TK21*$B21 -> #VALUE! | TN21: =係数マスタ!$A$17 -> 14 | TO21: =係数マスタ!$B17 | TQ21: =TP21*$B21 -> #VALUE! | TS21: =TR21*$B21 -> #VALUE! | TU21: =TT21*$B21 -> #VALUE! | TW21: =TV21*$B21 -> #VALUE! | TY21: =TX21*$B21 -> #VALUE! | UA21: =係数マスタ!$A$17 -> 14 | UB21: =係数マスタ!$B17 | UD21: =UC21*$B21 -> #VALUE! | UF21: =UE21*$B21 -> #VALUE! | UH21: =UG21*$B21 -> #VALUE! | UJ21: =UI21*$B21 -> #VALUE! | UL21: =UK21*$B21 -> #VALUE! | UN21: =係数マスタ!$A$17 -> 14 | UO21: =係数マスタ!$B17 | UQ21: =UP21*$B21 -> #VALUE! | US21: =UR21*$B21 -> #VALUE! | UU21: =UT21*$B21 -> #VALUE! | UW21: =UV21*$B21 -> #VALUE! | UY21: =UX21*$B21 -> #VALUE! | VA21: =係数マスタ!$A$17 -> 14 | VB21: =係数マスタ!$B17 | VD21: =VC21*$B21 -> #VALUE! | VF21: =VE21*$B21 -> #VALUE! | VH21: =VG21*$B21 -> #VALUE! | VJ21: =VI21*$B21 -> #VALUE! | VL21: =VK21*$B21 -> #VALUE! | VN21: =係数マスタ!$A$17 -> 14 | VO21: =係数マスタ!$B17 | VQ21: =VP21*$B21 -> #VALUE! | VS21: =VR21*$B21 -> #VALUE! | VU21: =VT21*$B21 -> #VALUE! | VW21: =VV21*$B21 -> #VALUE! | VY21: =VX21*$B21 -> #VALUE! | WA21: =係数マスタ!$A$17 -> 14 | WB21: =係数マスタ!$B17 | WD21: =WC21*$B21 -> #VALUE! | WF21: =WE21*$B21 -> #VALUE! | WH21: =WG21*$B21 -> #VALUE! | WJ21: =WI21*$B21 -> #VALUE! | WL21: =WK21*$B21 -> #VALUE! | WN21: =係数マスタ!$A$17 -> 14 | WO21: =係数マスタ!$B17 | WQ21: =WP21*$B21 -> #VALUE! | WS21: =WR21*$B21 -> #VALUE! | WU21: =WT21*$B21 -> #VALUE! | WW21: =WV21*$B21 -> #VALUE! | WY21: =WX21*$B21 -> #VALUE! | XA21: =係数マスタ!$A$17 -> 14 | XB21: =係数マスタ!$B17 | XD21: =XC21*$B21 -> #VALUE! | XF21: =XE21*$B21 -> #VALUE! | XH21: =XG21*$B21 -> #VALUE! | XJ21: =XI21*$B21 -> #VALUE! | XL21: =XK21*$B21 -> #VALUE! | XN21: =係数マスタ!$A$17 -> 14 | XO21: =係数マスタ!$B17 | XQ21: =XP21*$B21 -> #VALUE! | XS21: =XR21*$B21 -> #VALUE! | XU21: =XT21*$B21 -> #VALUE! | XW21: =XV21*$B21 -> #VALUE! | XY21: =XX21*$B21 -> #VALUE!
A22: =係数マスタ!$A$18 -> 15 | B22: =係数マスタ!$B18 | D22: =C22*$B22 -> #VALUE! | F22: =E22*$B22 -> #VALUE! | H22: =G22*$B22 -> #VALUE! | J22: =I22*$B22 -> #VALUE! | L22: =K22*$B22 -> #VALUE! | N22: =係数マスタ!$A$18 -> 15 | O22: =係数マスタ!$B18 | Q22: =P22*$B22 -> #VALUE! | S22: =R22*$B22 -> #VALUE! | U22: =T22*$B22 -> #VALUE! | W22: =V22*$B22 -> #VALUE! | Y22: =X22*$B22 -> #VALUE! | AA22: =係数マスタ!$A$18 -> 15 | AB22: =係数マスタ!$B18 | AD22: =AC22*$B22 -> #VALUE! | AF22: =AE22*$B22 -> #VALUE! | AH22: =AG22*$B22 -> #VALUE! | AJ22: =AI22*$B22 -> #VALUE! | AL22: =AK22*$B22 -> #VALUE! | AN22: =係数マスタ!$A$18 -> 15 | AO22: =係数マスタ!$B18 | AQ22: =AP22*$B22 -> #VALUE! | AS22: =AR22*$B22 -> #VALUE! | AU22: =AT22*$B22 -> #VALUE! | AW22: =AV22*$B22 -> #VALUE! | AY22: =AX22*$B22 -> #VALUE! | BA22: =係数マスタ!$A$18 -> 15 | BB22: =係数マスタ!$B18 | BD22: =BC22*$B22 -> #VALUE! | BF22: =BE22*$B22 -> #VALUE! | BH22: =BG22*$B22 -> #VALUE! | BJ22: =BI22*$B22 -> #VALUE! | BL22: =BK22*$B22 -> #VALUE! | BN22: =係数マスタ!$A$18 -> 15 | BO22: =係数マスタ!$B18 | BQ22: =BP22*$B22 -> #VALUE! | BS22: =BR22*$B22 -> #VALUE! | BU22: =BT22*$B22 -> #VALUE! | BW22: =BV22*$B22 -> #VALUE! | BY22: =BX22*$B22 -> #VALUE! | CA22: =係数マスタ!$A$18 -> 15 | CB22: =係数マスタ!$B18 | CD22: =CC22*$B22 -> #VALUE! | CF22: =CE22*$B22 -> #VALUE! | CH22: =CG22*$B22 -> #VALUE! | CJ22: =CI22*$B22 -> #VALUE! | CL22: =CK22*$B22 -> #VALUE! | CN22: =係数マスタ!$A$18 -> 15 | CO22: =係数マスタ!$B18 | CQ22: =CP22*$B22 -> #VALUE! | CS22: =CR22*$B22 -> #VALUE! | CU22: =CT22*$B22 -> #VALUE! | CW22: =CV22*$B22 -> #VALUE! | CY22: =CX22*$B22 -> #VALUE! | DA22: =係数マスタ!$A$18 -> 15 | DB22: =係数マスタ!$B18 | DD22: =DC22*$B22 -> #VALUE! | DF22: =DE22*$B22 -> #VALUE! | DH22: =DG22*$B22 -> #VALUE! | DJ22: =DI22*$B22 -> #VALUE! | DL22: =DK22*$B22 -> #VALUE! | DN22: =係数マスタ!$A$18 -> 15 | DO22: =係数マスタ!$B18 | DQ22: =DP22*$B22 -> #VALUE! | DS22: =DR22*$B22 -> #VALUE! | DU22: =DT22*$B22 -> #VALUE! | DW22: =DV22*$B22 -> #VALUE! | DY22: =DX22*$B22 -> #VALUE! | EA22: =係数マスタ!$A$18 -> 15 | EB22: =係数マスタ!$B18 | ED22: =EC22*$B22 -> #VALUE! | EF22: =EE22*$B22 -> #VALUE! | EH22: =EG22*$B22 -> #VALUE! | EJ22: =EI22*$B22 -> #VALUE! | EL22: =EK22*$B22 -> #VALUE! | EN22: =係数マスタ!$A$18 -> 15 | EO22: =係数マスタ!$B18 | EQ22: =EP22*$B22 -> #VALUE! | ES22: =ER22*$B22 -> #VALUE! | EU22: =ET22*$B22 -> #VALUE! | EW22: =EV22*$B22 -> #VALUE! | EY22: =EX22*$B22 -> #VALUE! | FA22: =係数マスタ!$A$18 -> 15 | FB22: =係数マスタ!$B18 | FD22: =FC22*$B22 -> #VALUE! | FF22: =FE22*$B22 -> #VALUE! | FH22: =FG22*$B22 -> #VALUE! | FJ22: =FI22*$B22 -> #VALUE! | FL22: =FK22*$B22 -> #VALUE! | FN22: =係数マスタ!$A$18 -> 15 | FO22: =係数マスタ!$B18 | FQ22: =FP22*$B22 -> #VALUE! | FS22: =FR22*$B22 -> #VALUE! | FU22: =FT22*$B22 -> #VALUE! | FW22: =FV22*$B22 -> #VALUE! | FY22: =FX22*$B22 -> #VALUE! | GA22: =係数マスタ!$A$18 -> 15 | GB22: =係数マスタ!$B18 | GD22: =GC22*$B22 -> #VALUE! | GF22: =GE22*$B22 -> #VALUE! | GH22: =GG22*$B22 -> #VALUE! | GJ22: =GI22*$B22 -> #VALUE! | GL22: =GK22*$B22 -> #VALUE! | GN22: =係数マスタ!$A$18 -> 15 | GO22: =係数マスタ!$B18 | GQ22: =GP22*$B22 -> #VALUE! | GS22: =GR22*$B22 -> #VALUE! | GU22: =GT22*$B22 -> #VALUE! | GW22: =GV22*$B22 -> #VALUE! | GY22: =GX22*$B22 -> #VALUE! | HA22: =係数マスタ!$A$18 -> 15 | HB22: =係数マスタ!$B18 | HD22: =HC22*$B22 -> #VALUE! | HF22: =HE22*$B22 -> #VALUE! | HH22: =HG22*$B22 -> #VALUE! | HJ22: =HI22*$B22 -> #VALUE! | HL22: =HK22*$B22 -> #VALUE! | HN22: =係数マスタ!$A$18 -> 15 | HO22: =係数マスタ!$B18 | HQ22: =HP22*$B22 -> #VALUE! | HS22: =HR22*$B22 -> #VALUE! | HU22: =HT22*$B22 -> #VALUE! | HW22: =HV22*$B22 -> #VALUE! | HY22: =HX22*$B22 -> #VALUE! | IA22: =係数マスタ!$A$18 -> 15 | IB22: =係数マスタ!$B18 | ID22: =IC22*$B22 -> #VALUE! | IF22: =IE22*$B22 -> #VALUE! | IH22: =IG22*$B22 -> #VALUE! | IJ22: =II22*$B22 -> #VALUE! | IL22: =IK22*$B22 -> #VALUE! | IN22: =係数マスタ!$A$18 -> 15 | IO22: =係数マスタ!$B18 | IQ22: =IP22*$B22 -> #VALUE! | IS22: =IR22*$B22 -> #VALUE! | IU22: =IT22*$B22 -> #VALUE! | IW22: =IV22*$B22 -> #VALUE! | IY22: =IX22*$B22 -> #VALUE! | JA22: =係数マスタ!$A$18 -> 15 | JB22: =係数マスタ!$B18 | JD22: =JC22*$B22 -> #VALUE! | JF22: =JE22*$B22 -> #VALUE! | JH22: =JG22*$B22 -> #VALUE! | JJ22: =JI22*$B22 -> #VALUE! | JL22: =JK22*$B22 -> #VALUE! | JN22: =係数マスタ!$A$18 -> 15 | JO22: =係数マスタ!$B18 | JQ22: =JP22*$B22 -> #VALUE! | JS22: =JR22*$B22 -> #VALUE! | JU22: =JT22*$B22 -> #VALUE! | JW22: =JV22*$B22 -> #VALUE! | JY22: =JX22*$B22 -> #VALUE! | KA22: =係数マスタ!$A$18 -> 15 | KB22: =係数マスタ!$B18 | KD22: =KC22*$B22 -> #VALUE! | KF22: =KE22*$B22 -> #VALUE! | KH22: =KG22*$B22 -> #VALUE! | KJ22: =KI22*$B22 -> #VALUE! | KL22: =KK22*$B22 -> #VALUE! | KN22: =係数マスタ!$A$18 -> 15 | KO22: =係数マスタ!$B18 | KQ22: =KP22*$B22 -> #VALUE! | KS22: =KR22*$B22 -> #VALUE! | KU22: =KT22*$B22 -> #VALUE! | KW22: =KV22*$B22 -> #VALUE! | KY22: =KX22*$B22 -> #VALUE! | LA22: =係数マスタ!$A$18 -> 15 | LB22: =係数マスタ!$B18 | LD22: =LC22*$B22 -> #VALUE! | LF22: =LE22*$B22 -> #VALUE! | LH22: =LG22*$B22 -> #VALUE! | LJ22: =LI22*$B22 -> #VALUE! | LL22: =LK22*$B22 -> #VALUE! | LN22: =係数マスタ!$A$18 -> 15 | LO22: =係数マスタ!$B18 | LQ22: =LP22*$B22 -> #VALUE! | LS22: =LR22*$B22 -> #VALUE! | LU22: =LT22*$B22 -> #VALUE! | LW22: =LV22*$B22 -> #VALUE! | LY22: =LX22*$B22 -> #VALUE! | MA22: =係数マスタ!$A$18 -> 15 | MB22: =係数マスタ!$B18 | MD22: =MC22*$B22 -> #VALUE! | MF22: =ME22*$B22 -> #VALUE! | MH22: =MG22*$B22 -> #VALUE! | MJ22: =MI22*$B22 -> #VALUE! | ML22: =MK22*$B22 -> #VALUE! | MN22: =係数マスタ!$A$18 -> 15 | MO22: =係数マスタ!$B18 | MQ22: =MP22*$B22 -> #VALUE! | MS22: =MR22*$B22 -> #VALUE! | MU22: =MT22*$B22 -> #VALUE! | MW22: =MV22*$B22 -> #VALUE! | MY22: =MX22*$B22 -> #VALUE! | NA22: =係数マスタ!$A$18 -> 15 | NB22: =係数マスタ!$B18 | ND22: =NC22*$B22 -> #VALUE! | NF22: =NE22*$B22 -> #VALUE! | NH22: =NG22*$B22 -> #VALUE! | NJ22: =NI22*$B22 -> #VALUE! | NL22: =NK22*$B22 -> #VALUE! | NN22: =係数マスタ!$A$18 -> 15 | NO22: =係数マスタ!$B18 | NQ22: =NP22*$B22 -> #VALUE! | NS22: =NR22*$B22 -> #VALUE! | NU22: =NT22*$B22 -> #VALUE! | NW22: =NV22*$B22 -> #VALUE! | NY22: =NX22*$B22 -> #VALUE! | OA22: =係数マスタ!$A$18 -> 15 | OB22: =係数マスタ!$B18 | OD22: =OC22*$B22 -> #VALUE! | OF22: =OE22*$B22 -> #VALUE! | OH22: =OG22*$B22 -> #VALUE! | OJ22: =OI22*$B22 -> #VALUE! | OL22: =OK22*$B22 -> #VALUE! | ON22: =係数マスタ!$A$18 -> 15 | OO22: =係数マスタ!$B18 | OQ22: =OP22*$B22 -> #VALUE! | OS22: =OR22*$B22 -> #VALUE! | OU22: =OT22*$B22 -> #VALUE! | OW22: =OV22*$B22 -> #VALUE! | OY22: =OX22*$B22 -> #VALUE! | PA22: =係数マスタ!$A$18 -> 15 | PB22: =係数マスタ!$B18 | PD22: =PC22*$B22 -> #VALUE! | PF22: =PE22*$B22 -> #VALUE! | PH22: =PG22*$B22 -> #VALUE! | PJ22: =PI22*$B22 -> #VALUE! | PL22: =PK22*$B22 -> #VALUE! | PN22: =係数マスタ!$A$18 -> 15 | PO22: =係数マスタ!$B18 | PQ22: =PP22*$B22 -> #VALUE! | PS22: =PR22*$B22 -> #VALUE! | PU22: =PT22*$B22 -> #VALUE! | PW22: =PV22*$B22 -> #VALUE! | PY22: =PX22*$B22 -> #VALUE! | QA22: =係数マスタ!$A$18 -> 15 | QB22: =係数マスタ!$B18 | QD22: =QC22*$B22 -> #VALUE! | QF22: =QE22*$B22 -> #VALUE! | QH22: =QG22*$B22 -> #VALUE! | QJ22: =QI22*$B22 -> #VALUE! | QL22: =QK22*$B22 -> #VALUE! | QN22: =係数マスタ!$A$18 -> 15 | QO22: =係数マスタ!$B18 | QQ22: =QP22*$B22 -> #VALUE! | QS22: =QR22*$B22 -> #VALUE! | QU22: =QT22*$B22 -> #VALUE! | QW22: =QV22*$B22 -> #VALUE! | QY22: =QX22*$B22 -> #VALUE! | RA22: =係数マスタ!$A$18 -> 15 | RB22: =係数マスタ!$B18 | RD22: =RC22*$B22 -> #VALUE! | RF22: =RE22*$B22 -> #VALUE! | RH22: =RG22*$B22 -> #VALUE! | RJ22: =RI22*$B22 -> #VALUE! | RL22: =RK22*$B22 -> #VALUE! | RN22: =係数マスタ!$A$18 -> 15 | RO22: =係数マスタ!$B18 | RQ22: =RP22*$B22 -> #VALUE! | RS22: =RR22*$B22 -> #VALUE! | RU22: =RT22*$B22 -> #VALUE! | RW22: =RV22*$B22 -> #VALUE! | RY22: =RX22*$B22 -> #VALUE! | SA22: =係数マスタ!$A$18 -> 15 | SB22: =係数マスタ!$B18 | SD22: =SC22*$B22 -> #VALUE! | SF22: =SE22*$B22 -> #VALUE! | SH22: =SG22*$B22 -> #VALUE! | SJ22: =SI22*$B22 -> #VALUE! | SL22: =SK22*$B22 -> #VALUE! | SN22: =係数マスタ!$A$18 -> 15 | SO22: =係数マスタ!$B18 | SQ22: =SP22*$B22 -> #VALUE! | SS22: =SR22*$B22 -> #VALUE! | SU22: =ST22*$B22 -> #VALUE! | SW22: =SV22*$B22 -> #VALUE! | SY22: =SX22*$B22 -> #VALUE! | TA22: =係数マスタ!$A$18 -> 15 | TB22: =係数マスタ!$B18 | TD22: =TC22*$B22 -> #VALUE! | TF22: =TE22*$B22 -> #VALUE! | TH22: =TG22*$B22 -> #VALUE! | TJ22: =TI22*$B22 -> #VALUE! | TL22: =TK22*$B22 -> #VALUE! | TN22: =係数マスタ!$A$18 -> 15 | TO22: =係数マスタ!$B18 | TQ22: =TP22*$B22 -> #VALUE! | TS22: =TR22*$B22 -> #VALUE! | TU22: =TT22*$B22 -> #VALUE! | TW22: =TV22*$B22 -> #VALUE! | TY22: =TX22*$B22 -> #VALUE! | UA22: =係数マスタ!$A$18 -> 15 | UB22: =係数マスタ!$B18 | UD22: =UC22*$B22 -> #VALUE! | UF22: =UE22*$B22 -> #VALUE! | UH22: =UG22*$B22 -> #VALUE! | UJ22: =UI22*$B22 -> #VALUE! | UL22: =UK22*$B22 -> #VALUE! | UN22: =係数マスタ!$A$18 -> 15 | UO22: =係数マスタ!$B18 | UQ22: =UP22*$B22 -> #VALUE! | US22: =UR22*$B22 -> #VALUE! | UU22: =UT22*$B22 -> #VALUE! | UW22: =UV22*$B22 -> #VALUE! | UY22: =UX22*$B22 -> #VALUE! | VA22: =係数マスタ!$A$18 -> 15 | VB22: =係数マスタ!$B18 | VD22: =VC22*$B22 -> #VALUE! | VF22: =VE22*$B22 -> #VALUE! | VH22: =VG22*$B22 -> #VALUE! | VJ22: =VI22*$B22 -> #VALUE! | VL22: =VK22*$B22 -> #VALUE! | VN22: =係数マスタ!$A$18 -> 15 | VO22: =係数マスタ!$B18 | VQ22: =VP22*$B22 -> #VALUE! | VS22: =VR22*$B22 -> #VALUE! | VU22: =VT22*$B22 -> #VALUE! | VW22: =VV22*$B22 -> #VALUE! | VY22: =VX22*$B22 -> #VALUE! | WA22: =係数マスタ!$A$18 -> 15 | WB22: =係数マスタ!$B18 | WD22: =WC22*$B22 -> #VALUE! | WF22: =WE22*$B22 -> #VALUE! | WH22: =WG22*$B22 -> #VALUE! | WJ22: =WI22*$B22 -> #VALUE! | WL22: =WK22*$B22 -> #VALUE! | WN22: =係数マスタ!$A$18 -> 15 | WO22: =係数マスタ!$B18 | WQ22: =WP22*$B22 -> #VALUE! | WS22: =WR22*$B22 -> #VALUE! | WU22: =WT22*$B22 -> #VALUE! | WW22: =WV22*$B22 -> #VALUE! | WY22: =WX22*$B22 -> #VALUE! | XA22: =係数マスタ!$A$18 -> 15 | XB22: =係数マスタ!$B18 | XD22: =XC22*$B22 -> #VALUE! | XF22: =XE22*$B22 -> #VALUE! | XH22: =XG22*$B22 -> #VALUE! | XJ22: =XI22*$B22 -> #VALUE! | XL22: =XK22*$B22 -> #VALUE! | XN22: =係数マスタ!$A$18 -> 15 | XO22: =係数マスタ!$B18 | XQ22: =XP22*$B22 -> #VALUE! | XS22: =XR22*$B22 -> #VALUE! | XU22: =XT22*$B22 -> #VALUE! | XW22: =XV22*$B22 -> #VALUE! | XY22: =XX22*$B22 -> #VALUE!
A23: =係数マスタ!$A$19 -> 16 | B23: =係数マスタ!$B19 | D23: =C23*$B23 -> #VALUE! | F23: =E23*$B23 -> #VALUE! | H23: =G23*$B23 -> #VALUE! | J23: =I23*$B23 -> #VALUE! | L23: =K23*$B23 -> #VALUE! | N23: =係数マスタ!$A$19 -> 16 | O23: =係数マスタ!$B19 | Q23: =P23*$B23 -> #VALUE! | S23: =R23*$B23 -> #VALUE! | U23: =T23*$B23 -> #VALUE! | W23: =V23*$B23 -> #VALUE! | Y23: =X23*$B23 -> #VALUE! | AA23: =係数マスタ!$A$19 -> 16 | AB23: =係数マスタ!$B19 | AD23: =AC23*$B23 -> #VALUE! | AF23: =AE23*$B23 -> #VALUE! | AH23: =AG23*$B23 -> #VALUE! | AJ23: =AI23*$B23 -> #VALUE! | AL23: =AK23*$B23 -> #VALUE! | AN23: =係数マスタ!$A$19 -> 16 | AO23: =係数マスタ!$B19 | AQ23: =AP23*$B23 -> #VALUE! | AS23: =AR23*$B23 -> #VALUE! | AU23: =AT23*$B23 -> #VALUE! | AW23: =AV23*$B23 -> #VALUE! | AY23: =AX23*$B23 -> #VALUE! | BA23: =係数マスタ!$A$19 -> 16 | BB23: =係数マスタ!$B19 | BD23: =BC23*$B23 -> #VALUE! | BF23: =BE23*$B23 -> #VALUE! | BH23: =BG23*$B23 -> #VALUE! | BJ23: =BI23*$B23 -> #VALUE! | BL23: =BK23*$B23 -> #VALUE! | BN23: =係数マスタ!$A$19 -> 16 | BO23: =係数マスタ!$B19 | BQ23: =BP23*$B23 -> #VALUE! | BS23: =BR23*$B23 -> #VALUE! | BU23: =BT23*$B23 -> #VALUE! | BW23: =BV23*$B23 -> #VALUE! | BY23: =BX23*$B23 -> #VALUE! | CA23: =係数マスタ!$A$19 -> 16 | CB23: =係数マスタ!$B19 | CD23: =CC23*$B23 -> #VALUE! | CF23: =CE23*$B23 -> #VALUE! | CH23: =CG23*$B23 -> #VALUE! | CJ23: =CI23*$B23 -> #VALUE! | CL23: =CK23*$B23 -> #VALUE! | CN23: =係数マスタ!$A$19 -> 16 | CO23: =係数マスタ!$B19 | CQ23: =CP23*$B23 -> #VALUE! | CS23: =CR23*$B23 -> #VALUE! | CU23: =CT23*$B23 -> #VALUE! | CW23: =CV23*$B23 -> #VALUE! | CY23: =CX23*$B23 -> #VALUE! | DA23: =係数マスタ!$A$19 -> 16 | DB23: =係数マスタ!$B19 | DD23: =DC23*$B23 -> #VALUE! | DF23: =DE23*$B23 -> #VALUE! | DH23: =DG23*$B23 -> #VALUE! | DJ23: =DI23*$B23 -> #VALUE! | DL23: =DK23*$B23 -> #VALUE! | DN23: =係数マスタ!$A$19 -> 16 | DO23: =係数マスタ!$B19 | DQ23: =DP23*$B23 -> #VALUE! | DS23: =DR23*$B23 -> #VALUE! | DU23: =DT23*$B23 -> #VALUE! | DW23: =DV23*$B23 -> #VALUE! | DY23: =DX23*$B23 -> #VALUE! | EA23: =係数マスタ!$A$19 -> 16 | EB23: =係数マスタ!$B19 | ED23: =EC23*$B23 -> #VALUE! | EF23: =EE23*$B23 -> #VALUE! | EH23: =EG23*$B23 -> #VALUE! | EJ23: =EI23*$B23 -> #VALUE! | EL23: =EK23*$B23 -> #VALUE! | EN23: =係数マスタ!$A$19 -> 16 | EO23: =係数マスタ!$B19 | EQ23: =EP23*$B23 -> #VALUE! | ES23: =ER23*$B23 -> #VALUE! | EU23: =ET23*$B23 -> #VALUE! | EW23: =EV23*$B23 -> #VALUE! | EY23: =EX23*$B23 -> #VALUE! | FA23: =係数マスタ!$A$19 -> 16 | FB23: =係数マスタ!$B19 | FD23: =FC23*$B23 -> #VALUE! | FF23: =FE23*$B23 -> #VALUE! | FH23: =FG23*$B23 -> #VALUE! | FJ23: =FI23*$B23 -> #VALUE! | FL23: =FK23*$B23 -> #VALUE! | FN23: =係数マスタ!$A$19 -> 16 | FO23: =係数マスタ!$B19 | FQ23: =FP23*$B23 -> #VALUE! | FS23: =FR23*$B23 -> #VALUE! | FU23: =FT23*$B23 -> #VALUE! | FW23: =FV23*$B23 -> #VALUE! | FY23: =FX23*$B23 -> #VALUE! | GA23: =係数マスタ!$A$19 -> 16 | GB23: =係数マスタ!$B19 | GD23: =GC23*$B23 -> #VALUE! | GF23: =GE23*$B23 -> #VALUE! | GH23: =GG23*$B23 -> #VALUE! | GJ23: =GI23*$B23 -> #VALUE! | GL23: =GK23*$B23 -> #VALUE! | GN23: =係数マスタ!$A$19 -> 16 | GO23: =係数マスタ!$B19 | GQ23: =GP23*$B23 -> #VALUE! | GS23: =GR23*$B23 -> #VALUE! | GU23: =GT23*$B23 -> #VALUE! | GW23: =GV23*$B23 -> #VALUE! | GY23: =GX23*$B23 -> #VALUE! | HA23: =係数マスタ!$A$19 -> 16 | HB23: =係数マスタ!$B19 | HD23: =HC23*$B23 -> #VALUE! | HF23: =HE23*$B23 -> #VALUE! | HH23: =HG23*$B23 -> #VALUE! | HJ23: =HI23*$B23 -> #VALUE! | HL23: =HK23*$B23 -> #VALUE! | HN23: =係数マスタ!$A$19 -> 16 | HO23: =係数マスタ!$B19 | HQ23: =HP23*$B23 -> #VALUE! | HS23: =HR23*$B23 -> #VALUE! | HU23: =HT23*$B23 -> #VALUE! | HW23: =HV23*$B23 -> #VALUE! | HY23: =HX23*$B23 -> #VALUE! | IA23: =係数マスタ!$A$19 -> 16 | IB23: =係数マスタ!$B19 | ID23: =IC23*$B23 -> #VALUE! | IF23: =IE23*$B23 -> #VALUE! | IH23: =IG23*$B23 -> #VALUE! | IJ23: =II23*$B23 -> #VALUE! | IL23: =IK23*$B23 -> #VALUE! | IN23: =係数マスタ!$A$19 -> 16 | IO23: =係数マスタ!$B19 | IQ23: =IP23*$B23 -> #VALUE! | IS23: =IR23*$B23 -> #VALUE! | IU23: =IT23*$B23 -> #VALUE! | IW23: =IV23*$B23 -> #VALUE! | IY23: =IX23*$B23 -> #VALUE! | JA23: =係数マスタ!$A$19 -> 16 | JB23: =係数マスタ!$B19 | JD23: =JC23*$B23 -> #VALUE! | JF23: =JE23*$B23 -> #VALUE! | JH23: =JG23*$B23 -> #VALUE! | JJ23: =JI23*$B23 -> #VALUE! | JL23: =JK23*$B23 -> #VALUE! | JN23: =係数マスタ!$A$19 -> 16 | JO23: =係数マスタ!$B19 | JQ23: =JP23*$B23 -> #VALUE! | JS23: =JR23*$B23 -> #VALUE! | JU23: =JT23*$B23 -> #VALUE! | JW23: =JV23*$B23 -> #VALUE! | JY23: =JX23*$B23 -> #VALUE! | KA23: =係数マスタ!$A$19 -> 16 | KB23: =係数マスタ!$B19 | KD23: =KC23*$B23 -> #VALUE! | KF23: =KE23*$B23 -> #VALUE! | KH23: =KG23*$B23 -> #VALUE! | KJ23: =KI23*$B23 -> #VALUE! | KL23: =KK23*$B23 -> #VALUE! | KN23: =係数マスタ!$A$19 -> 16 | KO23: =係数マスタ!$B19 | KQ23: =KP23*$B23 -> #VALUE! | KS23: =KR23*$B23 -> #VALUE! | KU23: =KT23*$B23 -> #VALUE! | KW23: =KV23*$B23 -> #VALUE! | KY23: =KX23*$B23 -> #VALUE! | LA23: =係数マスタ!$A$19 -> 16 | LB23: =係数マスタ!$B19 | LD23: =LC23*$B23 -> #VALUE! | LF23: =LE23*$B23 -> #VALUE! | LH23: =LG23*$B23 -> #VALUE! | LJ23: =LI23*$B23 -> #VALUE! | LL23: =LK23*$B23 -> #VALUE! | LN23: =係数マスタ!$A$19 -> 16 | LO23: =係数マスタ!$B19 | LQ23: =LP23*$B23 -> #VALUE! | LS23: =LR23*$B23 -> #VALUE! | LU23: =LT23*$B23 -> #VALUE! | LW23: =LV23*$B23 -> #VALUE! | LY23: =LX23*$B23 -> #VALUE! | MA23: =係数マスタ!$A$19 -> 16 | MB23: =係数マスタ!$B19 | MD23: =MC23*$B23 -> #VALUE! | MF23: =ME23*$B23 -> #VALUE! | MH23: =MG23*$B23 -> #VALUE! | MJ23: =MI23*$B23 -> #VALUE! | ML23: =MK23*$B23 -> #VALUE! | MN23: =係数マスタ!$A$19 -> 16 | MO23: =係数マスタ!$B19 | MQ23: =MP23*$B23 -> #VALUE! | MS23: =MR23*$B23 -> #VALUE! | MU23: =MT23*$B23 -> #VALUE! | MW23: =MV23*$B23 -> #VALUE! | MY23: =MX23*$B23 -> #VALUE! | NA23: =係数マスタ!$A$19 -> 16 | NB23: =係数マスタ!$B19 | ND23: =NC23*$B23 -> #VALUE! | NF23: =NE23*$B23 -> #VALUE! | NH23: =NG23*$B23 -> #VALUE! | NJ23: =NI23*$B23 -> #VALUE! | NL23: =NK23*$B23 -> #VALUE! | NN23: =係数マスタ!$A$19 -> 16 | NO23: =係数マスタ!$B19 | NQ23: =NP23*$B23 -> #VALUE! | NS23: =NR23*$B23 -> #VALUE! | NU23: =NT23*$B23 -> #VALUE! | NW23: =NV23*$B23 -> #VALUE! | NY23: =NX23*$B23 -> #VALUE! | OA23: =係数マスタ!$A$19 -> 16 | OB23: =係数マスタ!$B19 | OD23: =OC23*$B23 -> #VALUE! | OF23: =OE23*$B23 -> #VALUE! | OH23: =OG23*$B23 -> #VALUE! | OJ23: =OI23*$B23 -> #VALUE! | OL23: =OK23*$B23 -> #VALUE! | ON23: =係数マスタ!$A$19 -> 16 | OO23: =係数マスタ!$B19 | OQ23: =OP23*$B23 -> #VALUE! | OS23: =OR23*$B23 -> #VALUE! | OU23: =OT23*$B23 -> #VALUE! | OW23: =OV23*$B23 -> #VALUE! | OY23: =OX23*$B23 -> #VALUE! | PA23: =係数マスタ!$A$19 -> 16 | PB23: =係数マスタ!$B19 | PD23: =PC23*$B23 -> #VALUE! | PF23: =PE23*$B23 -> #VALUE! | PH23: =PG23*$B23 -> #VALUE! | PJ23: =PI23*$B23 -> #VALUE! | PL23: =PK23*$B23 -> #VALUE! | PN23: =係数マスタ!$A$19 -> 16 | PO23: =係数マスタ!$B19 | PQ23: =PP23*$B23 -> #VALUE! | PS23: =PR23*$B23 -> #VALUE! | PU23: =PT23*$B23 -> #VALUE! | PW23: =PV23*$B23 -> #VALUE! | PY23: =PX23*$B23 -> #VALUE! | QA23: =係数マスタ!$A$19 -> 16 | QB23: =係数マスタ!$B19 | QD23: =QC23*$B23 -> #VALUE! | QF23: =QE23*$B23 -> #VALUE! | QH23: =QG23*$B23 -> #VALUE! | QJ23: =QI23*$B23 -> #VALUE! | QL23: =QK23*$B23 -> #VALUE! | QN23: =係数マスタ!$A$19 -> 16 | QO23: =係数マスタ!$B19 | QQ23: =QP23*$B23 -> #VALUE! | QS23: =QR23*$B23 -> #VALUE! | QU23: =QT23*$B23 -> #VALUE! | QW23: =QV23*$B23 -> #VALUE! | QY23: =QX23*$B23 -> #VALUE! | RA23: =係数マスタ!$A$19 -> 16 | RB23: =係数マスタ!$B19 | RD23: =RC23*$B23 -> #VALUE! | RF23: =RE23*$B23 -> #VALUE! | RH23: =RG23*$B23 -> #VALUE! | RJ23: =RI23*$B23 -> #VALUE! | RL23: =RK23*$B23 -> #VALUE! | RN23: =係数マスタ!$A$19 -> 16 | RO23: =係数マスタ!$B19 | RQ23: =RP23*$B23 -> #VALUE! | RS23: =RR23*$B23 -> #VALUE! | RU23: =RT23*$B23 -> #VALUE! | RW23: =RV23*$B23 -> #VALUE! | RY23: =RX23*$B23 -> #VALUE! | SA23: =係数マスタ!$A$19 -> 16 | SB23: =係数マスタ!$B19 | SD23: =SC23*$B23 -> #VALUE! | SF23: =SE23*$B23 -> #VALUE! | SH23: =SG23*$B23 -> #VALUE! | SJ23: =SI23*$B23 -> #VALUE! | SL23: =SK23*$B23 -> #VALUE! | SN23: =係数マスタ!$A$19 -> 16 | SO23: =係数マスタ!$B19 | SQ23: =SP23*$B23 -> #VALUE! | SS23: =SR23*$B23 -> #VALUE! | SU23: =ST23*$B23 -> #VALUE! | SW23: =SV23*$B23 -> #VALUE! | SY23: =SX23*$B23 -> #VALUE! | TA23: =係数マスタ!$A$19 -> 16 | TB23: =係数マスタ!$B19 | TD23: =TC23*$B23 -> #VALUE! | TF23: =TE23*$B23 -> #VALUE! | TH23: =TG23*$B23 -> #VALUE! | TJ23: =TI23*$B23 -> #VALUE! | TL23: =TK23*$B23 -> #VALUE! | TN23: =係数マスタ!$A$19 -> 16 | TO23: =係数マスタ!$B19 | TQ23: =TP23*$B23 -> #VALUE! | TS23: =TR23*$B23 -> #VALUE! | TU23: =TT23*$B23 -> #VALUE! | TW23: =TV23*$B23 -> #VALUE! | TY23: =TX23*$B23 -> #VALUE! | UA23: =係数マスタ!$A$19 -> 16 | UB23: =係数マスタ!$B19 | UD23: =UC23*$B23 -> #VALUE! | UF23: =UE23*$B23 -> #VALUE! | UH23: =UG23*$B23 -> #VALUE! | UJ23: =UI23*$B23 -> #VALUE! | UL23: =UK23*$B23 -> #VALUE! | UN23: =係数マスタ!$A$19 -> 16 | UO23: =係数マスタ!$B19 | UQ23: =UP23*$B23 -> #VALUE! | US23: =UR23*$B23 -> #VALUE! | UU23: =UT23*$B23 -> #VALUE! | UW23: =UV23*$B23 -> #VALUE! | UY23: =UX23*$B23 -> #VALUE! | VA23: =係数マスタ!$A$19 -> 16 | VB23: =係数マスタ!$B19 | VD23: =VC23*$B23 -> #VALUE! | VF23: =VE23*$B23 -> #VALUE! | VH23: =VG23*$B23 -> #VALUE! | VJ23: =VI23*$B23 -> #VALUE! | VL23: =VK23*$B23 -> #VALUE! | VN23: =係数マスタ!$A$19 -> 16 | VO23: =係数マスタ!$B19 | VQ23: =VP23*$B23 -> #VALUE! | VS23: =VR23*$B23 -> #VALUE! | VU23: =VT23*$B23 -> #VALUE! | VW23: =VV23*$B23 -> #VALUE! | VY23: =VX23*$B23 -> #VALUE! | WA23: =係数マスタ!$A$19 -> 16 | WB23: =係数マスタ!$B19 | WD23: =WC23*$B23 -> #VALUE! | WF23: =WE23*$B23 -> #VALUE! | WH23: =WG23*$B23 -> #VALUE! | WJ23: =WI23*$B23 -> #VALUE! | WL23: =WK23*$B23 -> #VALUE! | WN23: =係数マスタ!$A$19 -> 16 | WO23: =係数マスタ!$B19 | WQ23: =WP23*$B23 -> #VALUE! | WS23: =WR23*$B23 -> #VALUE! | WU23: =WT23*$B23 -> #VALUE! | WW23: =WV23*$B23 -> #VALUE! | WY23: =WX23*$B23 -> #VALUE! | XA23: =係数マスタ!$A$19 -> 16 | XB23: =係数マスタ!$B19 | XD23: =XC23*$B23 -> #VALUE! | XF23: =XE23*$B23 -> #VALUE! | XH23: =XG23*$B23 -> #VALUE! | XJ23: =XI23*$B23 -> #VALUE! | XL23: =XK23*$B23 -> #VALUE! | XN23: =係数マスタ!$A$19 -> 16 | XO23: =係数マスタ!$B19 | XQ23: =XP23*$B23 -> #VALUE! | XS23: =XR23*$B23 -> #VALUE! | XU23: =XT23*$B23 -> #VALUE! | XW23: =XV23*$B23 -> #VALUE! | XY23: =XX23*$B23 -> #VALUE!
A24: =係数マスタ!$A$20 -> 17 | B24: =係数マスタ!$B20 | D24: =C24*$B24 -> #VALUE! | F24: =E24*$B24 -> #VALUE! | H24: =G24*$B24 -> #VALUE! | J24: =I24*$B24 -> #VALUE! | L24: =K24*$B24 -> #VALUE! | N24: =係数マスタ!$A$20 -> 17 | O24: =係数マスタ!$B20 | Q24: =P24*$B24 -> #VALUE! | S24: =R24*$B24 -> #VALUE! | U24: =T24*$B24 -> #VALUE! | W24: =V24*$B24 -> #VALUE! | Y24: =X24*$B24 -> #VALUE! | AA24: =係数マスタ!$A$20 -> 17 | AB24: =係数マスタ!$B20 | AD24: =AC24*$B24 -> #VALUE! | AF24: =AE24*$B24 -> #VALUE! | AH24: =AG24*$B24 -> #VALUE! | AJ24: =AI24*$B24 -> #VALUE! | AL24: =AK24*$B24 -> #VALUE! | AN24: =係数マスタ!$A$20 -> 17 | AO24: =係数マスタ!$B20 | AQ24: =AP24*$B24 -> #VALUE! | AS24: =AR24*$B24 -> #VALUE! | AU24: =AT24*$B24 -> #VALUE! | AW24: =AV24*$B24 -> #VALUE! | AY24: =AX24*$B24 -> #VALUE! | BA24: =係数マスタ!$A$20 -> 17 | BB24: =係数マスタ!$B20 | BD24: =BC24*$B24 -> #VALUE! | BF24: =BE24*$B24 -> #VALUE! | BH24: =BG24*$B24 -> #VALUE! | BJ24: =BI24*$B24 -> #VALUE! | BL24: =BK24*$B24 -> #VALUE! | BN24: =係数マスタ!$A$20 -> 17 | BO24: =係数マスタ!$B20 | BQ24: =BP24*$B24 -> #VALUE! | BS24: =BR24*$B24 -> #VALUE! | BU24: =BT24*$B24 -> #VALUE! | BW24: =BV24*$B24 -> #VALUE! | BY24: =BX24*$B24 -> #VALUE! | CA24: =係数マスタ!$A$20 -> 17 | CB24: =係数マスタ!$B20 | CD24: =CC24*$B24 -> #VALUE! | CF24: =CE24*$B24 -> #VALUE! | CH24: =CG24*$B24 -> #VALUE! | CJ24: =CI24*$B24 -> #VALUE! | CL24: =CK24*$B24 -> #VALUE! | CN24: =係数マスタ!$A$20 -> 17 | CO24: =係数マスタ!$B20 | CQ24: =CP24*$B24 -> #VALUE! | CS24: =CR24*$B24 -> #VALUE! | CU24: =CT24*$B24 -> #VALUE! | CW24: =CV24*$B24 -> #VALUE! | CY24: =CX24*$B24 -> #VALUE! | DA24: =係数マスタ!$A$20 -> 17 | DB24: =係数マスタ!$B20 | DD24: =DC24*$B24 -> #VALUE! | DF24: =DE24*$B24 -> #VALUE! | DH24: =DG24*$B24 -> #VALUE! | DJ24: =DI24*$B24 -> #VALUE! | DL24: =DK24*$B24 -> #VALUE! | DN24: =係数マスタ!$A$20 -> 17 | DO24: =係数マスタ!$B20 | DQ24: =DP24*$B24 -> #VALUE! | DS24: =DR24*$B24 -> #VALUE! | DU24: =DT24*$B24 -> #VALUE! | DW24: =DV24*$B24 -> #VALUE! | DY24: =DX24*$B24 -> #VALUE! | EA24: =係数マスタ!$A$20 -> 17 | EB24: =係数マスタ!$B20 | ED24: =EC24*$B24 -> #VALUE! | EF24: =EE24*$B24 -> #VALUE! | EH24: =EG24*$B24 -> #VALUE! | EJ24: =EI24*$B24 -> #VALUE! | EL24: =EK24*$B24 -> #VALUE! | EN24: =係数マスタ!$A$20 -> 17 | EO24: =係数マスタ!$B20 | EQ24: =EP24*$B24 -> #VALUE! | ES24: =ER24*$B24 -> #VALUE! | EU24: =ET24*$B24 -> #VALUE! | EW24: =EV24*$B24 -> #VALUE! | EY24: =EX24*$B24 -> #VALUE! | FA24: =係数マスタ!$A$20 -> 17 | FB24: =係数マスタ!$B20 | FD24: =FC24*$B24 -> #VALUE! | FF24: =FE24*$B24 -> #VALUE! | FH24: =FG24*$B24 -> #VALUE! | FJ24: =FI24*$B24 -> #VALUE! | FL24: =FK24*$B24 -> #VALUE! | FN24: =係数マスタ!$A$20 -> 17 | FO24: =係数マスタ!$B20 | FQ24: =FP24*$B24 -> #VALUE! | FS24: =FR24*$B24 -> #VALUE! | FU24: =FT24*$B24 -> #VALUE! | FW24: =FV24*$B24 -> #VALUE! | FY24: =FX24*$B24 -> #VALUE! | GA24: =係数マスタ!$A$20 -> 17 | GB24: =係数マスタ!$B20 | GD24: =GC24*$B24 -> #VALUE! | GF24: =GE24*$B24 -> #VALUE! | GH24: =GG24*$B24 -> #VALUE! | GJ24: =GI24*$B24 -> #VALUE! | GL24: =GK24*$B24 -> #VALUE! | GN24: =係数マスタ!$A$20 -> 17 | GO24: =係数マスタ!$B20 | GQ24: =GP24*$B24 -> #VALUE! | GS24: =GR24*$B24 -> #VALUE! | GU24: =GT24*$B24 -> #VALUE! | GW24: =GV24*$B24 -> #VALUE! | GY24: =GX24*$B24 -> #VALUE! | HA24: =係数マスタ!$A$20 -> 17 | HB24: =係数マスタ!$B20 | HD24: =HC24*$B24 -> #VALUE! | HF24: =HE24*$B24 -> #VALUE! | HH24: =HG24*$B24 -> #VALUE! | HJ24: =HI24*$B24 -> #VALUE! | HL24: =HK24*$B24 -> #VALUE! | HN24: =係数マスタ!$A$20 -> 17 | HO24: =係数マスタ!$B20 | HQ24: =HP24*$B24 -> #VALUE! | HS24: =HR24*$B24 -> #VALUE! | HU24: =HT24*$B24 -> #VALUE! | HW24: =HV24*$B24 -> #VALUE! | HY24: =HX24*$B24 -> #VALUE! | IA24: =係数マスタ!$A$20 -> 17 | IB24: =係数マスタ!$B20 | ID24: =IC24*$B24 -> #VALUE! | IF24: =IE24*$B24 -> #VALUE! | IH24: =IG24*$B24 -> #VALUE! | IJ24: =II24*$B24 -> #VALUE! | IL24: =IK24*$B24 -> #VALUE! | IN24: =係数マスタ!$A$20 -> 17 | IO24: =係数マスタ!$B20 | IQ24: =IP24*$B24 -> #VALUE! | IS24: =IR24*$B24 -> #VALUE! | IU24: =IT24*$B24 -> #VALUE! | IW24: =IV24*$B24 -> #VALUE! | IY24: =IX24*$B24 -> #VALUE! | JA24: =係数マスタ!$A$20 -> 17 | JB24: =係数マスタ!$B20 | JD24: =JC24*$B24 -> #VALUE! | JF24: =JE24*$B24 -> #VALUE! | JH24: =JG24*$B24 -> #VALUE! | JJ24: =JI24*$B24 -> #VALUE! | JL24: =JK24*$B24 -> #VALUE! | JN24: =係数マスタ!$A$20 -> 17 | JO24: =係数マスタ!$B20 | JQ24: =JP24*$B24 -> #VALUE! | JS24: =JR24*$B24 -> #VALUE! | JU24: =JT24*$B24 -> #VALUE! | JW24: =JV24*$B24 -> #VALUE! | JY24: =JX24*$B24 -> #VALUE! | KA24: =係数マスタ!$A$20 -> 17 | KB24: =係数マスタ!$B20 | KD24: =KC24*$B24 -> #VALUE! | KF24: =KE24*$B24 -> #VALUE! | KH24: =KG24*$B24 -> #VALUE! | KJ24: =KI24*$B24 -> #VALUE! | KL24: =KK24*$B24 -> #VALUE! | KN24: =係数マスタ!$A$20 -> 17 | KO24: =係数マスタ!$B20 | KQ24: =KP24*$B24 -> #VALUE! | KS24: =KR24*$B24 -> #VALUE! | KU24: =KT24*$B24 -> #VALUE! | KW24: =KV24*$B24 -> #VALUE! | KY24: =KX24*$B24 -> #VALUE! | LA24: =係数マスタ!$A$20 -> 17 | LB24: =係数マスタ!$B20 | LD24: =LC24*$B24 -> #VALUE! | LF24: =LE24*$B24 -> #VALUE! | LH24: =LG24*$B24 -> #VALUE! | LJ24: =LI24*$B24 -> #VALUE! | LL24: =LK24*$B24 -> #VALUE! | LN24: =係数マスタ!$A$20 -> 17 | LO24: =係数マスタ!$B20 | LQ24: =LP24*$B24 -> #VALUE! | LS24: =LR24*$B24 -> #VALUE! | LU24: =LT24*$B24 -> #VALUE! | LW24: =LV24*$B24 -> #VALUE! | LY24: =LX24*$B24 -> #VALUE! | MA24: =係数マスタ!$A$20 -> 17 | MB24: =係数マスタ!$B20 | MD24: =MC24*$B24 -> #VALUE! | MF24: =ME24*$B24 -> #VALUE! | MH24: =MG24*$B24 -> #VALUE! | MJ24: =MI24*$B24 -> #VALUE! | ML24: =MK24*$B24 -> #VALUE! | MN24: =係数マスタ!$A$20 -> 17 | MO24: =係数マスタ!$B20 | MQ24: =MP24*$B24 -> #VALUE! | MS24: =MR24*$B24 -> #VALUE! | MU24: =MT24*$B24 -> #VALUE! | MW24: =MV24*$B24 -> #VALUE! | MY24: =MX24*$B24 -> #VALUE! | NA24: =係数マスタ!$A$20 -> 17 | NB24: =係数マスタ!$B20 | ND24: =NC24*$B24 -> #VALUE! | NF24: =NE24*$B24 -> #VALUE! | NH24: =NG24*$B24 -> #VALUE! | NJ24: =NI24*$B24 -> #VALUE! | NL24: =NK24*$B24 -> #VALUE! | NN24: =係数マスタ!$A$20 -> 17 | NO24: =係数マスタ!$B20 | NQ24: =NP24*$B24 -> #VALUE! | NS24: =NR24*$B24 -> #VALUE! | NU24: =NT24*$B24 -> #VALUE! | NW24: =NV24*$B24 -> #VALUE! | NY24: =NX24*$B24 -> #VALUE! | OA24: =係数マスタ!$A$20 -> 17 | OB24: =係数マスタ!$B20 | OD24: =OC24*$B24 -> #VALUE! | OF24: =OE24*$B24 -> #VALUE! | OH24: =OG24*$B24 -> #VALUE! | OJ24: =OI24*$B24 -> #VALUE! | OL24: =OK24*$B24 -> #VALUE! | ON24: =係数マスタ!$A$20 -> 17 | OO24: =係数マスタ!$B20 | OQ24: =OP24*$B24 -> #VALUE! | OS24: =OR24*$B24 -> #VALUE! | OU24: =OT24*$B24 -> #VALUE! | OW24: =OV24*$B24 -> #VALUE! | OY24: =OX24*$B24 -> #VALUE! | PA24: =係数マスタ!$A$20 -> 17 | PB24: =係数マスタ!$B20 | PD24: =PC24*$B24 -> #VALUE! | PF24: =PE24*$B24 -> #VALUE! | PH24: =PG24*$B24 -> #VALUE! | PJ24: =PI24*$B24 -> #VALUE! | PL24: =PK24*$B24 -> #VALUE! | PN24: =係数マスタ!$A$20 -> 17 | PO24: =係数マスタ!$B20 | PQ24: =PP24*$B24 -> #VALUE! | PS24: =PR24*$B24 -> #VALUE! | PU24: =PT24*$B24 -> #VALUE! | PW24: =PV24*$B24 -> #VALUE! | PY24: =PX24*$B24 -> #VALUE! | QA24: =係数マスタ!$A$20 -> 17 | QB24: =係数マスタ!$B20 | QD24: =QC24*$B24 -> #VALUE! | QF24: =QE24*$B24 -> #VALUE! | QH24: =QG24*$B24 -> #VALUE! | QJ24: =QI24*$B24 -> #VALUE! | QL24: =QK24*$B24 -> #VALUE! | QN24: =係数マスタ!$A$20 -> 17 | QO24: =係数マスタ!$B20 | QQ24: =QP24*$B24 -> #VALUE! | QS24: =QR24*$B24 -> #VALUE! | QU24: =QT24*$B24 -> #VALUE! | QW24: =QV24*$B24 -> #VALUE! | QY24: =QX24*$B24 -> #VALUE! | RA24: =係数マスタ!$A$20 -> 17 | RB24: =係数マスタ!$B20 | RD24: =RC24*$B24 -> #VALUE! | RF24: =RE24*$B24 -> #VALUE! | RH24: =RG24*$B24 -> #VALUE! | RJ24: =RI24*$B24 -> #VALUE! | RL24: =RK24*$B24 -> #VALUE! | RN24: =係数マスタ!$A$20 -> 17 | RO24: =係数マスタ!$B20 | RQ24: =RP24*$B24 -> #VALUE! | RS24: =RR24*$B24 -> #VALUE! | RU24: =RT24*$B24 -> #VALUE! | RW24: =RV24*$B24 -> #VALUE! | RY24: =RX24*$B24 -> #VALUE! | SA24: =係数マスタ!$A$20 -> 17 | SB24: =係数マスタ!$B20 | SD24: =SC24*$B24 -> #VALUE! | SF24: =SE24*$B24 -> #VALUE! | SH24: =SG24*$B24 -> #VALUE! | SJ24: =SI24*$B24 -> #VALUE! | SL24: =SK24*$B24 -> #VALUE! | SN24: =係数マスタ!$A$20 -> 17 | SO24: =係数マスタ!$B20 | SQ24: =SP24*$B24 -> #VALUE! | SS24: =SR24*$B24 -> #VALUE! | SU24: =ST24*$B24 -> #VALUE! | SW24: =SV24*$B24 -> #VALUE! | SY24: =SX24*$B24 -> #VALUE! | TA24: =係数マスタ!$A$20 -> 17 | TB24: =係数マスタ!$B20 | TD24: =TC24*$B24 -> #VALUE! | TF24: =TE24*$B24 -> #VALUE! | TH24: =TG24*$B24 -> #VALUE! | TJ24: =TI24*$B24 -> #VALUE! | TL24: =TK24*$B24 -> #VALUE! | TN24: =係数マスタ!$A$20 -> 17 | TO24: =係数マスタ!$B20 | TQ24: =TP24*$B24 -> #VALUE! | TS24: =TR24*$B24 -> #VALUE! | TU24: =TT24*$B24 -> #VALUE! | TW24: =TV24*$B24 -> #VALUE! | TY24: =TX24*$B24 -> #VALUE! | UA24: =係数マスタ!$A$20 -> 17 | UB24: =係数マスタ!$B20 | UD24: =UC24*$B24 -> #VALUE! | UF24: =UE24*$B24 -> #VALUE! | UH24: =UG24*$B24 -> #VALUE! | UJ24: =UI24*$B24 -> #VALUE! | UL24: =UK24*$B24 -> #VALUE! | UN24: =係数マスタ!$A$20 -> 17 | UO24: =係数マスタ!$B20 | UQ24: =UP24*$B24 -> #VALUE! | US24: =UR24*$B24 -> #VALUE! | UU24: =UT24*$B24 -> #VALUE! | UW24: =UV24*$B24 -> #VALUE! | UY24: =UX24*$B24 -> #VALUE! | VA24: =係数マスタ!$A$20 -> 17 | VB24: =係数マスタ!$B20 | VD24: =VC24*$B24 -> #VALUE! | VF24: =VE24*$B24 -> #VALUE! | VH24: =VG24*$B24 -> #VALUE! | VJ24: =VI24*$B24 -> #VALUE! | VL24: =VK24*$B24 -> #VALUE! | VN24: =係数マスタ!$A$20 -> 17 | VO24: =係数マスタ!$B20 | VQ24: =VP24*$B24 -> #VALUE! | VS24: =VR24*$B24 -> #VALUE! | VU24: =VT24*$B24 -> #VALUE! | VW24: =VV24*$B24 -> #VALUE! | VY24: =VX24*$B24 -> #VALUE! | WA24: =係数マスタ!$A$20 -> 17 | WB24: =係数マスタ!$B20 | WD24: =WC24*$B24 -> #VALUE! | WF24: =WE24*$B24 -> #VALUE! | WH24: =WG24*$B24 -> #VALUE! | WJ24: =WI24*$B24 -> #VALUE! | WL24: =WK24*$B24 -> #VALUE! | WN24: =係数マスタ!$A$20 -> 17 | WO24: =係数マスタ!$B20 | WQ24: =WP24*$B24 -> #VALUE! | WS24: =WR24*$B24 -> #VALUE! | WU24: =WT24*$B24 -> #VALUE! | WW24: =WV24*$B24 -> #VALUE! | WY24: =WX24*$B24 -> #VALUE! | XA24: =係数マスタ!$A$20 -> 17 | XB24: =係数マスタ!$B20 | XD24: =XC24*$B24 -> #VALUE! | XF24: =XE24*$B24 -> #VALUE! | XH24: =XG24*$B24 -> #VALUE! | XJ24: =XI24*$B24 -> #VALUE! | XL24: =XK24*$B24 -> #VALUE! | XN24: =係数マスタ!$A$20 -> 17 | XO24: =係数マスタ!$B20 | XQ24: =XP24*$B24 -> #VALUE! | XS24: =XR24*$B24 -> #VALUE! | XU24: =XT24*$B24 -> #VALUE! | XW24: =XV24*$B24 -> #VALUE! | XY24: =XX24*$B24 -> #VALUE!
