Workbook

Sheet ①出番表
B2: 大会登録No. | E2: 開催日： | P2: 主任審判員署名：
B3: 大会名： | Q3: 公式発表時刻：
B4: 第 | D4: 競技 | E4: 競技名：
B5: 認定競技No. | E5: クラス：
A6: E： | B6: 会員番号 | D6: 審判名
A7: H： | B7: 会員番号 | D7: 審判名
A8: C： | B8: 会員番号 | D8: 審判名
A9: M： | B9: 会員番号 | D9: 審判名
A10: B： | B10: 会員番号 | D10: 審判名
H11: 得 点 率 | AB11: 小 | AC11: 計 | AD11: 最終
I12: E | M12: H | Q12: C | U12: M | Y12: B | AD12: 得点率 | AE12: 備考
A13: 順位 | B13: 出番 | C13: 選手名 | D13: 会員番号 | E13: 馬匹名 | F13: 登録番号 | G13: 所 属 | H13: 技術 | I13: 芸術 | L13: 技術 | M13: 芸術 | P13: 技術 | Q13: 芸術 | T13: 技術 | U13: 芸術 | X13: 技術 | Y13: 芸術 | AB13: 技術 | AC13: 芸術
B14: 1
B15: 2
B16: 3
B17: 4
B18: 5
B19: 6
B20: 7
B21: 8
B22: 9
B23: 10
B24: 11
B25: 12
... B33: 20

Sheet ②打ち込みシート
A1: 課目 | B1: =①出番表!F4 -> 0 | V1: 日付 | W1: =①出番表!F2 -> 0 | AA1: 審判 | AB1: =COUNTA(①出番表!E6:E10) -> 0
A3: 出番 | B3: =①出番表!$B14 -> 1 | D3: 選手 | E3: =①出番表!$C14 -> 0 | H3: =①出番表!$D14 -> 0 | I3: 馬 | J3: =①出番表!$E14 -> 0 | M3: =①出番表!$F14 -> 0 | N3: 所属 | O3: =①出番表!$G14 -> 0 | S3: 強制処理 | V3: 出番 | W3: =①出番表!$B15 -> 2 | Y3: 選手 | Z3: =①出番表!$C15 -> 0 | AC3: =①出番表!$D15 -> 0 | AD3: 馬 | AE3: =①出番表!$E15 -> 0 | AH3: =①出番表!$F15 -> 0 | AI3: 所属 | AJ3: =①出番表!$G15 -> 0 | AN3: 強制処理 | AQ3: 出番 | AR3: =①出番表!$B16 -> 3 | AT3: 選手 | AU3: =①出番表!$C16 -> 0 | AX3: =①出番表!$D16 -> 0 | AY3: 馬 | AZ3: =①出番表!$E16 -> 0 | BC3: =①出番表!$F16 -> 0 | BD3: 所属 | BE3: =①出番表!$G16 -> 0 | BI3: 強制処理 | BL3: 出番 | BM3: =①出番表!$B17 -> 4 | BO3: 選手 | BP3: =①出番表!$C17 -> 0 | BS3: =①出番表!$D17 -> 0 | BT3: 馬 | BU3: =①出番表!$E17 -> 0 | BX3: =①出番表!$F17 -> 0 | BY3: 所属 | BZ3: =①出番表!$G17 -> 0 | CD3: 強制処理 | CG3: 出番 | CH3: =①出番表!$B18 -> 5 | CJ3: 選手 | CK3: =①出番表!$C18 -> 0 | CN3: =①出番表!$D18 -> 0 | CO3: 馬 | CP3: =①出番表!$E18 -> 0 | CS3: =①出番表!$F18 -> 0 | CT3: 所属 | CU3: =①出番表!$G18 -> 0 | CY3: 強制処理
A4: E | E4: H | I4: C | M4: M | Q4: B | V4: E | Z4: H | AD4: C | AH4: M | AL4: B | AQ4: E | AU4: H | AY4: C | BC4: M | BG4: B | BL4: E | BP4: H | BT4: C | BX4: M | CB4: B | CG4: E | CK4: H | CO4: C | CS4: M | CW4: B
A5: 項目 | B5: 入力 | C5: 係数 | D5: 得点 | E5: 項目 | F5: 入力 | G5: 係数 | H5: 得点 | I5: 項目 | J5: 入力 | K5: 係数 | L5: 得点 | M5: 項目 | N5: 入力 | O5: 係数 | P5: 得点 | Q5: 項目 | R5: 入力 | S5: 係数 | T5: 得点 | V5: 項目 | W5: 入力 | X5: 係数 | Y5: 得点 | Z5: 項目 | AA5: 入力 | AB5: 係数 | AC5: 得点 | AD5: 項目 | AE5: 入力 | AF5: 係数 | AG5: 得点 | AH5: 項目 | AI5: 入力 | AJ5: 係数 | AK5: 得点 | AL5: 項目 | AM5: 入力 | AN5: 係数 | AO5: 得点 | AQ5: 項目 | AR5: 入力 | AS5: 係数 | AT5: 得点 | AU5: 項目 | AV5: 入力 | AW5: 係数 | AX5: 得点 | AY5: 項目 | AZ5: 入力 | BA5: 係数 | BB5: 得点 | BC5: 項目 | BD5: 入力 | BE5: 係数 | BF5: 得点 | BG5: 項目 | BH5: 入力 | BI5: 係数 | BJ5: 得点 | BL5: 項目 | BM5: 入力 | BN5: 係数 | BO5: 得点 | BP5: 項目 | BQ5: 入力 | BR5: 係数 | BS5: 得点 | BT5: 項目 | BU5: 入力 | BV5: 係数 | BW5: 得点 | BX5: 項目 | BY5: 入力 | BZ5: 係数 | CA5: 得点 | CB5: 項目 | CC5: 入力 | CD5: 係数 | CE5: 得点 | CG5: 項目 | CH5: 入力 | CI5: 係数 | CJ5: 得点 | CK5: 項目 | CL5: 入力 | CM5: 係数 | CN5: 得点 | CO5: 項目 | CP5: 入力 | CQ5: 係数 | CR5: 得点 | CS5: 項目 | CT5: 入力 | CU5: 係数 | CV5: 得点 | CW5: 項目 | CX5: 入力 | CY5: 係数 | CZ5: 得点
A6: =係数マスタ!$A$4 -> 1 | C6: =係数マスタ!$B$4 -> #N/A | D6: =IFERROR(B6*C6,"") | E6: =係数マスタ!$A$4 -> 1 | G6: =係数マスタ!$B$4 -> #N/A | H6: =IFERROR(F6*G6,"") | I6: =係数マスタ!$A$4 -> 1 | K6: =係数マスタ!$B$4 -> #N/A | L6: =IFERROR(J6*K6,"") | M6: =係数マスタ!$A$4 -> 1 | O6: =係数マスタ!$B$4 -> #N/A | P6: =IFERROR(N6*O6,"") | Q6: =係数マスタ!$A$4 -> 1 | S6: =係数マスタ!$B$4 -> #N/A | T6: =IFERROR(R6*S6,"") | V6: =係数マスタ!$A$4 -> 1 | X6: =係数マスタ!$B$4 -> #N/A | Y6: =IFERROR(W6*X6,"") | Z6: =係数マスタ!$A$4 -> 1 | AB6: =係数マスタ!$B$4 -> #N/A | AC6: =IFERROR(AA6*AB6,"") | AD6: =係数マスタ!$A$4 -> 1 | AF6: =係数マスタ!$B$4 -> #N/A | AG6: =IFERROR(AE6*AF6,"") | AH6: =係数マスタ!$A$4 -> 1 | AJ6: =係数マスタ!$B$4 -> #N/A | AK6: =IFERROR(AI6*AJ6,"") | AL6: =係数マスタ!$A$4 -> 1 | AN6: =係数マスタ!$B$4 -> #N/A | AO6: =IFERROR(AM6*AN6,"") | AQ6: =係数マスタ!$A$4 -> 1 | AS6: =係数マスタ!$B$4 -> #N/A | AT6: =IFERROR(AR6*AS6,"") | AU6: =係数マスタ!$A$4 -> 1 | AW6: =係数マスタ!$B$4 -> #N/A | AX6: =IFERROR(AV6*AW6,"") | AY6: =係数マスタ!$A$4 -> 1 | BA6: =係数マスタ!$B$4 -> #N/A | BB6: =IFERROR(AZ6*BA6,"") | BC6: =係数マスタ!$A$4 -> 1 | BE6: =係数マスタ!$B$4 -> #N/A | BF6: =IFERROR(BD6*BE6,"") | BG6: =係数マスタ!$A$4 -> 1 | BI6: =係数マスタ!$B$4 -> #N/A | BJ6: =IFERROR(BH6*BI6,"") | BL6: =係数マスタ!$A$4 -> 1 | BN6: =係数マスタ!$B$4 -> #N/A | BO6: =IFERROR(BM6*BN6,"") | BP6: =係数マスタ!$A$4 -> 1 | BR6: =係数マスタ!$B$4 -> #N/A | BS6: =IFERROR(BQ6*BR6,"") | BT6: =係数マスタ!$A$4 -> 1 | BV6: =係数マスタ!$B$4 -> #N/A | BW6: =IFERROR(BU6*BV6,"") | BX6: =係数マスタ!$A$4 -> 1 | BZ6: =係数マスタ!$B$4 -> #N/A | CA6: =IFERROR(BY6*BZ6,"") | CB6: =係数マスタ!$A$4 -> 1 | CD6: =係数マスタ!$B$4 -> #N/A | CE6: =IFERROR(CC6*CD6,"") | CG6: =係数マスタ!$A$4 -> 1 | CI6: =係数マスタ!$B$4 -> #N/A | CJ6: =IFERROR(CH6*CI6,"") | CK6: =係数マスタ!$A$4 -> 1 | CM6: =係数マスタ!$B$4 -> #N/A | CN6: =IFERROR(CL6*CM6,"") | CO6: =係数マスタ!$A$4 -> 1 | CQ6: =係数マスタ!$B$4 -> #N/A | CR6: =IFERROR(CP6*CQ6,"") | CS6: =係数マスタ!$A$4 -> 1 | CU6: =係数マスタ!$B$4 -> #N/A | CV6: =IFERROR(CT6*CU6,"") | CW6: =係数マスタ!$A$4 -> 1 | CY6: =係数マスタ!$B$4 -> #N/A | CZ6: =IFERROR(CX6*CY6,"")
A7: =係数マスタ!$A$5 -> 2 | C7: =係数マスタ!$B$5 -> #N/A | D7: =IFERROR(B7*C7,"") | E7: =係数マスタ!$A$5 -> 2 | G7: =係数マスタ!$B$5 -> #N/A | H7: =IFERROR(F7*G7,"") | I7: =係数マスタ!$A$5 -> 2 | K7: =係数マスタ!$B$5 -> #N/A | L7: =IFERROR(J7*K7,"") | M7: =係数マスタ!$A$5 -> 2 | O7: =係数マスタ!$B$5 -> #N/A | P7: =IFERROR(N7*O7,"") | Q7: =係数マスタ!$A$5 -> 2 | S7: =係数マスタ!$B$5 -> #N/A | T7: =IFERROR(R7*S7,"") | V7: =係数マスタ!$A$5 -> 2 | X7: =係数マスタ!$B$5 -> #N/A | Y7: =IFERROR(W7*X7,"") | Z7: =係数マスタ!$A$5 -> 2 | AB7: =係数マスタ!$B$5 -> #N/A | AC7: =IFERROR(AA7*AB7,"") | AD7: =係数マスタ!$A$5 -> 2 | AF7: =係数マスタ!$B$5 -> #N/A | AG7: =IFERROR(AE7*AF7,"") | AH7: =係数マスタ!$A$5 -> 2 | AJ7: =係数マスタ!$B$5 -> #N/A | AK7: =IFERROR(AI7*AJ7,"") | AL7: =係数マスタ!$A$5 -> 2 | AN7: =係数マスタ!$B$5 -> #N/A | AO7: =IFERROR(AM7*AN7,"") | AQ7: =係数マスタ!$A$5 -> 2 | AS7: =係数マスタ!$B$5 -> #N/A | AT7: =IFERROR(AR7*AS7,"") | AU7: =係数マスタ!$A$5 -> 2 | AW7: =係数マスタ!$B$5 -> #N/A | AX7: =IFERROR(AV7*AW7,"") | AY7: =係数マスタ!$A$5 -> 2 | BA7: =係数マスタ!$B$5 -> #N/A | BB7: =IFERROR(AZ7*BA7,"") | BC7: =係数マスタ!$A$5 -> 2 | BE7: =係数マスタ!$B$5 -> #N/A | BF7: =IFERROR(BD7*BE7,"") | BG7: =係数マスタ!$A$5 -> 2 | BI7: =係数マスタ!$B$5 -> #N/A | BJ7: =IFERROR(BH7*BI7,"") | BL7: =係数マスタ!$A$5 -> 2 | BN7: =係数マスタ!$B$5 -> #N/A | BO7: =IFERROR(BM7*BN7,"") | BP7: =係数マスタ!$A$5 -> 2 | BR7: =係数マスタ!$B$5 -> #N/A | BS7: =IFERROR(BQ7*BR7,"") | BT7: =係数マスタ!$A$5 -> 2 | BV7: =係数マスタ!$B$5 -> #N/A | BW7: =IFERROR(BU7*BV7,"") | BX7: =係数マスタ!$A$5 -> 2 | BZ7: =係数マスタ!$B$5 -> #N/A | CA7: =IFERROR(BY7*BZ7,"") | CB7: =係数マスタ!$A$5 -> 2 | CD7: =係数マスタ!$B$5 -> #N/A | CE7: =IFERROR(CC7*CD7,"") | CG7: =係数マスタ!$A$5 -> 2 | CI7: =係数マスタ!$B$5 -> #N/A | CJ7: =IFERROR(CH7*CI7,"") | CK7: =係数マスタ!$A$5 -> 2 | CM7: =係数マスタ!$B$5 -> #N/A | CN7: =IFERROR(CL7*CM7,"") | CO7: =係数マスタ!$A$5 -> 2 | CQ7: =係数マスタ!$B$5 -> #N/A | CR7: =IFERROR(CP7*CQ7,"") | CS7: =係数マスタ!$A$5 -> 2 | CU7: =係数マスタ!$B$5 -> #N/A | CV7: =IFERROR(CT7*CU7,"") | CW7: =係数マスタ!$A$5 -> 2 | CY7: =係数マスタ!$B$5 -> #N/A | CZ7: =IFERROR(CX7*CY7,"")
A8: =係数マスタ!$A$6 -> 3 | C8: =係数マスタ!$B$6 -> #N/A | D8: =IFERROR(B8*C8,"") | E8: =係数マスタ!$A$6 -> 3 | G8: =係数マスタ!$B$6 -> #N/A | H8: =IFERROR(F8*G8,"") | I8: =係数マスタ!$A$6 -> 3 | K8: =係数マスタ!$B$6 -> #N/A | L8: =IFERROR(J8*K8,"") | M8: =係数マスタ!$A$6 -> 3 | O8: =係数マスタ!$B$6 -> #N/A | P8: =IFERROR(N8*O8,"") | Q8: =係数マスタ!$A$6 -> 3 | S8: =係数マスタ!$B$6 -> #N/A | T8: =IFERROR(R8*S8,"") | V8: =係数マスタ!$A$6 -> 3 | X8: =係数マスタ!$B$6 -> #N/A | Y8: =IFERROR(W8*X8,"") | Z8: =係数マスタ!$A$6 -> 3 | AB8: =係数マスタ!$B$6 -> #N/A | AC8: =IFERROR(AA8*AB8,"") | AD8: =係数マスタ!$A$6 -> 3 | AF8: =係数マスタ!$B$6 -> #N/A | AG8: =IFERROR(AE8*AF8,"") | AH8: =係数マスタ!$A$6 -> 3 | AJ8: =係数マスタ!$B$6 -> #N/A | AK8: =IFERROR(AI8*AJ8,"") | AL8: =係数マスタ!$A$6 -> 3 | AN8: =係数マスタ!$B$6 -> #N/A | AO8: =IFERROR(AM8*AN8,"") | AQ8: =係数マスタ!$A$6 -> 3 | AS8: =係数マスタ!$B$6 -> #N/A | AT8: =IFERROR(AR8*AS8,"") | AU8: =係数マスタ!$A$6 -> 3 | AW8: =係数マスタ!$B$6 -> #N/A | AX8: =IFERROR(AV8*AW8,"") | AY8: =係数マスタ!$A$6 -> 3 | BA8: =係数マスタ!$B$6 -> #N/A | BB8: =IFERROR(AZ8*BA8,"") | BC8: =係数マスタ!$A$6 -> 3 | BE8: =係数マスタ!$B$6 -> #N/A | BF8: =IFERROR(BD8*BE8,"") | BG8: =係数マスタ!$A$6 -> 3 | BI8: =係数マスタ!$B$6 -> #N/A | BJ8: =IFERROR(BH8*BI8,"") | BL8: =係数マスタ!$A$6 -> 3 | BN8: =係数マスタ!$B$6 -> #N/A | BO8: =IFERROR(BM8*BN8,"") | BP8: =係数マスタ!$A$6 -> 3 | BR8: =係数マスタ!$B$6 -> #N/A | BS8: =IFERROR(BQ8*BR8,"") | BT8: =係数マスタ!$A$6 -> 3 | BV8: =係数マスタ!$B$6 -> #N/A | BW8: =IFERROR(BU8*BV8,"") | BX8: =係数マスタ!$A$6 -> 3 | BZ8: =係数マスタ!$B$6 -> #N/A | CA8: =IFERROR(BY8*BZ8,"") | CB8: =係数マスタ!$A$6 -> 3 | CD8: =係数マスタ!$B$6 -> #N/A | CE8: =IFERROR(CC8*CD8,"") | CG8: =係数マスタ!$A$6 -> 3 | CI8: =係数マスタ!$B$6 -> #N/A | CJ8: =IFERROR(CH8*CI8,"") | CK8: =係数マスタ!$A$6 -> 3 | CM8: =係数マスタ!$B$6 -> #N/A | CN8: =IFERROR(CL8*CM8,"") | CO8: =係数マスタ!$A$6 -> 3 | CQ8: =係数マスタ!$B$6 -> #N/A | CR8: =IFERROR(CP8*CQ8,"") | CS8: =係数マスタ!$A$6 -> 3 | CU8: =係数マスタ!$B$6 -> #N/A | CV8: =IFERROR(CT8*CU8,"") | CW8: =係数マスタ!$A$6 -> 3 | CY8: =係数マスタ!$B$6 -> #N/A | CZ8: =IFERROR(CX8*CY8,"")
A9: =係数マスタ!$A$7 -> 4 | C9: =係数マスタ!$B$7 -> #N/A | D9: =IFERROR(B9*C9,"") | E9: =係数マスタ!$A$7 -> 4 | G9: =係数マスタ!$B$7 -> #N/A | H9: =IFERROR(F9*G9,"") | I9: =係数マスタ!$A$7 -> 4 | K9: =係数マスタ!$B$7 -> #N/A | L9: =IFERROR(J9*K9,"") | M9: =係数マスタ!$A$7 -> 4 | O9: =係数マスタ!$B$7 -> #N/A | P9: =IFERROR(N9*O9,"") | Q9: =係数マスタ!$A$7 -> 4 | S9: =係数マスタ!$B$7 -> #N/A | T9: =IFERROR(R9*S9,"") | V9: =係数マスタ!$A$7 -> 4 | X9: =係数マスタ!$B$7 -> #N/A | Y9: =IFERROR(W9*X9,"") | Z9: =係数マスタ!$A$7 -> 4 | AB9: =係数マスタ!$B$7 -> #N/A | AC9: =IFERROR(AA9*AB9,"") | AD9: =係数マスタ!$A$7 -> 4 | AF9: =係数マスタ!$B$7 -> #N/A | AG9: =IFERROR(AE9*AF9,"") | AH9: =係数マスタ!$A$7 -> 4 | AJ9: =係数マスタ!$B$7 -> #N/A | AK9: =IFERROR(AI9*AJ9,"") | AL9: =係数マスタ!$A$7 -> 4 | AN9: =係数マスタ!$B$7 -> #N/A | AO9: =IFERROR(AM9*AN9,"") | AQ9: =係数マスタ!$A$7 -> 4 | AS9: =係数マスタ!$B$7 -> #N/A | AT9: =IFERROR(AR9*AS9,"") | AU9: =係数マスタ!$A$7 -> 4 | AW9: =係数マスタ!$B$7 -> #N/A | AX9: =IFERROR(AV9*AW9,"") | AY9: =係数マスタ!$A$7 -> 4 | BA9: =係数マスタ!$B$7 -> #N/A | BB9: =IFERROR(AZ9*BA9,"") | BC9: =係数マスタ!$A$7 -> 4 | BE9: =係数マスタ!$B$7 -> #N/A | BF9: =IFERROR(BD9*BE9,"") | BG9: =係数マスタ!$A$7 -> 4 | BI9: =係数マスタ!$B$7 -> #N/A | BJ9: =IFERROR(BH9*BI9,"") | BL9: =係数マスタ!$A$7 -> 4 | BN9: =係数マスタ!$B$7 -> #N/A | BO9: =IFERROR(BM9*BN9,"") | BP9: =係数マスタ!$A$7 -> 4 | BR9: =係数マスタ!$B$7 -> #N/A | BS9: =IFERROR(BQ9*BR9,"") | BT9: =係数マスタ!$A$7 -> 4 | BV9: =係数マスタ!$B$7 -> #N/A | BW9: =IFERROR(BU9*BV9,"") | BX9: =係数マスタ!$A$7 -> 4 | BZ9: =係数マスタ!$B$7 -> #N/A | CA9: =IFERROR(BY9*BZ9,"") | CB9: =係数マスタ!$A$7 -> 4 | CD9: =係数マスタ!$B$7 -> #N/A | CE9: =IFERROR(CC9*CD9,"") | CG9: =係数マスタ!$A$7 -> 4 | CI9: =係数マスタ!$B$7 -> #N/A | CJ9: =IFERROR(CH9*CI9,"") | CK9: =係数マスタ!$A$7 -> 4 | CM9: =係数マスタ!$B$7 -> #N/A | CN9: =IFERROR(CL9*CM9,"") | CO9: =係数マスタ!$A$7 -> 4 | CQ9: =係数マスタ!$B$7 -> #N/A | CR9: =IFERROR(CP9*CQ9,"") | CS9: =係数マスタ!$A$7 -> 4 | CU9: =係数マスタ!$B$7 -> #N/A | CV9: =IFERROR(CT9*CU9,"") | CW9: =係数マスタ!$A$7 -> 4 | CY9: =係数マスタ!$B$7 -> #N/A | CZ9: =IFERROR(CX9*CY9,"")
A10: =係数マスタ!$A$8 -> 5 | C10: =係数マスタ!$B$8 -> #N/A | D10: =IFERROR(B10*C10,"") | E10: =係数マスタ!$A$8 -> 5 | G10: =係数マスタ!$B$8 -> #N/A | H10: =IFERROR(F10*G10,"") | I10: =係数マスタ!$A$8 -> 5 | K10: =係数マスタ!$B$8 -> #N/A | L10: =IFERROR(J10*K10,"") | M10: =係数マスタ!$A$8 -> 5 | O10: =係数マスタ!$B$8 -> #N/A | P10: =IFERROR(N10*O10,"") | Q10: =係数マスタ!$A$8 -> 5 | S10: =係数マスタ!$B$8 -> #N/A | T10: =IFERROR(R10*S10,"") | V10: =係数マスタ!$A$8 -> 5 | X10: =係数マスタ!$B$8 -> #N/A | Y10: =IFERROR(W10*X10,"") | Z10: =係数マスタ!$A$8 -> 5 | AB10: =係数マスタ!$B$8 -> #N/A | AC10: =IFERROR(AA10*AB10,"") | AD10: =係数マスタ!$A$8 -> 5 | AF10: =係数マスタ!$B$8 -> #N/A | AG10: =IFERROR(AE10*AF10,"") | AH10: =係数マスタ!$A$8 -> 5 | AJ10: =係数マスタ!$B$8 -> #N/A | AK10: =IFERROR(AI10*AJ10,"") | AL10: =係数マスタ!$A$8 -> 5 | AN10: =係数マスタ!$B$8 -> #N/A | AO10: =IFERROR(AM10*AN10,"") | AQ10: =係数マスタ!$A$8 -> 5 | AS10: =係数マスタ!$B$8 -> #N/A | AT10: =IFERROR(AR10*AS10,"") | AU10: =係数マスタ!$A$8 -> 5 | AW10: =係数マスタ!$B$8 -> #N/A | AX10: =IFERROR(AV10*AW10,"") | AY10: =係数マスタ!$A$8 -> 5 | BA10: =係数マスタ!$B$8 -> #N/A | BB10: =IFERROR(AZ10*BA10,"") | BC10: =係数マスタ!$A$8 -> 5 | BE10: =係数マスタ!$B$8 -> #N/A | BF10: =IFERROR(BD10*BE10,"") | BG10: =係数マスタ!$A$8 -> 5 | BI10: =係数マスタ!$B$8 -> #N/A | BJ10: =IFERROR(BH10*BI10,"") | BL10: =係数マスタ!$A$8 -> 5 | BN10: =係数マスタ!$B$8 -> #N/A | BO10: =IFERROR(BM10*BN10,"") | BP10: =係数マスタ!$A$8 -> 5 | BR10: =係数マスタ!$B$8 -> #N/A | BS10: =IFERROR(BQ10*BR10,"") | BT10: =係数マスタ!$A$8 -> 5 | BV10: =係数マスタ!$B$8 -> #N/A | BW10: =IFERROR(BU10*BV10,"") | BX10: =係数マスタ!$A$8 -> 5 | BZ10: =係数マスタ!$B$8 -> #N/A | CA10: =IFERROR(BY10*BZ10,"") | CB10: =係数マスタ!$A$8 -> 5 | CD10: =係数マスタ!$B$8 -> #N/A | CE10: =IFERROR(CC10*CD10,"") | CG10: =係数マスタ!$A$8 -> 5 | CI10: =係数マスタ!$B$8 -> #N/A | CJ10: =IFERROR(CH10*CI10,"") | CK10: =係数マスタ!$A$8 -> 5 | CM10: =係数マスタ!$B$8 -> #N/A | CN10: =IFERROR(CL10*CM10,"") | CO10: =係数マスタ!$A$8 -> 5 | CQ10: =係数マスタ!$B$8 -> #N/A | CR10: =IFERROR(CP10*CQ10,"") | CS10: =係数マスタ!$A$8 -> 5 | CU10: =係数マスタ!$B$8 -> #N/A | CV10: =IFERROR(CT10*CU10,"") | CW10: =係数マスタ!$A$8 -> 5 | CY10: =係数マスタ!$B$8 -> #N/A | CZ10: =IFERROR(CX10*CY10,"")
A11: =係数マスタ!$A$9 -> 6 | C11: =係数マスタ!$B$9 -> #N/A | D11: =IFERROR(B11*C11,"") | E11: =係数マスタ!$A$9 -> 6 | G11: =係数マスタ!$B$9 -> #N/A | H11: =IFERROR(F11*G11,"") | I11: =係数マスタ!$A$9 -> 6 | K11: =係数マスタ!$B$9 -> #N/A | L11: =IFERROR(J11*K11,"") | M11: =係数マスタ!$A$9 -> 6 | O11: =係数マスタ!$B$9 -> #N/A | P11: =IFERROR(N11*O11,"") | Q11: =係数マスタ!$A$9 -> 6 | S11: =係数マスタ!$B$9 -> #N/A | T11: =IFERROR(R11*S11,"") | V11: =係数マスタ!$A$9 -> 6 | X11: =係数マスタ!$B$9 -> #N/A | Y11: =IFERROR(W11*X11,"") | Z11: =係数マスタ!$A$9 -> 6 | AB11: =係数マスタ!$B$9 -> #N/A | AC11: =IFERROR(AA11*AB11,"") | AD11: =係数マスタ!$A$9 -> 6 | AF11: =係数マスタ!$B$9 -> #N/A | AG11: =IFERROR(AE11*AF11,"") | AH11: =係数マスタ!$A$9 -> 6 | AJ11: =係数マスタ!$B$9 -> #N/A | AK11: =IFERROR(AI11*AJ11,"") | AL11: =係数マスタ!$A$9 -> 6 | AN11: =係数マスタ!$B$9 -> #N/A | AO11: =IFERROR(AM11*AN11,"") | AQ11: =係数マスタ!$A$9 -> 6 | AS11: =係数マスタ!$B$9 -> #N/A | AT11: =IFERROR(AR11*AS11,"") | AU11: =係数マスタ!$A$9 -> 6 | AW11: =係数マスタ!$B$9 -> #N/A | AX11: =IFERROR(AV11*AW11,"") | AY11: =係数マスタ!$A$9 -> 6 | BA11: =係数マスタ!$B$9 -> #N/A | BB11: =IFERROR(AZ11*BA11,"") | BC11: =係数マスタ!$A$9 -> 6 | BE11: =係数マスタ!$B$9 -> #N/A | BF11: =IFERROR(BD11*BE11,"") | BG11: =係数マスタ!$A$9 -> 6 | BI11: =係数マスタ!$B$9 -> #N/A | BJ11: =IFERROR(BH11*BI11,"") | BL11: =係数マスタ!$A$9 -> 6 | BN11: =係数マスタ!$B$9 -> #N/A | BO11: =IFERROR(BM11*BN11,"") | BP11: =係数マスタ!$A$9 -> 6 | BR11: =係数マスタ!$B$9 -> #N/A | BS11: =IFERROR(BQ11*BR11,"") | BT11: =係数マスタ!$A$9 -> 6 | BV11: =係数マスタ!$B$9 -> #N/A | BW11: =IFERROR(BU11*BV11,"") | BX11: =係数マスタ!$A$9 -> 6 | BZ11: =係数マスタ!$B$9 -> #N/A | CA11: =IFERROR(BY11*BZ11,"") | CB11: =係数マスタ!$A$9 -> 6 | CD11: =係数マスタ!$B$9 -> #N/A | CE11: =IFERROR(CC11*CD11,"") | CG11: =係数マスタ!$A$9 -> 6 | CI11: =係数マスタ!$B$9 -> #N/A | CJ11: =IFERROR(CH11*CI11,"") | CK11: =係数マスタ!$A$9 -> 6 | CM11: =係数マスタ!$B$9 -> #N/A | CN11: =IFERROR(CL11*CM11,"") | CO11: =係数マスタ!$A$9 -> 6 | CQ11: =係数マスタ!$B$9 -> #N/A | CR11: =IFERROR(CP11*CQ11,"") | CS11: =係数マスタ!$A$9 -> 6 | CU11: =係数マスタ!$B$9 -> #N/A | CV11: =IFERROR(CT11*CU11,"") | CW11: =係数マスタ!$A$9 -> 6 | CY11: =係数マスタ!$B$9 -> #N/A | CZ11: =IFERROR(CX11*CY11,"")
A12: =係数マスタ!$A$10 -> 7 | C12: =係数マスタ!$B$10 -> #N/A | D12: =IFERROR(B12*C12,"") | E12: =係数マスタ!$A$10 -> 7 | G12: =係数マスタ!$B$10 -> #N/A | H12: =IFERROR(F12*G12,"") | I12: =係数マスタ!$A$10 -> 7 | K12: =係数マスタ!$B$10 -> #N/A | L12: =IFERROR(J12*K12,"") | M12: =係数マスタ!$A$10 -> 7 | O12: =係数マスタ!$B$10 -> #N/A | P12: =IFERROR(N12*O12,"") | Q12: =係数マスタ!$A$10 -> 7 | S12: =係数マスタ!$B$10 -> #N/A | T12: =IFERROR(R12*S12,"") | V12: =係数マスタ!$A$10 -> 7 | X12: =係数マスタ!$B$10 -> #N/A | Y12: =IFERROR(W12*X12,"") | Z12: =係数マスタ!$A$10 -> 7 | AB12: =係数マスタ!$B$10 -> #N/A | AC12: =IFERROR(AA12*AB12,"") | AD12: =係数マスタ!$A$10 -> 7 | AF12: =係数マスタ!$B$10 -> #N/A | AG12: =IFERROR(AE12*AF12,"") | AH12: =係数マスタ!$A$10 -> 7 | AJ12: =係数マスタ!$B$10 -> #N/A | AK12: =IFERROR(AI12*AJ12,"") | AL12: =係数マスタ!$A$10 -> 7 | AN12: =係数マスタ!$B$10 -> #N/A | AO12: =IFERROR(AM12*AN12,"") | AQ12: =係数マスタ!$A$10 -> 7 | AS12: =係数マスタ!$B$10 -> #N/A | AT12: =IFERROR(AR12*AS12,"") | AU12: =係数マスタ!$A$10 -> 7 | AW12: =係数マスタ!$B$10 -> #N/A | AX12: =IFERROR(AV12*AW12,"") | AY12: =係数マスタ!$A$10 -> 7 | BA12: =係数マスタ!$B$10 -> #N/A | BB12: =IFERROR(AZ12*BA12,"") | BC12: =係数マスタ!$A$10 -> 7 | BE12: =係数マスタ!$B$10 -> #N/A | BF12: =IFERROR(BD12*BE12,"") | BG12: =係数マスタ!$A$10 -> 7 | BI12: =係数マスタ!$B$10 -> #N/A | BJ12: =IFERROR(BH12*BI12,"") | BL12: =係数マスタ!$A$10 -> 7 | BN12: =係数マスタ!$B$10 -> #N/A | BO12: =IFERROR(BM12*BN12,"") | BP12: =係数マスタ!$A$10 -> 7 | BR12: =係数マスタ!$B$10 -> #N/A | BS12: =IFERROR(BQ12*BR12,"") | BT12: =係数マスタ!$A$10 -> 7 | BV12: =係数マスタ!$B$10 -> #N/A | BW12: =IFERROR(BU12*BV12,"") | BX12: =係数マスタ!$A$10 -> 7 | BZ12: =係数マスタ!$B$10 -> #N/A | CA12: =IFERROR(BY12*BZ12,"") | CB12: =係数マスタ!$A$10 -> 7 | CD12: =係数マスタ!$B$10 -> #N/A | CE12: =IFERROR(CC12*CD12,"") | CG12: =係数マスタ!$A$10 -> 7 | CI12: =係数マスタ!$B$10 -> #N/A | CJ12: =IFERROR(CH12*CI12,"") | CK12: =係数マスタ!$A$10 -> 7 | CM12: =係数マスタ!$B$10 -> #N/A | CN12: =IFERROR(CL12*CM12,"") | CO12: =係数マスタ!$A$10 -> 7 | CQ12: =係数マスタ!$B$10 -> #N/A | CR12: =IFERROR(CP12*CQ12,"") | CS12: =係数マスタ!$A$10 -> 7 | CU12: =係数マスタ!$B$10 -> #N/A | CV12: =IFERROR(CT12*CU12,"") | CW12: =係数マスタ!$A$10 -> 7 | CY12: =係数マスタ!$B$10 -> #N/A | CZ12: =IFERROR(CX12*CY12,"")
A13: =係数マスタ!$A$11 -> 8 | C13: =係数マスタ!$B$11 -> #N/A | D13: =IFERROR(B13*C13,"") | E13: =係数マスタ!$A$11 -> 8 | G13: =係数マスタ!$B$11 -> #N/A | H13: =IFERROR(F13*G13,"") | I13: =係数マスタ!$A$11 -> 8 | K13: =係数マスタ!$B$11 -> #N/A | L13: =IFERROR(J13*K13,"") | M13: =係数マスタ!$A$11 -> 8 | O13: =係数マスタ!$B$11 -> #N/A | P13: =IFERROR(N13*O13,"") | Q13: =係数マスタ!$A$11 -> 8 | S13: =係数マスタ!$B$11 -> #N/A | T13: =IFERROR(R13*S13,"") | V13: =係数マスタ!$A$11 -> 8 | X13: =係数マスタ!$B$11 -> #N/A | Y13: =IFERROR(W13*X13,"") | Z13: =係数マスタ!$A$11 -> 8 | AB13: =係数マスタ!$B$11 -> #N/A | AC13: =IFERROR(AA13*AB13,"") | AD13: =係数マスタ!$A$11 -> 8 | AF13: =係数マスタ!$B$11 -> #N/A | AG13: =IFERROR(AE13*AF13,"") | AH13: =係数マスタ!$A$11 -> 8 | AJ13: =係数マスタ!$B$11 -> #N/A | AK13: =IFERROR(AI13*AJ13,"") | AL13: =係数マスタ!$A$11 -> 8 | AN13: =係数マスタ!$B$11 -> #N/A | AO13: =IFERROR(AM13*AN13,"") | AQ13: =係数マスタ!$A$11 -> 8 | AS13: =係数マスタ!$B$11 -> #N/A | AT13: =IFERROR(AR13*AS13,"") | AU13: =係数マスタ!$A$11 -> 8 | AW13: =係数マスタ!$B$11 -> #N/A | AX13: =IFERROR(AV13*AW13,"") | AY13: =係数マスタ!$A$11 -> 8 | BA13: =係数マスタ!$B$11 -> #N/A | BB13: =IFERROR(AZ13*BA13,"") | BC13: =係数マスタ!$A$11 -> 8 | BE13: =係数マスタ!$B$11 -> #N/A | BF13: =IFERROR(BD13*BE13,"") | BG13: =係数マスタ!$A$11 -> 8 | BI13: =係数マスタ!$B$11 -> #N/A | BJ13: =IFERROR(BH13*BI13,"") | BL13: =係数マスタ!$A$11 -> 8 | BN13: =係数マスタ!$B$11 -> #N/A | BO13: =IFERROR(BM13*BN13,"") | BP13: =係数マスタ!$A$11 -> 8 | BR13: =係数マスタ!$B$11 -> #N/A | BS13: =IFERROR(BQ13*BR13,"") | BT13: =係数マスタ!$A$11 -> 8 | BV13: =係数マスタ!$B$11 -> #N/A | BW13: =IFERROR(BU13*BV13,"") | BX13: =係数マスタ!$A$11 -> 8 | BZ13: =係数マスタ!$B$11 -> #N/A | CA13: =IFERROR(BY13*BZ13,"") | CB13: =係数マスタ!$A$11 -> 8 | CD13: =係数マスタ!$B$11 -> #N/A | CE13: =IFERROR(CC13*CD13,"") | CG13: =係数マスタ!$A$11 -> 8 | CI13: =係数マスタ!$B$11 -> #N/A | CJ13: =IFERROR(CH13*CI13,"") | CK13: =係数マスタ!$A$11 -> 8 | CM13: =係数マスタ!$B$11 -> #N/A | CN13: =IFERROR(CL13*CM13,"") | CO13: =係数マスタ!$A$11 -> 8 | CQ13: =係数マスタ!$B$11 -> #N/A | CR13: =IFERROR(CP13*CQ13,"") | CS13: =係数マスタ!$A$11 -> 8 | CU13: =係数マスタ!$B$11 -> #N/A | CV13: =IFERROR(CT13*CU13,"") | CW13: =係数マスタ!$A$11 -> 8 | CY13: =係数マスタ!$B$11 -> #N/A | CZ13: =IFERROR(CX13*CY13,"")
A14: =係数マスタ!$A$12 -> 9 | C14: =係数マスタ!$B$12 -> #N/A | D14: =IFERROR(B14*C14,"") | E14: =係数マスタ!$A$12 -> 9 | G14: =係数マスタ!$B$12 -> #N/A | H14: =IFERROR(F14*G14,"") | I14: =係数マスタ!$A$12 -> 9 | K14: =係数マスタ!$B$12 -> #N/A | L14: =IFERROR(J14*K14,"") | M14: =係数マスタ!$A$12 -> 9 | O14: =係数マスタ!$B$12 -> #N/A | P14: =IFERROR(N14*O14,"") | Q14: =係数マスタ!$A$12 -> 9 | S14: =係数マスタ!$B$12 -> #N/A | T14: =IFERROR(R14*S14,"") | V14: =係数マスタ!$A$12 -> 9 | X14: =係数マスタ!$B$12 -> #N/A | Y14: =IFERROR(W14*X14,"") | Z14: =係数マスタ!$A$12 -> 9 | AB14: =係数マスタ!$B$12 -> #N/A | AC14: =IFERROR(AA14*AB14,"") | AD14: =係数マスタ!$A$12 -> 9 | AF14: =係数マスタ!$B$12 -> #N/A | AG14: =IFERROR(AE14*AF14,"") | AH14: =係数マスタ!$A$12 -> 9 | AJ14: =係数マスタ!$B$12 -> #N/A | AK14: =IFERROR(AI14*AJ14,"") | AL14: =係数マスタ!$A$12 -> 9 | AN14: =係数マスタ!$B$12 -> #N/A | AO14: =IFERROR(AM14*AN14,"") | AQ14: =係数マスタ!$A$12 -> 9 | AS14: =係数マスタ!$B$12 -> #N/A | AT14: =IFERROR(AR14*AS14,"") | AU14: =係数マスタ!$A$12 -> 9 | AW14: =係数マスタ!$B$12 -> #N/A | AX14: =IFERROR(AV14*AW14,"") | AY14: =係数マスタ!$A$12 -> 9 | BA14: =係数マスタ!$B$12 -> #N/A | BB14: =IFERROR(AZ14*BA14,"") | BC14: =係数マスタ!$A$12 -> 9 | BE14: =係数マスタ!$B$12 -> #N/A | BF14: =IFERROR(BD14*BE14,"") | BG14: =係数マスタ!$A$12 -> 9 | BI14: =係数マスタ!$B$12 -> #N/A | BJ14: =IFERROR(BH14*BI14,"") | BL14: =係数マスタ!$A$12 -> 9 | BN14: =係数マスタ!$B$12 -> #N/A | BO14: =IFERROR(BM14*BN14,"") | BP14: =係数マスタ!$A$12 -> 9 | BR14: =係数マスタ!$B$12 -> #N/A | BS14: =IFERROR(BQ14*BR14,"") | BT14: =係数マスタ!$A$12 -> 9 | BV14: =係数マスタ!$B$12 -> #N/A | BW14: =IFERROR(BU14*BV14,"") | BX14: =係数マスタ!$A$12 -> 9 | BZ14: =係数マスタ!$B$12 -> #N/A | CA14: =IFERROR(BY14*BZ14,"") | CB14: =係数マスタ!$A$12 -> 9 | CD14: =係数マスタ!$B$12 -> #N/A | CE14: =IFERROR(CC14*CD14,"") | CG14: =係数マスタ!$A$12 -> 9 | CI14: =係数マスタ!$B$12 -> #N/A | CJ14: =IFERROR(CH14*CI14,"") | CK14: =係数マスタ!$A$12 -> 9 | CM14: =係数マスタ!$B$12 -> #N/A | CN14: =IFERROR(CL14*CM14,"") | CO14: =係数マスタ!$A$12 -> 9 | CQ14: =係数マスタ!$B$12 -> #N/A | CR14: =IFERROR(CP14*CQ14,"") | CS14: =係数マスタ!$A$12 -> 9 | CU14: =係数マスタ!$B$12 -> #N/A | CV14: =IFERROR(CT14*CU14,"") | CW14: =係数マスタ!$A$12 -> 9 | CY14: =係数マスタ!$B$12 -> #N/A | CZ14: =IFERROR(CX14*CY14,"")
A15: =係数マスタ!$A$13 -> 10 | C15: =係数マスタ!$B$13 -> #N/A | D15: =IFERROR(B15*C15,"") | E15: =係数マスタ!$A$13 -> 10 | G15: =係数マスタ!$B$13 -> #N/A | H15: =IFERROR(F15*G15,"") | I15: =係数マスタ!$A$13 -> 10 | K15: =係数マスタ!$B$13 -> #N/A | L15: =IFERROR(J15*K15,"") | M15: =係数マスタ!$A$13 -> 10 | O15: =係数マスタ!$B$13 -> #N/A | P15: =IFERROR(N15*O15,"") | Q15: =係数マスタ!$A$13 -> 10 | S15: =係数マスタ!$B$13 -> #N/A | T15: =IFERROR(R15*S15,"") | V15: =係数マスタ!$A$13 -> 10 | X15: =係数マスタ!$B$13 -> #N/A | Y15: =IFERROR(W15*X15,"") | Z15: =係数マスタ!$A$13 -> 10 | AB15: =係数マスタ!$B$13 -> #N/A | AC15: =IFERROR(AA15*AB15,"") | AD15: =係数マスタ!$A$13 -> 10 | AF15: =係数マスタ!$B$13 -> #N/A | AG15: =IFERROR(AE15*AF15,"") | AH15: =係数マスタ!$A$13 -> 10 | AJ15: =係数マスタ!$B$13 -> #N/A | AK15: =IFERROR(AI15*AJ15,"") | AL15: =係数マスタ!$A$13 -> 10 | AN15: =係数マスタ!$B$13 -> #N/A | AO15: =IFERROR(AM15*AN15,"") | AQ15: =係数マスタ!$A$13 -> 10 | AS15: =係数マスタ!$B$13 -> #N/A | AT15: =IFERROR(AR15*AS15,"") | AU15: =係数マスタ!$A$13 -> 10 | AW15: =係数マスタ!$B$13 -> #N/A | AX15: =IFERROR(AV15*AW15,"") | AY15: =係数マスタ!$A$13 -> 10 | BA15: =係数マスタ!$B$13 -> #N/A | BB15: =IFERROR(AZ15*BA15,"") | BC15: =係数マスタ!$A$13 -> 10 | BE15: =係数マスタ!$B$13 -> #N/A | BF15: =IFERROR(BD15*BE15,"") | BG15: =係数マスタ!$A$13 -> 10 | BI15: =係数マスタ!$B$13 -> #N/A | BJ15: =IFERROR(BH15*BI15,"") | BL15: =係数マスタ!$A$13 -> 10 | BN15: =係数マスタ!$B$13 -> #N/A | BO15: =IFERROR(BM15*BN15,"") | BP15: =係数マスタ!$A$13 -> 10 | BR15: =係数マスタ!$B$13 -> #N/A | BS15: =IFERROR(BQ15*BR15,"") | BT15: =係数マスタ!$A$13 -> 10 | BV15: =係数マスタ!$B$13 -> #N/A | BW15: =IFERROR(BU15*BV15,"") | BX15: =係数マスタ!$A$13 -> 10 | BZ15: =係数マスタ!$B$13 -> #N/A | CA15: =IFERROR(BY15*BZ15,"") | CB15: =係数マスタ!$A$13 -> 10 | CD15: =係数マスタ!$B$13 -> #N/A | CE15: =IFERROR(CC15*CD15,"") | CG15: =係数マスタ!$A$13 -> 10 | CI15: =係数マスタ!$B$13 -> #N/A | CJ15: =IFERROR(CH15*CI15,"") | CK15: =係数マスタ!$A$13 -> 10 | CM15: =係数マスタ!$B$13 -> #N/A | CN15: =IFERROR(CL15*CM15,"") | CO15: =係数マスタ!$A$13 -> 10 | CQ15: =係数マスタ!$B$13 -> #N/A | CR15: =IFERROR(CP15*CQ15,"") | CS15: =係数マスタ!$A$13 -> 10 | CU15: =係数マスタ!$B$13 -> #N/A | CV15: =IFERROR(CT15*CU15,"") | CW15: =係数マスタ!$A$13 -> 10 | CY15: =係数マスタ!$B$13 -> #N/A | CZ15: =IFERROR(CX15*CY15,"")
A16: =係数マスタ!$A$14 -> 11 | C16: =係数マスタ!$B$14 -> #N/A | D16: =IFERROR(B16*C16,"") | E16: =係数マスタ!$A$14 -> 11 | G16: =係数マスタ!$B$14 -> #N/A | H16: =IFERROR(F16*G16,"") | I16: =係数マスタ!$A$14 -> 11 | K16: =係数マスタ!$B$14 -> #N/A | L16: =IFERROR(J16*K16,"") | M16: =係数マスタ!$A$14 -> 11 | O16: =係数マスタ!$B$14 -> #N/A | P16: =IFERROR(N16*O16,"") | Q16: =係数マスタ!$A$14 -> 11 | S16: =係数マスタ!$B$14 -> #N/A | T16: =IFERROR(R16*S16,"") | V16: =係数マスタ!$A$14 -> 11 | X16: =係数マスタ!$B$14 -> #N/A | Y16: =IFERROR(W16*X16,"") | Z16: =係数マスタ!$A$14 -> 11 | AB16: =係数マスタ!$B$14 -> #N/A | AC16: =IFERROR(AA16*AB16,"") | AD16: =係数マスタ!$A$14 -> 11 | AF16: =係数マスタ!$B$14 -> #N/A | AG16: =IFERROR(AE16*AF16,"") | AH16: =係数マスタ!$A$14 -> 11 | AJ16: =係数マスタ!$B$14 -> #N/A | AK16: =IFERROR(AI16*AJ16,"") | AL16: =係数マスタ!$A$14 -> 11 | AN16: =係数マスタ!$B$14 -> #N/A | AO16: =IFERROR(AM16*AN16,"") | AQ16: =係数マスタ!$A$14 -> 11 | AS16: =係数マスタ!$B$14 -> #N/A | AT16: =IFERROR(AR16*AS16,"") | AU16: =係数マスタ!$A$14 -> 11 | AW16: =係数マスタ!$B$14 -> #N/A | AX16: =IFERROR(AV16*AW16,"") | AY16: =係数マスタ!$A$14 -> 11 | BA16: =係数マスタ!$B$14 -> #N/A | BB16: =IFERROR(AZ16*BA16,"") | BC16: =係数マスタ!$A$14 -> 11 | BE16: =係数マスタ!$B$14 -> #N/A | BF16: =IFERROR(BD16*BE16,"") | BG16: =係数マスタ!$A$14 -> 11 | BI16: =係数マスタ!$B$14 -> #N/A | BJ16: =IFERROR(BH16*BI16,"") | BL16: =係数マスタ!$A$14 -> 11 | BN16: =係数マスタ!$B$14 -> #N/A | BO16: =IFERROR(BM16*BN16,"") | BP16: =係数マスタ!$A$14 -> 11 | BR16: =係数マスタ!$B$14 -> #N/A | BS16: =IFERROR(BQ16*BR16,"") | BT16: =係数マスタ!$A$14 -> 11 | BV16: =係数マスタ!$B$14 -> #N/A | BW16: =IFERROR(BU16*BV16,"") | BX16: =係数マスタ!$A$14 -> 11 | BZ16: =係数マスタ!$B$14 -> #N/A | CA16: =IFERROR(BY16*BZ16,"") | CB16: =係数マスタ!$A$14 -> 11 | CD16: =係数マスタ!$B$14 -> #N/A | CE16: =IFERROR(CC16*CD16,"") | CG16: =係数マスタ!$A$14 -> 11 | CI16: =係数マスタ!$B$14 -> #N/A | CJ16: =IFERROR(CH16*CI16,"") | CK16: =係数マスタ!$A$14 -> 11 | CM16: =係数マスタ!$B$14 -> #N/A | CN16: =IFERROR(CL16*CM16,"") | CO16: =係数マスタ!$A$14 -> 11 | CQ16: =係数マスタ!$B$14 -> #N/A | CR16: =IFERROR(CP16*CQ16,"") | CS16: =係数マスタ!$A$14 -> 11 | CU16: =係数マスタ!$B$14 -> #N/A | CV16: =IFERROR(CT16*CU16,"") | CW16: =係数マスタ!$A$14 -> 11 | CY16: =係数マスタ!$B$14 -> #N/A | CZ16: =IFERROR(CX16*CY16,"")
A17: =係数マスタ!$A$15 -> 12 | C17: =係数マスタ!$B$15 -> #N/A | D17: =IFERROR(B17*C17,"") | E17: =係数マスタ!$A$15 -> 12 | G17: =係数マスタ!$B$15 -> #N/A | H17: =IFERROR(F17*G17,"") | I17: =係数マスタ!$A$15 -> 12 | K17: =係数マスタ!$B$15 -> #N/A | L17: =IFERROR(J17*K17,"") | M17: =係数マスタ!$A$15 -> 12 | O17: =係数マスタ!$B$15 -> #N/A | P17: =IFERROR(N17*O17,"") | Q17: =係数マスタ!$A$15 -> 12 | S17: =係数マスタ!$B$15 -> #N/A | T17: =IFERROR(R17*S17,"") | V17: =係数マスタ!$A$15 -> 12 | X17: =係数マスタ!$B$15 -> #N/A | Y17: =IFERROR(W17*X17,"") | Z17: =係数マスタ!$A$15 -> 12 | AB17: =係数マスタ!$B$15 -> #N/A | AC17: =IFERROR(AA17*AB17,"") | AD17: =係数マスタ!$A$15 -> 12 | AF17: =係数マスタ!$B$15 -> #N/A | AG17: =IFERROR(AE17*AF17,"") | AH17: =係数マスタ!$A$15 -> 12 | AJ17: =係数マスタ!$B$15 -> #N/A | AK17: =IFERROR(AI17*AJ17,"") | AL17: =係数マスタ!$A$15 -> 12 | AN17: =係数マスタ!$B$15 -> #N/A | AO17: =IFERROR(AM17*AN17,"") | AQ17: =係数マスタ!$A$15 -> 12 | AS17: =係数マスタ!$B$15 -> #N/A | AT17: =IFERROR(AR17*AS17,"") | AU17: =係数マスタ!$A$15 -> 12 | AW17: =係数マスタ!$B$15 -> #N/A | AX17: =IFERROR(AV17*AW17,"") | AY17: =係数マスタ!$A$15 -> 12 | BA17: =係数マスタ!$B$15 -> #N/A | BB17: =IFERROR(AZ17*BA17,"") | BC17: =係数マスタ!$A$15 -> 12 | BE17: =係数マスタ!$B$15 -> #N/A | BF17: =IFERROR(BD17*BE17,"") | BG17: =係数マスタ!$A$15 -> 12 | BI17: =係数マスタ!$B$15 -> #N/A | BJ17: =IFERROR(BH17*BI17,"") | BL17: =係数マスタ!$A$15 -> 12 | BN17: =係数マスタ!$B$15 -> #N/A | BO17: =IFERROR(BM17*BN17,"") | BP17: =係数マスタ!$A$15 -> 12 | BR17: =係数マスタ!$B$15 -> #N/A | BS17: =IFERROR(BQ17*BR17,"") | BT17: =係数マスタ!$A$15 -> 12 | BV17: =係数マスタ!$B$15 -> #N/A | BW17: =IFERROR(BU17*BV17,"") | BX17: =係数マスタ!$A$15 -> 12 | BZ17: =係数マスタ!$B$15 -> #N/A | CA17: =IFERROR(BY17*BZ17,"") | CB17: =係数マスタ!$A$15 -> 12 | CD17: =係数マスタ!$B$15 -> #N/A | CE17: =IFERROR(CC17*CD17,"") | CG17: =係数マスタ!$A$15 -> 12 | CI17: =係数マスタ!$B$15 -> #N/A | CJ17: =IFERROR(CH17*CI17,"") | CK17: =係数マスタ!$A$15 -> 12 | CM17: =係数マスタ!$B$15 -> #N/A | CN17: =IFERROR(CL17*CM17,"") | CO17: =係数マスタ!$A$15 -> 12 | CQ17: =係数マスタ!$B$15 -> #N/A | CR17: =IFERROR(CP17*CQ17,"") | CS17: =係数マスタ!$A$15 -> 12 | CU17: =係数マスタ!$B$15 -> #N/A | CV17: =IFERROR(CT17*CU17,"") | CW17: =係数マスタ!$A$15 -> 12 | CY17: =係数マスタ!$B$15 -> #N/A | CZ17: =IFERROR(CX17*CY17,"")
A18: =係数マスタ!$A$16 -> 13 | C18: =係数マスタ!$B$16 -> #N/A | D18: =IFERROR(B18*C18,"") | E18: =係数マスタ!$A$16 -> 13 | G18: =係数マスタ!$B$16 -> #N/A | H18: =IFERROR(F18*G18,"") | I18: =係数マスタ!$A$16 -> 13 | K18: =係数マスタ!$B$16 -> #N/A | L18: =IFERROR(J18*K18,"") | M18: =係数マスタ!$A$16 -> 13 | O18: =係数マスタ!$B$16 -> #N/A | P18: =IFERROR(N18*O18,"") | Q18: =係数マスタ!$A$16 -> 13 | S18: =係数マスタ!$B$16 -> #N/A | T18: =IFERROR(R18*S18,"") | V18: =係数マスタ!$A$16 -> 13 | X18: =係数マスタ!$B$16 -> #N/A | Y18: =IFERROR(W18*X18,"") | Z18: =係数マスタ!$A$16 -> 13 | AB18: =係数マスタ!$B$16 -> #N/A | AC18: =IFERROR(AA18*AB18,"") | AD18: =係数マスタ!$A$16 -> 13 | AF18: =係数マスタ!$B$16 -> #N/A | AG18: =IFERROR(AE18*AF18,"") | AH18: =係数マスタ!$A$16 -> 13 | AJ18: =係数マスタ!$B$16 -> #N/A | AK18: =IFERROR(AI18*AJ18,"") | AL18: =係数マスタ!$A$16 -> 13 | AN18: =係数マスタ!$B$16 -> #N/A | AO18: =IFERROR(AM18*AN18,"") | AQ18: =係数マスタ!$A$16 -> 13 | AS18: =係数マスタ!$B$16 -> #N/A | AT18: =IFERROR(AR18*AS18,"") | AU18: =係数マスタ!$A$16 -> 13 | AW18: =係数マスタ!$B$16 -> #N/A | AX18: =IFERROR(AV18*AW18,"") | AY18: =係数マスタ!$A$16 -> 13 | BA18: =係数マスタ!$B$16 -> #N/A | BB18: =IFERROR(AZ18*BA18,"") | BC18: =係数マスタ!$A$16 -> 13 | BE18: =係数マスタ!$B$16 -> #N/A | BF18: =IFERROR(BD18*BE18,"") | BG18: =係数マスタ!$A$16 -> 13 | BI18: =係数マスタ!$B$16 -> #N/A | BJ18: =IFERROR(BH18*BI18,"") | BL18: =係数マスタ!$A$16 -> 13 | BN18: =係数マスタ!$B$16 -> #N/A | BO18: =IFERROR(BM18*BN18,"") | BP18: =係数マスタ!$A$16 -> 13 | BR18: =係数マスタ!$B$16 -> #N/A | BS18: =IFERROR(BQ18*BR18,"") | BT18: =係数マスタ!$A$16 -> 13 | BV18: =係数マスタ!$B$16 -> #N/A | BW18: =IFERROR(BU18*BV18,"") | BX18: =係数マスタ!$A$16 -> 13 | BZ18: =係数マスタ!$B$16 -> #N/A | CA18: =IFERROR(BY18*BZ18,"") | CB18: =係数マスタ!$A$16 -> 13 | CD18: =係数マスタ!$B$16 -> #N/A | CE18: =IFERROR(CC18*CD18,"") | CG18: =係数マスタ!$A$16 -> 13 | CI18: =係数マスタ!$B$16 -> #N/A | CJ18: =IFERROR(CH18*CI18,"") | CK18: =係数マスタ!$A$16 -> 13 | CM18: =係数マスタ!$B$16 -> #N/A | CN18: =IFERROR(CL18*CM18,"") | CO18: =係数マスタ!$A$16 -> 13 | CQ18: =係数マスタ!$B$16 -> #N/A | CR18: =IFERROR(CP18*CQ18,"") | CS18: =係数マスタ!$A$16 -> 13 | CU18: =係数マスタ!$B$16 -> #N/A | CV18: =IFERROR(CT18*CU18,"") | CW18: =係数マスタ!$A$16 -> 13 | CY18: =係数マスタ!$B$16 -> #N/A | CZ18: =IFERROR(CX18*CY18,"")
A19: =係数マスタ!$A$17 -> 14 | C19: =係数マスタ!$B$17 -> #N/A | D19: =IFERROR(B19*C19,"") | E19: =係数マスタ!$A$17 -> 14 | G19: =係数マスタ!$B$17 -> #N/A | H19: =IFERROR(F19*G19,"") | I19: =係数マスタ!$A$17 -> 14 | K19: =係数マスタ!$B$17 -> #N/A | L19: =IFERROR(J19*K19,"") | M19: =係数マスタ!$A$17 -> 14 | O19: =係数マスタ!$B$17 -> #N/A | P19: =IFERROR(N19*O19,"") | Q19: =係数マスタ!$A$17 -> 14 | S19: =係数マスタ!$B$17 -> #N/A | T19: =IFERROR(R19*S19,"") | V19: =係数マスタ!$A$17 -> 14 | X19: =係数マスタ!$B$17 -> #N/A | Y19: =IFERROR(W19*X19,"") | Z19: =係数マスタ!$A$17 -> 14 | AB19: =係数マスタ!$B$17 -> #N/A | AC19: =IFERROR(AA19*AB19,"") | AD19: =係数マスタ!$A$17 -> 14 | AF19: =係数マスタ!$B$17 -> #N/A | AG19: =IFERROR(AE19*AF19,"") | AH19: =係数マスタ!$A$17 -> 14 | AJ19: =係数マスタ!$B$17 -> #N/A | AK19: =IFERROR(AI19*AJ19,"") | AL19: =係数マスタ!$A$17 -> 14 | AN19: =係数マスタ!$B$17 -> #N/A | AO19: =IFERROR(AM19*AN19,"") | AQ19: =係数マスタ!$A$17 -> 14 | AS19: =係数マスタ!$B$17 -> #N/A | AT19: =IFERROR(AR19*AS19,"") | AU19: =係数マスタ!$A$17 -> 14 | AW19: =係数マスタ!$B$17 -> #N/A | AX19: =IFERROR(AV19*AW19,"") | AY19: =係数マスタ!$A$17 -> 14 | BA19: =係数マスタ!$B$17 -> #N/A | BB19: =IFERROR(AZ19*BA19,"") | BC19: =係数マスタ!$A$17 -> 14 | BE19: =係数マスタ!$B$17 -> #N/A | BF19: =IFERROR(BD19*BE19,"") | BG19: =係数マスタ!$A$17 -> 14 | BI19: =係数マスタ!$B$17 -> #N/A | BJ19: =IFERROR(BH19*BI19,"") | BL19: =係数マスタ!$A$17 -> 14 | BN19: =係数マスタ!$B$17 -> #N/A | BO19: =IFERROR(BM19*BN19,"") | BP19: =係数マスタ!$A$17 -> 14 | BR19: =係数マスタ!$B$17 -> #N/A | BS19: =IFERROR(BQ19*BR19,"") | BT19: =係数マスタ!$A$17 -> 14 | BV19: =係数マスタ!$B$17 -> #N/A | BW19: =IFERROR(BU19*BV19,"") | BX19: =係数マスタ!$A$17 -> 14 | BZ19: =係数マスタ!$B$17 -> #N/A | CA19: =IFERROR(BY19*BZ19,"") | CB19: =係数マスタ!$A$17 -> 14 | CD19: =係数マスタ!$B$17 -> #N/A | CE19: =IFERROR(CC19*CD19,"") | CG19: =係数マスタ!$A$17 -> 14 | CI19: =係数マスタ!$B$17 -> #N/A | CJ19: =IFERROR(CH19*CI19,"") | CK19: =係数マスタ!$A$17 -> 14 | CM19: =係数マスタ!$B$17 -> #N/A | CN19: =IFERROR(CL19*CM19,"") | CO19: =係数マスタ!$A$17 -> 14 | CQ19: =係数マスタ!$B$17 -> #N/A | CR19: =IFERROR(CP19*CQ19,"") | CS19: =係数マスタ!$A$17 -> 14 | CU19: =係数マスタ!$B$17 -> #N/A | CV19: =IFERROR(CT19*CU19,"") | CW19: =係数マスタ!$A$17 -> 14 | CY19: =係数マスタ!$B$17 -> #N/A | CZ19: =IFERROR(CX19*CY19,"")
A20: =係数マスタ!$A$18 -> 15 | C20: =係数マスタ!$B$18 -> #N/A | D20: =IFERROR(B20*C20,"") | E20: =係数マスタ!$A$18 -> 15 | G20: =係数マスタ!$B$18 -> #N/A | H20: =IFERROR(F20*G20,"") | I20: =係数マスタ!$A$18 -> 15 | K20: =係数マスタ!$B$18 -> #N/A | L20: =IFERROR(J20*K20,"") | M20: =係数マスタ!$A$18 -> 15 | O20: =係数マスタ!$B$18 -> #N/A | P20: =IFERROR(N20*O20,"") | Q20: =係数マスタ!$A$18 -> 15 | S20: =係数マスタ!$B$18 -> #N/A | T20: =IFERROR(R20*S20,"") | V20: =係数マスタ!$A$18 -> 15 | X20: =係数マスタ!$B$18 -> #N/A | Y20: =IFERROR(W20*X20,"") | Z20: =係数マスタ!$A$18 -> 15 | AB20: =係数マスタ!$B$18 -> #N/A | AC20: =IFERROR(AA20*AB20,"") | AD20: =係数マスタ!$A$18 -> 15 | AF20: =係数マスタ!$B$18 -> #N/A | AG20: =IFERROR(AE20*AF20,"") | AH20: =係数マスタ!$A$18 -> 15 | AJ20: =係数マスタ!$B$18 -> #N/A | AK20: =IFERROR(AI20*AJ20,"") | AL20: =係数マスタ!$A$18 -> 15 | AN20: =係数マスタ!$B$18 -> #N/A | AO20: =IFERROR(AM20*AN20,"") | AQ20: =係数マスタ!$A$18 -> 15 | AS20: =係数マスタ!$B$18 -> #N/A | AT20: =IFERROR(AR20*AS20,"") | AU20: =係数マスタ!$A$18 -> 15 | AW20: =係数マスタ!$B$18 -> #N/A | AX20: =IFERROR(AV20*AW20,"") | AY20: =係数マスタ!$A$18 -> 15 | BA20: =係数マスタ!$B$18 -> #N/A | BB20: =IFERROR(AZ20*BA20,"") | BC20: =係数マスタ!$A$18 -> 15 | BE20: =係数マスタ!$B$18 -> #N/A | BF20: =IFERROR(BD20*BE20,"") | BG20: =係数マスタ!$A$18 -> 15 | BI20: =係数マスタ!$B$18 -> #N/A | BJ20: =IFERROR(BH20*BI20,"") | BL20: =係数マスタ!$A$18 -> 15 | BN20: =係数マスタ!$B$18 -> #N/A | BO20: =IFERROR(BM20*BN20,"") | BP20: =係数マスタ!$A$18 -> 15 | BR20: =係数マスタ!$B$18 -> #N/A | BS20: =IFERROR(BQ20*BR20,"") | BT20: =係数マスタ!$A$18 -> 15 | BV20: =係数マスタ!$B$18 -> #N/A | BW20: =IFERROR(BU20*BV20,"") | BX20: =係数マスタ!$A$18 -> 15 | BZ20: =係数マスタ!$B$18 -> #N/A | CA20: =IFERROR(BY20*BZ20,"") | CB20: =係数マスタ!$A$18 -> 15 | CD20: =係数マスタ!$B$18 -> #N/A | CE20: =IFERROR(CC20*CD20,"") | CG20: =係数マスタ!$A$18 -> 15 | CI20: =係数マスタ!$B$18 -> #N/A | CJ20: =IFERROR(CH20*CI20,"") | CK20: =係数マスタ!$A$18 -> 15 | CM20: =係数マスタ!$B$18 -> #N/A | CN20: =IFERROR(CL20*CM20,"") | CO20: =係数マスタ!$A$18 -> 15 | CQ20: =係数マスタ!$B$18 -> #N/A | CR20: =IFERROR(CP20*CQ20,"") | CS20: =係数マスタ!$A$18 -> 15 | CU20: =係数マスタ!$B$18 -> #N/A | CV20: =IFERROR(CT20*CU20,"") | CW20: =係数マスタ!$A$18 -> 15 | CY20: =係数マスタ!$B$18 -> #N/A | CZ20: =IFERROR(CX20*CY20,"")
A21: =係数マスタ!$A$19 | C21: =係数マスタ!$B$19 -> #VALUE! | D21: =IFERROR(B21*C21,"") | E21: =係数マスタ!$A$19 | G21: =係数マスタ!$B$19 -> #VALUE! | H21: =IFERROR(F21*G21,"") | I21: =係数マスタ!$A$19 | K21: =係数マスタ!$B$19 -> #VALUE! | L21: =IFERROR(J21*K21,"") | M21: =係数マスタ!$A$19 | O21: =係数マスタ!$B$19 -> #VALUE! | P21: =IFERROR(N21*O21,"") | Q21: =係数マスタ!$A$19 | S21: =係数マスタ!$B$19 -> #VALUE! | T21: =IFERROR(R21*S21,"") | V21: =係数マスタ!$A$19 | X21: =係数マスタ!$B$19 -> #VALUE! | Y21: =IFERROR(W21*X21,"") | Z21: =係数マスタ!$A$19 | AB21: =係数マスタ!$B$19 -> #VALUE! | AC21: =IFERROR(AA21*AB21,"") | AD21: =係数マスタ!$A$19 | AF21: =係数マスタ!$B$19 -> #VALUE! | AG21: =IFERROR(AE21*AF21,"") | AH21: =係数マスタ!$A$19 | AJ21: =係数マスタ!$B$19 -> #VALUE! | AK21: =IFERROR(AI21*AJ21,"") | AL21: =係数マスタ!$A$19 | AN21: =係数マスタ!$B$19 -> #VALUE! | AO21: =IFERROR(AM21*AN21,"") | AQ21: =係数マスタ!$A$19 | AS21: =係数マスタ!$B$19 -> #VALUE! | AT21: =IFERROR(AR21*AS21,"") | AU21: =係数マスタ!$A$19 | AW21: =係数マスタ!$B$19 -> #VALUE! | AX21: =IFERROR(AV21*AW21,"") | AY21: =係数マスタ!$A$19 | BA21: =係数マスタ!$B$19 -> #VALUE! | BB21: =IFERROR(AZ21*BA21,"") | BC21: =係数マスタ!$A$19 | BE21: =係数マスタ!$B$19 -> #VALUE! | BF21: =IFERROR(BD21*BE21,"") | BG21: =係数マスタ!$A$19 | BI21: =係数マスタ!$B$19 -> #VALUE! | BJ21: =IFERROR(BH21*BI21,"") | BL21: =係数マスタ!$A$19 | BN21: =係数マスタ!$B$19 -> #VALUE! | BO21: =IFERROR(BM21*BN21,"") | BP21: =係数マスタ!$A$19 | BR21: =係数マスタ!$B$19 -> #VALUE! | BS21: =IFERROR(BQ21*BR21,"") | BT21: =係数マスタ!$A$19 | BV21: =係数マスタ!$B$19 -> #VALUE! | BW21: =IFERROR(BU21*BV21,"") | BX21: =係数マスタ!$A$19 | BZ21: =係数マスタ!$B$19 -> #VALUE! | CA21: =IFERROR(BY21*BZ21,"") | CB21: =係数マスタ!$A$19 | CD21: =係数マスタ!$B$19 -> #VALUE! | CE21: =IFERROR(CC21*CD21,"") | CG21: =係数マスタ!$A$19 | CI21: =係数マスタ!$B$19 -> #VALUE! | CJ21: =IFERROR(CH21*CI21,"") | CK21: =係数マスタ!$A$19 | CM21: =係数マスタ!$B$19 -> #VALUE! | CN21: =IFERROR(CL21*CM21,"") | CO21: =係数マスタ!$A$19 | CQ21: =係数マスタ!$B$19 -> #VALUE! | CR21: =IFERROR(CP21*CQ21,"") | CS21: =係数マスタ!$A$19 | CU21: =係数マスタ!$B$19 -> #VALUE! | CV21: =IFERROR(CT21*CU21,"") | CW21: =係数マスタ!$A$19 | CY21: =係数マスタ!$B$19 -> #VALUE! | CZ21: =IFERROR(CX21*CY21,"")
A22: 技術性の得点 | D22: =SUM(D6:D21) -> 0 | E22: 技術性の得点 | H22: =SUM(H6:H21) -> 0 | I22: 技術性の得点 | L22: =SUM(L6:L21) -> 0 | M22: 技術性の得点 | P22: =SUM(P6:P21) -> 0 | Q22: 技術性の得点 | T22: =SUM(T6:T21) -> 0 | V22: 技術性の得点 | Y22: =SUM(Y6:Y21) -> 0 | Z22: 技術性の得点 | AC22: =SUM(AC6:AC21) -> 0 | AD22: 技術性の得点 | AG22: =SUM(AG6:AG21) -> 0 | AH22: 技術性の得点 | AK22: =SUM(AK6:AK21) -> 0 | AL22: 技術性の得点 | AO22: =SUM(AO6:AO21) -> 0 | AQ22: 技術性の得点 | AT22: =SUM(AT6:AT21) -> 0 | AU22: 技術性の得点 | AX22: =SUM(AX6:AX21) -> 0 | AY22: 技術性の得点 | BB22: =SUM(BB6:BB21) -> 0 | BC22: 技術性の得点 | BF22: =SUM(BF6:BF21) -> 0 | BG22: 技術性の得点 | BJ22: =SUM(BJ6:BJ21) -> 0 | BL22: 技術性の得点 | BO22: =SUM(BO6:BO21) -> 0 | BP22: 技術性の得点 | BS22: =SUM(BS6:BS21) -> 0 | BT22: 技術性の得点 | BW22: =SUM(BW6:BW21) -> 0 | BX22: 技術性の得点 | CA22: =SUM(CA6:CA21) -> 0 | CB22: 技術性の得点 | CE22: =SUM(CE6:CE21) -> 0 | CG22: 技術性の得点 | CJ22: =SUM(CJ6:CJ21) -> 0 | CK22: 技術性の得点 | CN22: =SUM(CN6:CN21) -> 0 | CO22: 技術性の得点 | CR22: =SUM(CR6:CR21) -> 0 | CS22: 技術性の得点 | CV22: =SUM(CV6:CV21) -> 0 | CW22: 技術性の得点 | CZ22: =SUM(CZ6:CZ21) -> 0
A24: =係数マスタ!$A$20 -> 16 | C24: =係数マスタ!$B$20 -> #N/A | D24: =B24*C24 -> #N/A | E24: =係数マスタ!$A$20 -> 16 | G24: =係数マスタ!$B$20 -> #N/A | H24: =F24*G24 -> #N/A | I24: =係数マスタ!$A$20 -> 16 | K24: =係数マスタ!$B$20 -> #N/A | L24: =J24*K24 -> #N/A | M24: =係数マスタ!$A$20 -> 16 | O24: =係数マスタ!$B$20 -> #N/A | P24: =N24*O24 -> #N/A | Q24: =係数マスタ!$A$20 -> 16 | S24: =係数マスタ!$B$20 -> #N/A | T24: =R24*S24 -> #N/A | V24: =係数マスタ!$A$20 -> 16 | X24: =係数マスタ!$B$20 -> #N/A | Y24: =W24*X24 -> #N/A | Z24: =係数マスタ!$A$20 -> 16 | AB24: =係数マスタ!$B$20 -> #N/A | AC24: =AA24*AB24 -> #N/A | AD24: =係数マスタ!$A$20 -> 16 | AF24: =係数マスタ!$B$20 -> #N/A | AG24: =AE24*AF24 -> #N/A | AH24: =係数マスタ!$A$20 -> 16 | AJ24: =係数マスタ!$B$20 -> #N/A | AK24: =AI24*AJ24 -> #N/A | AL24: =係数マスタ!$A$20 -> 16 | AN24: =係数マスタ!$B$20 -> #N/A | AO24: =AM24*AN24 -> #N/A | AQ24: =係数マスタ!$A$20 -> 16 | AS24: =係数マスタ!$B$20 -> #N/A | AT24: =AR24*AS24 -> #N/A | AU24: =係数マスタ!$A$20 -> 16 | AW24: =係数マスタ!$B$20 -> #N/A | AX24: =AV24*AW24 -> #N/A | AY24: =係数マスタ!$A$20 -> 16 | BA24: =係数マスタ!$B$20 -> #N/A | BB24: =AZ24*BA24 -> #N/A | BC24: =係数マスタ!$A$20 -> 16 | BE24: =係数マスタ!$B$20 -> #N/A | BF24: =BD24*BE24 -> #N/A | BG24: =係数マスタ!$A$20 -> 16 | BI24: =係数マスタ!$B$20 -> #N/A | BJ24: =BH24*BI24 -> #N/A | BL24: =係数マスタ!$A$20 -> 16 | BN24: =係数マスタ!$B$20 -> #N/A | BO24: =BM24*BN24 -> #N/A | BP24: =係数マスタ!$A$20 -> 16 | BR24: =係数マスタ!$B$20 -> #N/A | BS24: =BQ24*BR24 -> #N/A | BT24: =係数マスタ!$A$20 -> 16 | BV24: =係数マスタ!$B$20 -> #N/A | BW24: =BU24*BV24 -> #N/A | BX24: =係数マスタ!$A$20 -> 16 | BZ24: =係数マスタ!$B$20 -> #N/A | CA24: =BY24*BZ24 -> #N/A | CB24: =係数マスタ!$A$20 -> 16 | CD24: =係数マスタ!$B$20 -> #N/A | CE24: =CC24*CD24 -> #N/A | CG24: =係数マスタ!$A$20 -> 16 | CI24: =係数マスタ!$B$20 -> #N/A | CJ24: =CH24*CI24 -> #N/A | CK24: =係数マスタ!$A$20 -> 16 | CM24: =係数マスタ!$B$20 -> #N/A | CN24: =CL24*CM24 -> #N/A | CO24: =係数マスタ!$A$20 -> 16 | CQ24: =係数マスタ!$B$20 -> #N/A | CR24: =CP24*CQ24 -> #N/A | CS24: =係数マスタ!$A$20 -> 16 | CU24: =係数マスタ!$B$20 -> #N/A | CV24: =CT24*CU24 -> #N/A | CW24: =係数マスタ!$A$20 -> 16 | CY24: =係数マスタ!$B$20 -> #N/A | CZ24: =CX24*CY24 -> #N/A
A25: =係数マスタ!$A$21 -> 17 | C25: =係数マスタ!$B$21 -> #N/A | D25: =B25*C25 -> #N/A | E25: =係数マスタ!$A$21 -> 17 | G25: =係数マスタ!$B$21 -> #N/A | H25: =F25*G25 -> #N/A | I25: =係数マスタ!$A$21 -> 17 | K25: =係数マスタ!$B$21 -> #N/A | L25: =J25*K25 -> #N/A | M25: =係数マスタ!$A$21 -> 17 | O25: =係数マスタ!$B$21 -> #N/A | P25: =N25*O25 -> #N/A | Q25: =係数マスタ!$A$21 -> 17 | S25: =係数マスタ!$B$21 -> #N/A | T25: =R25*S25 -> #N/A | V25: =係数マスタ!$A$21 -> 17 | X25: =係数マスタ!$B$21 -> #N/A | Y25: =W25*X25 -> #N/A | Z25: =係数マスタ!$A$21 -> 17 | AB25: =係数マスタ!$B$21 -> #N/A | AC25: =AA25*AB25 -> #N/A | AD25: =係数マスタ!$A$21 -> 17 | AF25: =係数マスタ!$B$21 -> #N/A | AG25: =AE25*AF25 -> #N/A | AH25: =係数マスタ!$A$21 -> 17 | AJ25: =係数マスタ!$B$21 -> #N/A | AK25: =AI25*AJ25 -> #N/A | AL25: =係数マスタ!$A$21 -> 17 | AN25: =係数マスタ!$B$21 -> #N/A | AO25: =AM25*AN25 -> #N/A | AQ25: =係数マスタ!$A$21 -> 17 | AS25: =係数マスタ!$B$21 -> #N/A | AT25: =AR25*AS25 -> #N/A | AU25: =係数マスタ!$A$21 -> 17 | AW25: =係数マスタ!$B$21 -> #N/A | AX25: =AV25*AW25 -> #N/A | AY25: =係数マスタ!$A$21 -> 17 | BA25: =係数マスタ!$B$21 -> #N/A | BB25: =AZ25*BA25 -> #N/A | BC25: =係数マスタ!$A$21 -> 17 | BE25: =係数マスタ!$B$21 -> #N/A | BF25: =BD25*BE25 -> #N/A | BG25: =係数マスタ!$A$21 -> 17 | BI25: =係数マスタ!$B$21 -> #N/A | BJ25: =BH25*BI25 -> #N/A | BL25: =係数マスタ!$A$21 -> 17 | BN25: =係数マスタ!$B$21 -> #N/A | BO25: =BM25*BN25 -> #N/A | BP25: =係数マスタ!$A$21 -> 17 | BR25: =係数マスタ!$B$21 -> #N/A | BS25: =BQ25*BR25 -> #N/A | BT25: =係数マスタ!$A$21 -> 17 | BV25: =係数マスタ!$B$21 -> #N/A | BW25: =BU25*BV25 -> #N/A | BX25: =係数マスタ!$A$21 -> 17 | BZ25: =係数マスタ!$B$21 -> #N/A | CA25: =BY25*BZ25 -> #N/A | CB25: =係数マスタ!$A$21 -> 17 | CD25: =係数マスタ!$B$21 -> #N/A | CE25: =CC25*CD25 -> #N/A | CG25: =係数マスタ!$A$21 -> 17 | CI25: =係数マスタ!$B$21 -> #N/A | CJ25: =CH25*CI25 -> #N/A | CK25: =係数マスタ!$A$21 -> 17 | CM25: =係数マスタ!$B$21 -> #N/A | CN25: =CL25*CM25 -> #N/A | CO25: =係数マスタ!$A$21 -> 17 | CQ25: =係数マスタ!$B$21 -> #N/A | CR25: =CP25*CQ25 -> #N/A | CS25: =係数マスタ!$A$21 -> 17 | CU25: =係数マスタ!$B$21 -> #N/A | CV25: =CT25*CU25 -> #N/A | CW25: =係数マスタ!$A$21 -> 17 | CY25: =係数マスタ!$B$21 -> #N/A | CZ25: =CX25*CY25 -> #N/A
A26: =係数マスタ!$A$22 -> 18 | C26: =係数マスタ!$B$22 -> #N/A | D26: =B26*C26 -> #N/A | E26: =係数マスタ!$A$22 -> 18 | G26: =係数マスタ!$B$22 -> #N/A | H26: =F26*G26 -> #N/A | I26: =係数マスタ!$A$22 -> 18 | K26: =係数マスタ!$B$22 -> #N/A | L26: =J26*K26 -> #N/A | M26: =係数マスタ!$A$22 -> 18 | O26: =係数マスタ!$B$22 -> #N/A | P26: =N26*O26 -> #N/A | Q26: =係数マスタ!$A$22 -> 18 | S26: =係数マスタ!$B$22 -> #N/A | T26: =R26*S26 -> #N/A | V26: =係数マスタ!$A$22 -> 18 | X26: =係数マスタ!$B$22 -> #N/A | Y26: =W26*X26 -> #N/A | Z26: =係数マスタ!$A$22 -> 18 | AB26: =係数マスタ!$B$22 -> #N/A | AC26: =AA26*AB26 -> #N/A | AD26: =係数マスタ!$A$22 -> 18 | AF26: =係数マスタ!$B$22 -> #N/A | AG26: =AE26*AF26 -> #N/A | AH26: =係数マスタ!$A$22 -> 18 | AJ26: =係数マスタ!$B$22 -> #N/A | AK26: =AI26*AJ26 -> #N/A | AL26: =係数マスタ!$A$22 -> 18 | AN26: =係数マスタ!$B$22 -> #N/A | AO26: =AM26*AN26 -> #N/A | AQ26: =係数マスタ!$A$22 -> 18 | AS26: =係数マスタ!$B$22 -> #N/A | AT26: =AR26*AS26 -> #N/A | AU26: =係数マスタ!$A$22 -> 18 | AW26: =係数マスタ!$B$22 -> #N/A | AX26: =AV26*AW26 -> #N/A | AY26: =係数マスタ!$A$22 -> 18 | BA26: =係数マスタ!$B$22 -> #N/A | BB26: =AZ26*BA26 -> #N/A | BC26: =係数マスタ!$A$22 -> 18 | BE26: =係数マスタ!$B$22 -> #N/A | BF26: =BD26*BE26 -> #N/A | BG26: =係数マスタ!$A$22 -> 18 | BI26: =係数マスタ!$B$22 -> #N/A | BJ26: =BH26*BI26 -> #N/A | BL26: =係数マスタ!$A$22 -> 18 | BN26: =係数マスタ!$B$22 -> #N/A | BO26: =BM26*BN26 -> #N/A | BP26: =係数マスタ!$A$22 -> 18 | BR26: =係数マスタ!$B$22 -> #N/A | BS26: =BQ26*BR26 -> #N/A | BT26: =係数マスタ!$A$22 -> 18 | BV26: =係数マスタ!$B$22 -> #N/A | BW26: =BU26*BV26 -> #N/A | BX26: =係数マスタ!$A$22 -> 18 | BZ26: =係数マスタ!$B$22 -> #N/A | CA26: =BY26*BZ26 -> #N/A | CB26: =係数マスタ!$A$22 -> 18 | CD26: =係数マスタ!$B$22 -> #N/A | CE26: =CC26*CD26 -> #N/A | CG26: =係数マスタ!$A$22 -> 18 | CI26: =係数マスタ!$B$22 -> #N/A | CJ26: =CH26*CI26 -> #N/A | CK26: =係数マスタ!$A$22 -> 18 | CM26: =係数マスタ!$B$22 -> #N/A | CN26: =CL26*CM26 -> #N/A | CO26: =係数マスタ!$A$22 -> 18 | CQ26: =係数マスタ!$B$22 -> #N/A | CR26: =CP26*CQ26 -> #N/A | CS26: =係数マスタ!$A$22 -> 18 | CU26: =係数マスタ!$B$22 -> #N/A | CV26: =CT26*CU26 -> #N/A | CW26: =係数マスタ!$A$22 -> 18 | CY26: =係数マスタ!$B$22 -> #N/A | CZ26: =CX26*CY26 -> #N/A
A27: =係数マスタ!$A$23 -> 19 | C27: =係数マスタ!$B$23 -> #N/A | D27: =B27*C27 -> #N/A | E27: =係数マスタ!$A$23 -> 19 | G27: =係数マスタ!$B$23 -> #N/A | H27: =F27*G27 -> #N/A | I27: =係数マスタ!$A$23 -> 19 | K27: =係数マスタ!$B$23 -> #N/A | L27: =J27*K27 -> #N/A | M27: =係数マスタ!$A$23 -> 19 | O27: =係数マスタ!$B$23 -> #N/A | P27: =N27*O27 -> #N/A | Q27: =係数マスタ!$A$23 -> 19 | S27: =係数マスタ!$B$23 -> #N/A | T27: =R27*S27 -> #N/A | V27: =係数マスタ!$A$23 -> 19 | X27: =係数マスタ!$B$23 -> #N/A | Y27: =W27*X27 -> #N/A | Z27: =係数マスタ!$A$23 -> 19 | AB27: =係数マスタ!$B$23 -> #N/A | AC27: =AA27*AB27 -> #N/A | AD27: =係数マスタ!$A$23 -> 19 | AF27: =係数マスタ!$B$23 -> #N/A | AG27: =AE27*AF27 -> #N/A | AH27: =係数マスタ!$A$23 -> 19 | AJ27: =係数マスタ!$B$23 -> #N/A | AK27: =AI27*AJ27 -> #N/A | AL27: =係数マスタ!$A$23 -> 19 | AN27: =係数マスタ!$B$23 -> #N/A | AO27: =AM27*AN27 -> #N/A | AQ27: =係数マスタ!$A$23 -> 19 | AS27: =係数マスタ!$B$23 -> #N/A | AT27: =AR27*AS27 -> #N/A | AU27: =係数マスタ!$A$23 -> 19 | AW27: =係数マスタ!$B$23 -> #N/A | AX27: =AV27*AW27 -> #N/A | AY27: =係数マスタ!$A$23 -> 19 | BA27: =係数マスタ!$B$23 -> #N/A | BB27: =AZ27*BA27 -> #N/A | BC27: =係数マスタ!$A$23 -> 19 | BE27: =係数マスタ!$B$23 -> #N/A | BF27: =BD27*BE27 -> #N/A | BG27: =係数マスタ!$A$23 -> 19 | BI27: =係数マスタ!$B$23 -> #N/A | BJ27: =BH27*BI27 -> #N/A | BL27: =係数マスタ!$A$23 -> 19 | BN27: =係数マスタ!$B$23 -> #N/A | BO27: =BM27*BN27 -> #N/A | BP27: =係数マスタ!$A$23 -> 19 | BR27: =係数マスタ!$B$23 -> #N/A | BS27: =BQ27*BR27 -> #N/A | BT27: =係数マスタ!$A$23 -> 19 | BV27: =係数マスタ!$B$23 -> #N/A | BW27: =BU27*BV27 -> #N/A | BX27: =係数マスタ!$A$23 -> 19 | BZ27: =係数マスタ!$B$23 -> #N/A | CA27: =BY27*BZ27 -> #N/A | CB27: =係数マスタ!$A$23 -> 19 | CD27: =係数マスタ!$B$23 -> #N/A | CE27: =CC27*CD27 -> #N/A | CG27: =係数マスタ!$A$23 -> 19 | CI27: =係数マスタ!$B$23 -> #N/A | CJ27: =CH27*CI27 -> #N/A | CK27: =係数マスタ!$A$23 -> 19 | CM27: =係数マスタ!$B$23 -> #N/A | CN27: =CL27*CM27 -> #N/A | CO27: =係数マスタ!$A$23 -> 19 | CQ27: =係数マスタ!$B$23 -> #N/A | CR27: =CP27*CQ27 -> #N/A | CS27: =係数マスタ!$A$23 -> 19 | CU27: =係数マスタ!$B$23 -> #N/A | CV27: =CT27*CU27 -> #N/A | CW27: =係数マスタ!$A$23 -> 19 | CY27: =係数マスタ!$B$23 -> #N/A | CZ27: =CX27*CY27 -> #N/A
A28: =係数マスタ!$A$24 -> 20 | C28: =係数マスタ!$B$24 -> #N/A | D28: =B28*C28 -> #N/A | E28: =係数マスタ!$A$24 -> 20 | G28: =係数マスタ!$B$24 -> #N/A | H28: =F28*G28 -> #N/A | I28: =係数マスタ!$A$24 -> 20 | K28: =係数マスタ!$B$24 -> #N/A | L28: =J28*K28 -> #N/A | M28: =係数マスタ!$A$24 -> 20 | O28: =係数マスタ!$B$24 -> #N/A | P28: =N28*O28 -> #N/A | Q28: =係数マスタ!$A$24 -> 20 | S28: =係数マスタ!$B$24 -> #N/A | T28: =R28*S28 -> #N/A | V28: =係数マスタ!$A$24 -> 20 | X28: =係数マスタ!$B$24 -> #N/A | Y28: =W28*X28 -> #N/A | Z28: =係数マスタ!$A$24 -> 20 | AB28: =係数マスタ!$B$24 -> #N/A | AC28: =AA28*AB28 -> #N/A | AD28: =係数マスタ!$A$24 -> 20 | AF28: =係数マスタ!$B$24 -> #N/A | AG28: =AE28*AF28 -> #N/A | AH28: =係数マスタ!$A$24 -> 20 | AJ28: =係数マスタ!$B$24 -> #N/A | AK28: =AI28*AJ28 -> #N/A | AL28: =係数マスタ!$A$24 -> 20 | AN28: =係数マスタ!$B$24 -> #N/A | AO28: =AM28*AN28 -> #N/A | AQ28: =係数マスタ!$A$24 -> 20 | AS28: =係数マスタ!$B$24 -> #N/A | AT28: =AR28*AS28 -> #N/A | AU28: =係数マスタ!$A$24 -> 20 | AW28: =係数マスタ!$B$24 -> #N/A | AX28: =AV28*AW28 -> #N/A | AY28: =係数マスタ!$A$24 -> 20 | BA28: =係数マスタ!$B$24 -> #N/A | BB28: =AZ28*BA28 -> #N/A | BC28: =係数マスタ!$A$24 -> 20 | BE28: =係数マスタ!$B$24 -> #N/A | BF28: =BD28*BE28 -> #N/A | BG28: =係数マスタ!$A$24 -> 20 | BI28: =係数マスタ!$B$24 -> #N/A | BJ28: =BH28*BI28 -> #N/A | BL28: =係数マスタ!$A$24 -> 20 | BN28: =係数マスタ!$B$24 -> #N/A | BO28: =BM28*BN28 -> #N/A | BP28: =係数マスタ!$A$24 -> 20 | BR28: =係数マスタ!$B$24 -> #N/A | BS28: =BQ28*BR28 -> #N/A | BT28: =係数マスタ!$A$24 -> 20 | BV28: =係数マスタ!$B$24 -> #N/A | BW28: =BU28*BV28 -> #N/A | BX28: =係数マスタ!$A$24 -> 20 | BZ28: =係数マスタ!$B$24 -> #N/A | CA28: =BY28*BZ28 -> #N/A | CB28: =係数マスタ!$A$24 -> 20 | CD28: =係数マスタ!$B$24 -> #N/A | CE28: =CC28*CD28 -> #N/A | CG28: =係数マスタ!$A$24 -> 20 | CI28: =係数マスタ!$B$24 -> #N/A | CJ28: =CH28*CI28 -> #N/A | CK28: =係数マスタ!$A$24 -> 20 | CM28: =係数マスタ!$B$24 -> #N/A | CN28: =CL28*CM28 -> #N/A | CO28: =係数マスタ!$A$24 -> 20 | CQ28: =係数マスタ!$B$24 -> #N/A | CR28: =CP28*CQ28 -> #N/A | CS28: =係数マスタ!$A$24 -> 20 | CU28: =係数マスタ!$B$24 -> #N/A | CV28: =CT28*CU28 -> #N/A | CW28: =係数マスタ!$A$24 -> 20 | CY28: =係数マスタ!$B$24 -> #N/A | CZ28: =CX28*CY28 -> #N/A
A29: 芸術性の得点 | D29: =SUM(D24:D28) -> #N/A | E29: 芸術性の得点 | H29: =SUM(H24:H28) -> #N/A | I29: 芸術性の得点 | L29: =SUM(L24:L28) -> #N/A | M29: 芸術性の得点 | P29: =SUM(P24:P28) -> #N/A | Q29: 芸術性の得点 | T29: =SUM(T24:T28) -> #N/A | V29: 芸術性の得点 | Y29: =SUM(Y24:Y28) -> #N/A | Z29: 芸術性の得点 | AC29: =SUM(AC24:AC28) -> #N/A | AD29: 芸術性の得点 | AG29: =SUM(AG24:AG28) -> #N/A | AH29: 芸術性の得点 | AK29: =SUM(AK24:AK28) -> #N/A | AL29: 芸術性の得点 | AO29: =SUM(AO24:AO28) -> #N/A | AQ29: 芸術性の得点 | AT29: =SUM(AT24:AT28) -> #N/A | AU29: 芸術性の得点 | AX29: =SUM(AX24:AX28) -> #N/A | AY29: 芸術性の得点 | BB29: =SUM(BB24:BB28) -> #N/A | BC29: 芸術性の得点 | BF29: =SUM(BF24:BF28) -> #N/A | BG29: 芸術性の得点 | BJ29: =SUM(BJ24:BJ28) -> #N/A | BL29: 芸術性の得点 | BO29: =SUM(BO24:BO28) -> #N/A | BP29: 芸術性の得点 | BS29: =SUM(BS24:BS28) -> #N/A | BT29: 芸術性の得点 | BW29: =SUM(BW24:BW28) -> #N/A | BX29: 芸術性の得点 | CA29: =SUM(CA24:CA28) -> #N/A | CB29: 芸術性の得点 | CE29: =SUM(CE24:CE28) -> #N/A | CG29: 芸術性の得点 | CJ29: =SUM(CJ24:CJ28) -> #N/A | CK29: 芸術性の得点 | CN29: =SUM(CN24:CN28) -> #N/A | CO29: 芸術性の得点 | CR29: =SUM(CR24:CR28) -> #N/A | CS29: 芸術性の得点 | CV29: =SUM(CV24:CV28) -> #N/A | CW29: 芸術性の得点 | CZ29: =SUM(CZ24:CZ28) -> #N/A
A31: 技術性の得点 | D31: =D22 -> 0 | E31: 技術性の得点 | H31: =H22 -> 0 | I31: 技術性の得点 | L31: =L22 -> 0 | M31: 技術性の得点 | P31: =P22 -> 0 | Q31: 技術性の得点 | T31: =T22 -> 0 | V31: 技術性の得点 | Y31: =Y22 -> 0 | Z31: 技術性の得点 | AC31: =AC22 -> 0 | AD31: 技術性の得点 | AG31: =AG22 -> 0 | AH31: 技術性の得点 | AK31: =AK22 -> 0 | AL31: 技術性の得点 | AO31: =AO22 -> 0 | AQ31: 技術性の得点 | AT31: =AT22 -> 0 | AU31: 技術性の得点 | AX31: =AX22 -> 0 | AY31: 技術性の得点 | BB31: =BB22 -> 0 | BC31: 技術性の得点 | BF31: =BF22 -> 0 | BG31: 技術性の得点 | BJ31: =BJ22 -> 0 | BL31: 技術性の得点 | BO31: =BO22 -> 0 | BP31: 技術性の得点 | BS31: =BS22 -> 0 | BT31: 技術性の得点 | BW31: =BW22 -> 0 | BX31: 技術性の得点 | CA31: =CA22 -> 0 | CB31: 技術性の得点 | CE31: =CE22 -> 0 | CG31: 技術性の得点 | CJ31: =CJ22 -> 0 | CK31: 技術性の得点 | CN31: =CN22 -> 0 | CO31: 技術性の得点 | CR31: =CR22 -> 0 | CS31: 技術性の得点 | CV31: =CV22 -> 0 | CW31: 技術性の得点 | CZ31: =CZ22 -> 0
A32: 技術採点を％で表したもの | D32: =ROUND(D31/2,3) -> 0 | E32: 技術採点を％で表したもの | H32: =ROUND(H31/2,3) -> 0 | I32: 技術採点を％で表したもの | L32: =ROUND(L31/2,3) -> 0 | M32: 技術採点を％で表したもの | P32: =ROUND(P31/2,3) -> 0 | Q32: 技術採点を％で表したもの | T32: =ROUND(T31/2,3) -> 0 | V32: 技術採点を％で表したもの | Y32: =ROUND(Y31/2,3) -> 0 | Z32: 技術採点を％で表したもの | AC32: =ROUND(AC31/2,3) -> 0 | AD32: 技術採点を％で表したもの | AG32: =ROUND(AG31/2,3) -> 0 | AH32: 技術採点を％で表したもの | AK32: =ROUND(AK31/2,3) -> 0 | AL32: 技術採点を％で表したもの | AO32: =ROUND(AO31/2,3) -> 0 | AQ32: 技術採点を％で表したもの | AT32: =ROUND(AT31/2,3) -> 0 | AU32: 技術採点を％で表したもの | AX32: =ROUND(AX31/2,3) -> 0 | AY32: 技術採点を％で表したもの | BB32: =ROUND(BB31/2,3) -> 0 | BC32: 技術採点を％で表したもの | BF32: =ROUND(BF31/2,3) -> 0 | BG32: 技術採点を％で表したもの | BJ32: =ROUND(BJ31/2,3) -> 0 | BL32: 技術採点を％で表したもの | BO32: =ROUND(BO31/2,3) -> 0 | BP32: 技術採点を％で表したもの | BS32: =ROUND(BS31/2,3) -> 0 | BT32: 技術採点を％で表したもの | BW32: =ROUND(BW31/2,3) -> 0 | BX32: 技術採点を％で表したもの | CA32: =ROUND(CA31/2,3) -> 0 | CB32: 技術採点を％で表したもの | CE32: =ROUND(CE31/2,3) -> 0 | CG32: 技術採点を％で表したもの | CJ32: =ROUND(CJ31/2,3) -> 0 | CK32: 技術採点を％で表したもの | CN32: =ROUND(CN31/2,3) -> 0 | CO32: 技術採点を％で表したもの | CR32: =ROUND(CR31/2,3) -> 0 | CS32: 技術採点を％で表したもの | CV32: =ROUND(CV31/2,3) -> 0 | CW32: 技術採点を％で表したもの | CZ32: =ROUND(CZ31/2,3) -> 0
A33: ペナルティ - 技術的過失 | E33: ペナルティ - 技術的過失 | I33: ペナルティ - 技術的過失 | M33: ペナルティ - 技術的過失 | Q33: ペナルティ - 技術的過失 | V33: ペナルティ - 技術的過失 | Z33: ペナルティ - 技術的過失 | AD33: ペナルティ - 技術的過失 | AH33: ペナルティ - 技術的過失 | AL33: ペナルティ - 技術的過失 | AQ33: ペナルティ - 技術的過失 | AU33: ペナルティ - 技術的過失 | AY33: ペナルティ - 技術的過失 | BC33: ペナルティ - 技術的過失 | BG33: ペナルティ - 技術的過失 | BL33: ペナルティ - 技術的過失 | BP33: ペナルティ - 技術的過失 | BT33: ペナルティ - 技術的過失 | BX33: ペナルティ - 技術的過失 | CB33: ペナルティ - 技術的過失 | CG33: ペナルティ - 技術的過失 | CK33: ペナルティ - 技術的過失 | CO33: ペナルティ - 技術的過失 | CS33: ペナルティ - 技術的過失 | CW33: ペナルティ - 技術的過失
A34: 技術採点 得点率（最終） | D34: =D32+D33 -> 0 | E34: 技術採点 得点率（最終） | H34: =H32+H33 -> 0 | I34: 技術採点 得点率（最終） | L34: =L32+L33 -> 0 | M34: 技術採点 得点率（最終） | P34: =P32+P33 -> 0 | Q34: 技術採点 得点率（最終） | T34: =T32+T33 -> 0 | V34: 技術採点 得点率（最終） | Y34: =Y32+Y33 -> 0 | Z34: 技術採点 得点率（最終） | AC34: =AC32+AC33 -> 0 | AD34: 技術採点 得点率（最終） | AG34: =AG32+AG33 -> 0 | AH34: 技術採点 得点率（最終） | AK34: =AK32+AK33 -> 0 | AL34: 技術採点 得点率（最終） | AO34: =AO32+AO33 -> 0 | AQ34: 技術採点 得点率（最終） | AT34: =AT32+AT33 -> 0 | AU34: 技術採点 得点率（最終） | AX34: =AX32+AX33 -> 0 | AY34: 技術採点 得点率（最終） | BB34: =BB32+BB33 -> 0 | BC34: 技術採点 得点率（最終） | BF34: =BF32+BF33 -> 0 | BG34: 技術採点 得点率（最終） | BJ34: =BJ32+BJ33 -> 0 | BL34: 技術採点 得点率（最終） | BO34: =BO32+BO33 -> 0 | BP34: 技術採点 得点率（最終） | BS34: =BS32+BS33 -> 0 | BT34: 技術採点 得点率（最終） | BW34: =BW32+BW33 -> 0 | BX34: 技術採点 得点率（最終） | CA34: =CA32+CA33 -> 0 | CB34: 技術採点 得点率（最終） | CE34: =CE32+CE33 -> 0 | CG34: 技術採点 得点率（最終） | CJ34: =CJ32+CJ33 -> 0 | CK34: 技術採点 得点率（最終） | CN34: =CN32+CN33 -> 0 | CO34: 技術採点 得点率（最終） | CR34: =CR32+CR33 -> 0 | CS34: 技術採点 得点率（最終） | CV34: =CV32+CV33 -> 0 | CW34: 技術採点 得点率（最終） | CZ34: =CZ32+CZ33 -> 0
A35: 芸術性の得点 | D35: =D29 -> #N/A | E35: 芸術性の得点 | H35: =H29 -> #N/A | I35: 芸術性の得点 | L35: =L29 -> #N/A | M35: 芸術性の得点 | P35: =P29 -> #N/A | Q35: 芸術性の得点 | T35: =T29 -> #N/A | V35: 芸術性の得点 | Y35: =Y29 -> #N/A | Z35: 芸術性の得点 | AC35: =AC29 -> #N/A | AD35: 芸術性の得点 | AG35: =AG29 -> #N/A | AH35: 芸術性の得点 | AK35: =AK29 -> #N/A | AL35: 芸術性の得点 | AO35: =AO29 -> #N/A | AQ35: 芸術性の得点 | AT35: =AT29 -> #N/A | AU35: 芸術性の得点 | AX35: =AX29 -> #N/A | AY35: 芸術性の得点 | BB35: =BB29 -> #N/A | BC35: 芸術性の得点 | BF35: =BF29 -> #N/A | BG35: 芸術性の得点 | BJ35: =BJ29 -> #N/A | BL35: 芸術性の得点 | BO35: =BO29 -> #N/A | BP35: 芸術性の得点 | BS35: =BS29 -> #N/A | BT35: 芸術性の得点 | BW35: =BW29 -> #N/A | BX35: 芸術性の得点 | CA35: =CA29 -> #N/A | CB35: 芸術性の得点 | CE35: =CE29 -> #N/A | CG35: 芸術性の得点 | CJ35: =CJ29 -> #N/A | CK35: 芸術性の得点 | CN35: =CN29 -> #N/A | CO35: 芸術性の得点 | CR35: =CR29 -> #N/A | CS35: 芸術性の得点 | CV35: =CV29 -> #N/A | CW35: 芸術性の得点 | CZ35: =CZ29 -> #N/A
A36: 芸術採点を％で表したもの | D36: =ROUND(D35/2,3) -> #N/A | E36: 芸術採点を％で表したもの | H36: =ROUND(H35/2,3) -> #N/A | I36: 芸術採点を％で表したもの | L36: =ROUND(L35/2,3) -> #N/A | M36: 芸術採点を％で表したもの | P36: =ROUND(P35/2,3) -> #N/A | Q36: 芸術採点を％で表したもの | T36: =ROUND(T35/2,3) -> #N/A | V36: 芸術採点を％で表したもの | Y36: =ROUND(Y35/2,3) -> #N/A | Z36: 芸術採点を％で表したもの | AC36: =ROUND(AC35/2,3) -> #N/A | AD36: 芸術採点を％で表したもの | AG36: =ROUND(AG35/2,3) -> #N/A | AH36: 芸術採点を％で表したもの | AK36: =ROUND(AK35/2,3) -> #N/A | AL36: 芸術採点を％で表したもの | AO36: =ROUND(AO35/2,3) -> #N/A | AQ36: 芸術採点を％で表したもの | AT36: =ROUND(AT35/2,3) -> #N/A | AU36: 芸術採点を％で表したもの | AX36: =ROUND(AX35/2,3) -> #N/A | AY36: 芸術採点を％で表したもの | BB36: =ROUND(BB35/2,3) -> #N/A | BC36: 芸術採点を％で表したもの | BF36: =ROUND(BF35/2,3) -> #N/A | BG36: 芸術採点を％で表したもの | BJ36: =ROUND(BJ35/2,3) -> #N/A | BL36: 芸術採点を％で表したもの | BO36: =ROUND(BO35/2,3) -> #N/A | BP36: 芸術採点を％で表したもの | BS36: =ROUND(BS35/2,3) -> #N/A | BT36: 芸術採点を％で表したもの | BW36: =ROUND(BW35/2,3) -> #N/A | BX36: 芸術採点を％で表したもの | CA36: =ROUND(CA35/2,3) -> #N/A | CB36: 芸術採点を％で表したもの | CE36: =ROUND(CE35/2,3) -> #N/A | CG36: 芸術採点を％で表したもの | CJ36: =ROUND(CJ35/2,3) -> #N/A | CK36: 芸術採点を％で表したもの | CN36: =ROUND(CN35/2,3) -> #N/A | CO36: 芸術採点を％で表したもの | CR36: =ROUND(CR35/2,3) -> #N/A | CS36: 芸術採点を％で表したもの | CV36: =ROUND(CV35/2,3) -> #N/A | CW36: 芸術採点を％で表したもの | CZ36: =ROUND(CZ35/2,3) -> #N/A
A37: 時間減点 | E37: 時間減点 | I37: 時間減点 | M37: 時間減点 | Q37: 時間減点 | V37: 時間減点 | Z37: 時間減点 | AD37: 時間減点 | AH37: 時間減点 | AL37: 時間減点 | AQ37: 時間減点 | AU37: 時間減点 | AY37: 時間減点 | BC37: 時間減点 | BG37: 時間減点 | BL37: 時間減点 | BP37: 時間減点 | BT37: 時間減点 | BX37: 時間減点 | CB37: 時間減点 | CG37: 時間減点 | CK37: 時間減点 | CO37: 時間減点 | CS37: 時間減点 | CW37: 時間減点
A38: 芸術採点 得点率（最終） | D38: =D36+D37 -> #N/A | E38: 芸術採点 得点率（最終） | H38: =H36+H37 -> #N/A | I38: 芸術採点 得点率（最終） | L38: =L36+L37 -> #N/A | M38: 芸術採点 得点率（最終） | P38: =P36+P37 -> #N/A | Q38: 芸術採点 得点率（最終） | T38: =T36+T37 -> #N/A | V38: 芸術採点 得点率（最終） | Y38: =Y36+Y37 -> #N/A | Z38: 芸術採点 得点率（最終） | AC38: =AC36+AC37 -> #N/A | AD38: 芸術採点 得点率（最終） | AG38: =AG36+AG37 -> #N/A | AH38: 芸術採点 得点率（最終） | AK38: =AK36+AK37 -> #N/A | AL38: 芸術採点 得点率（最終） | AO38: =AO36+AO37 -> #N/A | AQ38: 芸術採点 得点率（最終） | AT38: =AT36+AT37 -> #N/A | AU38: 芸術採点 得点率（最終） | AX38: =AX36+AX37 -> #N/A | AY38: 芸術採点 得点率（最終） | BB38: =BB36+BB37 -> #N/A | BC38: 芸術採点 得点率（最終） | BF38: =BF36+BF37 -> #N/A | BG38: 芸術採点 得点率（最終） | BJ38: =BJ36+BJ37 -> #N/A | BL38: 芸術採点 得点率（最終） | BO38: =BO36+BO37 -> #N/A | BP38: 芸術採点 得点率（最終） | BS38: =BS36+BS37 -> #N/A | BT38: 芸術採点 得点率（最終） | BW38: =BW36+BW37 -> #N/A | BX38: 芸術採点 得点率（最終） | CA38: =CA36+CA37 -> #N/A | CB38: 芸術採点 得点率（最終） | CE38: =CE36+CE37 -> #N/A | CG38: 芸術採点 得点率（最終） | CJ38: =CJ36+CJ37 -> #N/A | CK38: 芸術採点 得点率（最終） | CN38: =CN36+CN37 -> #N/A | CO38: 芸術採点 得点率（最終） | CR38: =CR36+CR37 -> #N/A | CS38: 芸術採点 得点率（最終） | CV38: =CV36+CV37 -> #N/A | CW38: 芸術採点 得点率（最終） | CZ38: =CZ36+CZ37 -> #N/A
A39: 最終得点率 | D39: =ROUND((D34+D38)/2,3) -> #N/A | E39: 最終得点率 | H39: =ROUND((H34+H38)/2,3) -> #N/A | I39: 最終得点率 | L39: =ROUND((L34+L38)/2,3) -> #N/A | M39: 最終得点率 | P39: =ROUND((P34+P38)/2,3) -> #N/A | Q39: 最終得点率 | T39: =ROUND((T34+T38)/2,3) -> #N/A | V39: 最終得点率 | Y39: =ROUND((Y34+Y38)/2,3) -> #N/A | Z39: 最終得点率 | AC39: =ROUND((AC34+AC38)/2,3) -> #N/A | AD39: 最終得点率 | AG39: =ROUND((AG34+AG38)/2,3) -> #N/A | AH39: 最終得点率 | AK39: =ROUND((AK34+AK38)/2,3) -> #N/A | AL39: 最終得点率 | AO39: =ROUND((AO34+AO38)/2,3) -> #N/A | AQ39: 最終得点率 | AT39: =ROUND((AT34+AT38)/2,3) -> #N/A | AU39: 最終得点率 | AX39: =ROUND((AX34+AX38)/2,3) -> #N/A | AY39: 最終得点率 | BB39: =ROUND((BB34+BB38)/2,3) -> #N/A | BC39: 最終得点率 | BF39: =ROUND((BF34+BF38)/2,3) -> #N/A | BG39: 最終得点率 | BJ39: =ROUND((BJ34+BJ38)/2,3) -> #N/A | BL39: 最終得点率 | BO39: =ROUND((BO34+BO38)/2,3) -> #N/A | BP39: 最終得点率 | BS39: =ROUND((BS34+BS38)/2,3) -> #N/A | BT39: 最終得点率 | BW39: =ROUND((BW34+BW38)/2,3) -> #N/A | BX39: 最終得点率 | CA39: =ROUND((CA34+CA38)/2,3) -> #N/A | CB39: 最終得点率 | CE39: =ROUND((CE34+CE38)/2,3) -> #N/A | CG39: 最終得点率 | CJ39: =ROUND((CJ34+CJ38)/2,3) -> #N/A | CK39: 最終得点率 | CN39: =ROUND((CN34+CN38)/2,3) -> #N/A | CO39: 最終得点率 | CR39: =ROUND((CR34+CR38)/2,3) -> #N/A | CS39: 最終得点率 | CV39: =ROUND((CV34+CV38)/2,3) -> #N/A | CW39: 最終得点率 | CZ39: =ROUND((CZ34+CZ38)/2,3) -> #N/A
A40: 技術得点率 | B40: =ROUND((D34+H34+L34+P34+T34)/$AB$1,3) -> #DIV/0! | V40: 技術得点率 | W40: =ROUND((Y34+AC34+AG34+AK34+AO34)/$AB$1,3) -> #DIV/0! | AQ40: 技術得点率 | AR40: =ROUND((AT34+AX34+BB34+BF34+BJ34)/$AB$1,3) -> #DIV/0! | BL40: 技術得点率 | BM40: =ROUND((BO34+BS34+BW34+CA34+CE34)/$AB$1,3) -> #DIV/0! | CG40: 技術得点率 | CH40: =ROUND((CJ34+CN34+CR34+CV34+CZ34)/$AB$1,3) -> #DIV/0!
A41: 芸術得点率 | B41: =ROUND((D38+H38+L38+P38+T38)/$AB$1,3) -> #N/A | V41: 芸術得点率 | W41: =ROUND((Y38+AC38+AG38+AK38+AO38)/$AB$1,3) -> #N/A | AQ41: 芸術得点率 | AR41: =ROUND((AT38+AX38+BB38+BF38+BJ38)/$AB$1,3) -> #N/A | BL41: 芸術得点率 | BM41: =ROUND((BO38+BS38+BW38+CA38+CE38)/$AB$1,3) -> #N/A | CG41: 芸術得点率 | CH41: =ROUND((CJ38+CN38+CR38+CV38+CZ38)/$AB$1,3) -> #N/A
A42: 最終結果 | B42: =IF(T3="",ROUND((D39+H39+L39+P39+T39)/$AB$1,3),T3) -> #N/A | V42: 最終結果 | W42: =IF(AO3="",ROUND((Y39+AC39+AG39+AK39+AO39)/$AB$1,3),AO3) -> #N/A | AQ42: 最終結果 | AR42: =IF(BJ3="",ROUND((AT39+AX39+BB39+BF39+BJ39)/$AB$1,3),BJ3) -> #N/A | BL42: 最終結果 | BM42: =IF(CE3="",ROUND((BO39+BS39+BW39+CA39+CE39)/$AB$1,3),CE3) -> #N/A | CG42: 最終結果 | CH42: =IF(CZ3="",ROUND((CJ39+CN39+CR39+CV39+CZ39)/$AB$1,3),CZ3) -> #N/A
A44: 出番 | B44: =①出番表!$B19 -> 6 | D44: 選手 | E44: =①出番表!$C19 -> 0 | H44: =①出番表!$D19 -> 0 | I44: 馬 | J44: =①出番表!$E19 -> 0 | M44: =①出番表!$F19 -> 0 | N44: 所属 | O44: =①出番表!$G19 -> 0 | S44: 強制処理 | V44: 出番 | W44: =①出番表!$B20 -> 7 | Y44: 選手 | Z44: =①出番表!$C20 -> 0 | AC44: =①出番表!$D20 -> 0 | AD44: 馬 | AE44: =①出番表!$E20 -> 0 | AH44: =①出番表!$F20 -> 0 | AI44: 所属 | AJ44: =①出番表!$G20 -> 0 | AN44: 強制処理 | AQ44: 出番 | AR44: =①出番表!$B21 -> 8 | AT44: 選手 | AU44: =①出番表!$C21 -> 0 | AX44: =①出番表!$D21 -> 0 | AY44: 馬 | AZ44: =①出番表!$E21 -> 0 | BC44: =①出番表!$F21 -> 0 | BD44: 所属 | BE44: =①出番表!$G21 -> 0 | BI44: 強制処理 | BL44: 出番 | BM44: =①出番表!$B22 -> 9 | BO44: 選手 | BP44: =①出番表!$C22 -> 0 | BS44: =①出番表!$D22 -> 0 | BT44: 馬 | BU44: =①出番表!$E22 -> 0 | BX44: =①出番表!$F22 -> 0 | BY44: 所属 | BZ44: =①出番表!$G22 -> 0 | CD44: 強制処理 | CG44: 出番 | CH44: =①出番表!$B23 -> 10 | CJ44: 選手 | CK44: =①出番表!$C23 -> 0 | CN44: =①出番表!$D23 -> 0 | CO44: 馬 | CP44: =①出番表!$E23 -> 0 | CS44: =①出番表!$F23 -> 0 | CT44: 所属 | CU44: =①出番表!$G23 -> 0 | CY44: 強制処理
A45: E | E45: H | I45: C | M45: M | Q45: B | V45: E | Z45: H | AD45: C | AH45: M | AL45: B | AQ45: E | AU45: H | AY45: C | BC45: M | BG45: B | BL45: E | BP45: H | BT45: C | BX45: M | CB45: B | CG45: E | CK45: H | CO45: C | CS45: M | CW45: B
A46: 項目 | B46: 入力 | C46: 係数 | D46: 得点 | E46: 項目 | F46: 入力 | G46: 係数 | H46: 得点 | I46: 項目 | J46: 入力 | K46: 係数 | L46: 得点 | M46: 項目 | N46: 入力 | O46: 係数 | P46: 得点 | Q46: 項目 | R46: 入力 | S46: 係数 | T46: 得点 | V46: 項目 | W46: 入力 | X46: 係数 | Y46: 得点 | Z46: 項目 | AA46: 入力 | AB46: 係数 | AC46: 得点 | AD46: 項目 | AE46: 入力 | AF46: 係数 | AG46: 得点 | AH46: 項目 | AI46: 入力 | AJ46: 係数 | AK46: 得点 | AL46: 項目 | AM46: 入力 | AN46: 係数 | AO46: 得点 | AQ46: 項目 | AR46: 入力 | AS46: 係数 | AT46: 得点 | AU46: 項目 | AV46: 入力 | AW46: 係数 | AX46: 得点 | AY46: 項目 | AZ46: 入力 | BA46: 係数 | BB46: 得点 | BC46: 項目 | BD46: 入力 | BE46: 係数 | BF46: 得点 | BG46: 項目 | BH46: 入力 | BI46: 係数 | BJ46: 得点 | BL46: 項目 | BM46: 入力 | BN46: 係数 | BO46: 得点 | BP46: 項目 | BQ46: 入力 | BR46: 係数 | BS46: 得点 | BT46: 項目 | BU46: 入力 | BV46: 係数 | BW46: 得点 | BX46: 項目 | BY46: 入力 | BZ46: 係数 | CA46: 得点 | CB46: 項目 | CC46: 入力 | CD46: 係数 | CE46: 得点 | CG46: 項目 | CH46: 入力 | CI46: 係数 | CJ46: 得点 | CK46: 項目 | CL46: 入力 | CM46: 係数 | CN46: 得点 | CO46: 項目 | CP46: 入力 | CQ46: 係数 | CR46: 得点 | CS46: 項目 | CT46: 入力 | CU46: 係数 | CV46: 得点 | CW46: 項目 | CX46: 入力 | CY46: 係数 | CZ46: 得点
A47: =係数マスタ!$A$4 -> 1 | C47: =係数マスタ!$B$4 -> #N/A | D47: =IFERROR(B47*C47,"") | E47: =係数マスタ!$A$4 -> 1 | G47: =係数マスタ!$B$4 -> #N/A | H47: =IFERROR(F47*G47,"") | I47: =係数マスタ!$A$4 -> 1 | K47: =係数マスタ!$B$4 -> #N/A | L47: =IFERROR(J47*K47,"") | M47: =係数マスタ!$A$4 -> 1 | O47: =係数マスタ!$B$4 -> #N/A | P47: =IFERROR(N47*O47,"") | Q47: =係数マスタ!$A$4 -> 1 | S47: =係数マスタ!$B$4 -> #N/A | T47: =IFERROR(R47*S47,"") | V47: =係数マスタ!$A$4 -> 1 | X47: =係数マスタ!$B$4 -> #N/A | Y47: =IFERROR(W47*X47,"") | Z47: =係数マスタ!$A$4 -> 1 | AB47: =係数マスタ!$B$4 -> #N/A | AC47: =IFERROR(AA47*AB47,"") | AD47: =係数マスタ!$A$4 -> 1 | AF47: =係数マスタ!$B$4 -> #N/A | AG47: =IFERROR(AE47*AF47,"") | AH47: =係数マスタ!$A$4 -> 1 | AJ47: =係数マスタ!$B$4 -> #N/A | AK47: =IFERROR(AI47*AJ47,"") | AL47: =係数マスタ!$A$4 -> 1 | AN47: =係数マスタ!$B$4 -> #N/A | AO47: =IFERROR(AM47*AN47,"") | AQ47: =係数マスタ!$A$4 -> 1 | AS47: =係数マスタ!$B$4 -> #N/A | AT47: =IFERROR(AR47*AS47,"") | AU47: =係数マスタ!$A$4 -> 1 | AW47: =係数マスタ!$B$4 -> #N/A | AX47: =IFERROR(AV47*AW47,"") | AY47: =係数マスタ!$A$4 -> 1 | BA47: =係数マスタ!$B$4 -> #N/A | BB47: =IFERROR(AZ47*BA47,"") | BC47: =係数マスタ!$A$4 -> 1 | BE47: =係数マスタ!$B$4 -> #N/A | BF47: =IFERROR(BD47*BE47,"") | BG47: =係数マスタ!$A$4 -> 1 | BI47: =係数マスタ!$B$4 -> #N/A | BJ47: =IFERROR(BH47*BI47,"") | BL47: =係数マスタ!$A$4 -> 1 | BN47: =係数マスタ!$B$4 -> #N/A | BO47: =IFERROR(BM47*BN47,"") | BP47: =係数マスタ!$A$4 -> 1 | BR47: =係数マスタ!$B$4 -> #N/A | BS47: =IFERROR(BQ47*BR47,"") | BT47: =係数マスタ!$A$4 -> 1 | BV47: =係数マスタ!$B$4 -> #N/A | BW47: =IFERROR(BU47*BV47,"") | BX47: =係数マスタ!$A$4 -> 1 | BZ47: =係数マスタ!$B$4 -> #N/A | CA47: =IFERROR(BY47*BZ47,"") | CB47: =係数マスタ!$A$4 -> 1 | CD47: =係数マスタ!$B$4 -> #N/A | CE47: =IFERROR(CC47*CD47,"") | CG47: =係数マスタ!$A$4 -> 1 | CI47: =係数マスタ!$B$4 -> #N/A | CJ47: =IFERROR(CH47*CI47,"") | CK47: =係数マスタ!$A$4 -> 1 | CM47: =係数マスタ!$B$4 -> #N/A | CN47: =IFERROR(CL47*CM47,"") | CO47: =係数マスタ!$A$4 -> 1 | CQ47: =係数マスタ!$B$4 -> #N/A | CR47: =IFERROR(CP47*CQ47,"") | CS47: =係数マスタ!$A$4 -> 1 | CU47: =係数マスタ!$B$4 -> #N/A | CV47: =IFERROR(CT47*CU47,"") | CW47: =係数マスタ!$A$4 -> 1 | CY47: =係数マスタ!$B$4 -> #N/A | CZ47: =IFERROR(CX47*CY47,"")
A48: =係数マスタ!$A$5 -> 2 | C48: =係数マスタ!$B$5 -> #N/A | D48: =IFERROR(B48*C48,"") | E48: =係数マスタ!$A$5 -> 2 | G48: =係数マスタ!$B$5 -> #N/A | H48: =IFERROR(F48*G48,"") | I48: =係数マスタ!$A$5 -> 2 | K48: =係数マスタ!$B$5 -> #N/A | L48: =IFERROR(J48*K48,"") | M48: =係数マスタ!$A$5 -> 2 | O48: =係数マスタ!$B$5 -> #N/A | P48: =IFERROR(N48*O48,"") | Q48: =係数マスタ!$A$5 -> 2 | S48: =係数マスタ!$B$5 -> #N/A | T48: =IFERROR(R48*S48,"") | V48: =係数マスタ!$A$5 -> 2 | X48: =係数マスタ!$B$5 -> #N/A | Y48: =IFERROR(W48*X48,"") | Z48: =係数マスタ!$A$5 -> 2 | AB48: =係数マスタ!$B$5 -> #N/A | AC48: =IFERROR(AA48*AB48,"") | AD48: =係数マスタ!$A$5 -> 2 | AF48: =係数マスタ!$B$5 -> #N/A | AG48: =IFERROR(AE48*AF48,"") | AH48: =係数マスタ!$A$5 -> 2 | AJ48: =係数マスタ!$B$5 -> #N/A | AK48: =IFERROR(AI48*AJ48,"") | AL48: =係数マスタ!$A$5 -> 2 | AN48: =係数マスタ!$B$5 -> #N/A | AO48: =IFERROR(AM48*AN48,"") | AQ48: =係数マスタ!$A$5 -> 2 | AS48: =係数マスタ!$B$5 -> #N/A | AT48: =IFERROR(AR48*AS48,"") | AU48: =係数マスタ!$A$5 -> 2 | AW48: =係数マスタ!$B$5 -> #N/A | AX48: =IFERROR(AV48*AW48,"") | AY48: =係数マスタ!$A$5 -> 2 | BA48: =係数マスタ!$B$5 -> #N/A | BB48: =IFERROR(AZ48*BA48,"") | BC48: =係数マスタ!$A$5 -> 2 | BE48: =係数マスタ!$B$5 -> #N/A | BF48: =IFERROR(BD48*BE48,"") | BG48: =係数マスタ!$A$5 -> 2 | BI48: =係数マスタ!$B$5 -> #N/A | BJ48: =IFERROR(BH48*BI48,"") | BL48: =係数マスタ!$A$5 -> 2 | BN48: =係数マスタ!$B$5 -> #N/A | BO48: =IFERROR(BM48*BN48,"") | BP48: =係数マスタ!$A$5 -> 2 | BR48: =係数マスタ!$B$5 -> #N/A | BS48: =IFERROR(BQ48*BR48,"") | BT48: =係数マスタ!$A$5 -> 2 | BV48: =係数マスタ!$B$5 -> #N/A | BW48: =IFERROR(BU48*BV48,"") | BX48: =係数マスタ!$A$5 -> 2 | BZ48: =係数マスタ!$B$5 -> #N/A | CA48: =IFERROR(BY48*BZ48,"") | CB48: =係数マスタ!$A$5 -> 2 | CD48: =係数マスタ!$B$5 -> #N/A | CE48: =IFERROR(CC48*CD48,"") | CG48: =係数マスタ!$A$5 -> 2 | CI48: =係数マスタ!$B$5 -> #N/A | CJ48: =IFERROR(CH48*CI48,"") | CK48: =係数マスタ!$A$5 -> 2 | CM48: =係数マスタ!$B$5 -> #N/A | CN48: =IFERROR(CL48*CM48,"") | CO48: =係数マスタ!$A$5 -> 2 | CQ48: =係数マスタ!$B$5 -> #N/A | CR48: =IFERROR(CP48*CQ48,"") | CS48: =係数マスタ!$A$5 -> 2 | CU48: =係数マスタ!$B$5 -> #N/A | CV48: =IFERROR(CT48*CU48,"") | CW48: =係数マスタ!$A$5 -> 2 | CY48: =係数マスタ!$B$5 -> #N/A | CZ48: =IFERROR(CX48*CY48,"")
A49: =係数マスタ!$A$6 -> 3 | C49: =係数マスタ!$B$6 -> #N/A | D49: =IFERROR(B49*C49,"") | E49: =係数マスタ!$A$6 -> 3 | G49: =係数マスタ!$B$6 -> #N/A | H49: =IFERROR(F49*G49,"") | I49: =係数マスタ!$A$6 -> 3 | K49: =係数マスタ!$B$6 -> #N/A | L49: =IFERROR(J49*K49,"") | M49: =係数マスタ!$A$6 -> 3 | O49: =係数マスタ!$B$6 -> #N/A | P49: =IFERROR(N49*O49,"") | Q49: =係数マスタ!$A$6 -> 3 | S49: =係数マスタ!$B$6 -> #N/A | T49: =IFERROR(R49*S49,"") | V49: =係数マスタ!$A$6 -> 3 | X49: =係数マスタ!$B$6 -> #N/A | Y49: =IFERROR(W49*X49,"") | Z49: =係数マスタ!$A$6 -> 3 | AB49: =係数マスタ!$B$6 -> #N/A | AC49: =IFERROR(AA49*AB49,"") | AD49: =係数マスタ!$A$6 -> 3 | AF49: =係数マスタ!$B$6 -> #N/A | AG49: =IFERROR(AE49*AF49,"") | AH49: =係数マスタ!$A$6 -> 3 | AJ49: =係数マスタ!$B$6 -> #N/A | AK49: =IFERROR(AI49*AJ49,"") | AL49: =係数マスタ!$A$6 -> 3 | AN49: =係数マスタ!$B$6 -> #N/A | AO49: =IFERROR(AM49*AN49,"") | AQ49: =係数マスタ!$A$6 -> 3 | AS49: =係数マスタ!$B$6 -> #N/A | AT49: =IFERROR(AR49*AS49,"") | AU49: =係数マスタ!$A$6 -> 3 | AW49: =係数マスタ!$B$6 -> #N/A | AX49: =IFERROR(AV49*AW49,"") | AY49: =係数マスタ!$A$6 -> 3 | BA49: =係数マスタ!$B$6 -> #N/A | BB49: =IFERROR(AZ49*BA49,"") | BC49: =係数マスタ!$A$6 -> 3 | BE49: =係数マスタ!$B$6 -> #N/A | BF49: =IFERROR(BD49*BE49,"") | BG49: =係数マスタ!$A$6 -> 3 | BI49: =係数マスタ!$B$6 -> #N/A | BJ49: =IFERROR(BH49*BI49,"") | BL49: =係数マスタ!$A$6 -> 3 | BN49: =係数マスタ!$B$6 -> #N/A | BO49: =IFERROR(BM49*BN49,"") | BP49: =係数マスタ!$A$6 -> 3 | BR49: =係数マスタ!$B$6 -> #N/A | BS49: =IFERROR(BQ49*BR49,"") | BT49: =係数マスタ!$A$6 -> 3 | BV49: =係数マスタ!$B$6 -> #N/A | BW49: =IFERROR(BU49*BV49,"") | BX49: =係数マスタ!$A$6 -> 3 | BZ49: =係数マスタ!$B$6 -> #N/A | CA49: =IFERROR(BY49*BZ49,"") | CB49: =係数マスタ!$A$6 -> 3 | CD49: =係数マスタ!$B$6 -> #N/A | CE49: =IFERROR(CC49*CD49,"") | CG49: =係数マスタ!$A$6 -> 3 | CI49: =係数マスタ!$B$6 -> #N/A | CJ49: =IFERROR(CH49*CI49,"") | CK49: =係数マスタ!$A$6 -> 3 | CM49: =係数マスタ!$B$6 -> #N/A | CN49: =IFERROR(CL49*CM49,"") | CO49: =係数マスタ!$A$6 -> 3 | CQ49: =係数マスタ!$B$6 -> #N/A | CR49: =IFERROR(CP49*CQ49,"") | CS49: =係数マスタ!$A$6 -> 3 | CU49: =係数マスタ!$B$6 -> #N/A | CV49: =IFERROR(CT49*CU49,"") | CW49: =係数マスタ!$A$6 -> 3 | CY49: =係数マスタ!$B$6 -> #N/A | CZ49: =IFERROR(CX49*CY49,"")
A50: =係数マスタ!$A$7 -> 4 | C50: =係数マスタ!$B$7 -> #N/A | D50: =IFERROR(B50*C50,"") | E50: =係数マスタ!$A$7 -> 4 | G50: =係数マスタ!$B$7 -> #N/A | H50: =IFERROR(F50*G50,"") | I50: =係数マスタ!$A$7 -> 4 | K50: =係数マスタ!$B$7 -> #N/A | L50: =IFERROR(J50*K50,"") | M50: =係数マスタ!$A$7 -> 4 | O50: =係数マスタ!$B$7 -> #N/A | P50: =IFERROR(N50*O50,"") | Q50: =係数マスタ!$A$7 -> 4 | S50: =係数マスタ!$B$7 -> #N/A | T50: =IFERROR(R50*S50,"") | V50: =係数マスタ!$A$7 -> 4 | X50: =係数マスタ!$B$7 -> #N/A | Y50: =IFERROR(W50*X50,"") | Z50: =係数マスタ!$A$7 -> 4 | AB50: =係数マスタ!$B$7 -> #N/A | AC50: =IFERROR(AA50*AB50,"") | AD50: =係数マスタ!$A$7 -> 4 | AF50: =係数マスタ!$B$7 -> #N/A | AG50: =IFERROR(AE50*AF50,"") | AH50: =係数マスタ!$A$7 -> 4 | AJ50: =係数マスタ!$B$7 -> #N/A | AK50: =IFERROR(AI50*AJ50,"") | AL50: =係数マスタ!$A$7 -> 4 | AN50: =係数マスタ!$B$7 -> #N/A | AO50: =IFERROR(AM50*AN50,"") | AQ50: =係数マスタ!$A$7 -> 4 | AS50: =係数マスタ!$B$7 -> #N/A | AT50: =IFERROR(AR50*AS50,"") | AU50: =係数マスタ!$A$7 -> 4 | AW50: =係数マスタ!$B$7 -> #N/A | AX50: =IFERROR(AV50*AW50,"") | AY50: =係数マスタ!$A$7 -> 4 | BA50: =係数マスタ!$B$7 -> #N/A | BB50: =IFERROR(AZ50*BA50,"") | BC50: =係数マスタ!$A$7 -> 4 | BE50: =係数マスタ!$B$7 -> #N/A | BF50: =IFERROR(BD50*BE50,"") | BG50: =係数マスタ!$A$7 -> 4 | BI50: =係数マスタ!$B$7 -> #N/A | BJ50: =IFERROR(BH50*BI50,"") | BL50: =係数マスタ!$A$7 -> 4 | BN50: =係数マスタ!$B$7 -> #N/A | BO50: =IFERROR(BM50*BN50,"") | BP50: =係数マスタ!$A$7 -> 4 | BR50: =係数マスタ!$B$7 -> #N/A | BS50: =IFERROR(BQ50*BR50,"") | BT50: =係数マスタ!$A$7 -> 4 | BV50: =係数マスタ!$B$7 -> #N/A | BW50: =IFERROR(BU50*BV50,"") | BX50: =係数マスタ!$A$7 -> 4 | BZ50: =係数マスタ!$B$7 -> #N/A | CA50: =IFERROR(BY50*BZ50,"") | CB50: =係数マスタ!$A$7 -> 4 | CD50: =係数マスタ!$B$7 -> #N/A | CE50: =IFERROR(CC50*CD50,"") | CG50: =係数マスタ!$A$7 -> 4 | CI50: =係数マスタ!$B$7 -> #N/A | CJ50: =IFERROR(CH50*CI50,"") | CK50: =係数マスタ!$A$7 -> 4 | CM50: =係数マスタ!$B$7 -> #N/A | CN50: =IFERROR(CL50*CM50,"") | CO50: =係数マスタ!$A$7 -> 4 | CQ50: =係数マスタ!$B$7 -> #N/A | CR50: =IFERROR(CP50*CQ50,"") | CS50: =係数マスタ!$A$7 -> 4 | CU50: =係数マスタ!$B$7 -> #N/A | CV50: =IFERROR(CT50*CU50,"") | CW50: =係数マスタ!$A$7 -> 4 | CY50: =係数マスタ!$B$7 -> #N/A | CZ50: =IFERROR(CX50*CY50,"")
A51: =係数マスタ!$A$8 -> 5 | C51: =係数マスタ!$B$8 -> #N/A | D51: =IFERROR(B51*C51,"") | E51: =係数マスタ!$A$8 -> 5 | G51: =係数マスタ!$B$8 -> #N/A | H51: =IFERROR(F51*G51,"") | I51: =係数マスタ!$A$8 -> 5 | K51: =係数マスタ!$B$8 -> #N/A | L51: =IFERROR(J51*K51,"") | M51: =係数マスタ!$A$8 -> 5 | O51: =係数マスタ!$B$8 -> #N/A | P51: =IFERROR(N51*O51,"") | Q51: =係数マスタ!$A$8 -> 5 | S51: =係数マスタ!$B$8 -> #N/A | T51: =IFERROR(R51*S51,"") | V51: =係数マスタ!$A$8 -> 5 | X51: =係数マスタ!$B$8 -> #N/A | Y51: =IFERROR(W51*X51,"") | Z51: =係数マスタ!$A$8 -> 5 | AB51: =係数マスタ!$B$8 -> #N/A | AC51: =IFERROR(AA51*AB51,"") | AD51: =係数マスタ!$A$8 -> 5 | AF51: =係数マスタ!$B$8 -> #N/A | AG51: =IFERROR(AE51*AF51,"") | AH51: =係数マスタ!$A$8 -> 5 | AJ51: =係数マスタ!$B$8 -> #N/A | AK51: =IFERROR(AI51*AJ51,"") | AL51: =係数マスタ!$A$8 -> 5 | AN51: =係数マスタ!$B$8 -> #N/A | AO51: =IFERROR(AM51*AN51,"") | AQ51: =係数マスタ!$A$8 -> 5 | AS51: =係数マスタ!$B$8 -> #N/A | AT51: =IFERROR(AR51*AS51,"") | AU51: =係数マスタ!$A$8 -> 5 | AW51: =係数マスタ!$B$8 -> #N/A | AX51: =IFERROR(AV51*AW51,"") | AY51: =係数マスタ!$A$8 -> 5 | BA51: =係数マスタ!$B$8 -> #N/A | BB51: =IFERROR(AZ51*BA51,"") | BC51: =係数マスタ!$A$8 -> 5 | BE51: =係数マスタ!$B$8 -> #N/A | BF51: =IFERROR(BD51*BE51,"") | BG51: =係数マスタ!$A$8 -> 5 | BI51: =係数マスタ!$B$8 -> #N/A | BJ51: =IFERROR(BH51*BI51,"") | BL51: =係数マスタ!$A$8 -> 5 | BN51: =係数マスタ!$B$8 -> #N/A | BO51: =IFERROR(BM51*BN51,"") | BP51: =係数マスタ!$A$8 -> 5 | BR51: =係数マスタ!$B$8 -> #N/A | BS51: =IFERROR(BQ51*BR51,"") | BT51: =係数マスタ!$A$8 -> 5 | BV51: =係数マスタ!$B$8 -> #N/A | BW51: =IFERROR(BU51*BV51,"") | BX51: =係数マスタ!$A$8 -> 5 | BZ51: =係数マスタ!$B$8 -> #N/A | CA51: =IFERROR(BY51*BZ51,"") | CB51: =係数マスタ!$A$8 -> 5 | CD51: =係数マスタ!$B$8 -> #N/A | CE51: =IFERROR(CC51*CD51,"") | CG51: =係数マスタ!$A$8 -> 5 | CI51: =係数マスタ!$B$8 -> #N/A | CJ51: =IFERROR(CH51*CI51,"") | CK51: =係数マスタ!$A$8 -> 5 | CM51: =係数マスタ!$B$8 -> #N/A | CN51: =IFERROR(CL51*CM51,"") | CO51: =係数マスタ!$A$8 -> 5 | CQ51: =係数マスタ!$B$8 -> #N/A | CR51: =IFERROR(CP51*CQ51,"") | CS51: =係数マスタ!$A$8 -> 5 | CU51: =係数マスタ!$B$8 -> #N/A | CV51: =IFERROR(CT51*CU51,"") | CW51: =係数マスタ!$A$8 -> 5 | CY51: =係数マスタ!$B$8 -> #N/A | CZ51: =IFERROR(CX51*CY51,"")
A52: =係数マスタ!$A$9 -> 6 | C52: =係数マスタ!$B$9 -> #N/A | D52: =IFERROR(B52*C52,"") | E52: =係数マスタ!$A$9 -> 6 | G52: =係数マスタ!$B$9 -> #N/A | H52: =IFERROR(F52*G52,"") | I52: =係数マスタ!$A$9 -> 6 | K52: =係数マスタ!$B$9 -> #N/A | L52: =IFERROR(J52*K52,"") | M52: =係数マスタ!$A$9 -> 6 | O52: =係数マスタ!$B$9 -> #N/A | P52: =IFERROR(N52*O52,"") | Q52: =係数マスタ!$A$9 -> 6 | S52: =係数マスタ!$B$9 -> #N/A | T52: =IFERROR(R52*S52,"") | V52: =係数マスタ!$A$9 -> 6 | X52: =係数マスタ!$B$9 -> #N/A | Y52: =IFERROR(W52*X52,"") | Z52: =係数マスタ!$A$9 -> 6 | AB52: =係数マスタ!$B$9 -> #N/A | AC52: =IFERROR(AA52*AB52,"") | AD52: =係数マスタ!$A$9 -> 6 | AF52: =係数マスタ!$B$9 -> #N/A | AG52: =IFERROR(AE52*AF52,"") | AH52: =係数マスタ!$A$9 -> 6 | AJ52: =係数マスタ!$B$9 -> #N/A | AK52: =IFERROR(AI52*AJ52,"") | AL52: =係数マスタ!$A$9 -> 6 | AN52: =係数マスタ!$B$9 -> #N/A | AO52: =IFERROR(AM52*AN52,"") | AQ52: =係数マスタ!$A$9 -> 6 | AS52: =係数マスタ!$B$9 -> #N/A | AT52: =IFERROR(AR52*AS52,"") | AU52: =係数マスタ!$A$9 -> 6 | AW52: =係数マスタ!$B$9 -> #N/A | AX52: =IFERROR(AV52*AW52,"") | AY52: =係数マスタ!$A$9 -> 6 | BA52: =係数マスタ!$B$9 -> #N/A | BB52: =IFERROR(AZ52*BA52,"") | BC52: =係数マスタ!$A$9 -> 6 | BE52: =係数マスタ!$B$9 -> #N/A | BF52: =IFERROR(BD52*BE52,"") | BG52: =係数マスタ!$A$9 -> 6 | BI52: =係数マスタ!$B$9 -> #N/A | BJ52: =IFERROR(BH52*BI52,"") | BL52: =係数マスタ!$A$9 -> 6 | BN52: =係数マスタ!$B$9 -> #N/A | BO52: =IFERROR(BM52*BN52,"") | BP52: =係数マスタ!$A$9 -> 6 | BR52: =係数マスタ!$B$9 -> #N/A | BS52: =IFERROR(BQ52*BR52,"") | BT52: =係数マスタ!$A$9 -> 6 | BV52: =係数マスタ!$B$9 -> #N/A | BW52: =IFERROR(BU52*BV52,"") | BX52: =係数マスタ!$A$9 -> 6 | BZ52: =係数マスタ!$B$9 -> #N/A | CA52: =IFERROR(BY52*BZ52,"") | CB52: =係数マスタ!$A$9 -> 6 | CD52: =係数マスタ!$B$9 -> #N/A | CE52: =IFERROR(CC52*CD52,"") | CG52: =係数マスタ!$A$9 -> 6 | CI52: =係数マスタ!$B$9 -> #N/A | CJ52: =IFERROR(CH52*CI52,"") | CK52: =係数マスタ!$A$9 -> 6 | CM52: =係数マスタ!$B$9 -> #N/A | CN52: =IFERROR(CL52*CM52,"") | CO52: =係数マスタ!$A$9 -> 6 | CQ52: =係数マスタ!$B$9 -> #N/A | CR52: =IFERROR(CP52*CQ52,"") | CS52: =係数マスタ!$A$9 -> 6 | CU52: =係数マスタ!$B$9 -> #N/A | CV52: =IFERROR(CT52*CU52,"") | CW52: =係数マスタ!$A$9 -> 6 | CY52: =係数マスタ!$B$9 -> #N/A | CZ52: =IFERROR(CX52*CY52,"")
A53: =係数マスタ!$A$10 -> 7 | C53: =係数マスタ!$B$10 -> #N/A | D53: =IFERROR(B53*C53,"") | E53: =係数マスタ!$A$10 -> 7 | G53: =係数マスタ!$B$10 -> #N/A | H53: =IFERROR(F53*G53,"") | I53: =係数マスタ!$A$10 -> 7 | K53: =係数マスタ!$B$10 -> #N/A | L53: =IFERROR(J53*K53,"") | M53: =係数マスタ!$A$10 -> 7 | O53: =係数マスタ!$B$10 -> #N/A | P53: =IFERROR(N53*O53,"") | Q53: =係数マスタ!$A$10 -> 7 | S53: =係数マスタ!$B$10 -> #N/A | T53: =IFERROR(R53*S53,"") | V53: =係数マスタ!$A$10 -> 7 | X53: =係数マスタ!$B$10 -> #N/A | Y53: =IFERROR(W53*X53,"") | Z53: =係数マスタ!$A$10 -> 7 | AB53: =係数マスタ!$B$10 -> #N/A | AC53: =IFERROR(AA53*AB53,"") | AD53: =係数マスタ!$A$10 -> 7 | AF53: =係数マスタ!$B$10 -> #N/A | AG53: =IFERROR(AE53*AF53,"") | AH53: =係数マスタ!$A$10 -> 7 | AJ53: =係数マスタ!$B$10 -> #N/A | AK53: =IFERROR(AI53*AJ53,"") | AL53: =係数マスタ!$A$10 -> 7 | AN53: =係数マスタ!$B$10 -> #N/A | AO53: =IFERROR(AM53*AN53,"") | AQ53: =係数マスタ!$A$10 -> 7 | AS53: =係数マスタ!$B$10 -> #N/A | AT53: =IFERROR(AR53*AS53,"") | AU53: =係数マスタ!$A$10 -> 7 | AW53: =係数マスタ!$B$10 -> #N/A | AX53: =IFERROR(AV53*AW53,"") | AY53: =係数マスタ!$A$10 -> 7 | BA53: =係数マスタ!$B$10 -> #N/A | BB53: =IFERROR(AZ53*BA53,"") | BC53: =係数マスタ!$A$10 -> 7 | BE53: =係数マスタ!$B$10 -> #N/A | BF53: =IFERROR(BD53*BE53,"") | BG53: =係数マスタ!$A$10 -> 7 | BI53: =係数マスタ!$B$10 -> #N/A | BJ53: =IFERROR(BH53*BI53,"") | BL53: =係数マスタ!$A$10 -> 7 | BN53: =係数マスタ!$B$10 -> #N/A | BO53: =IFERROR(BM53*BN53,"") | BP53: =係数マスタ!$A$10 -> 7 | BR53: =係数マスタ!$B$10 -> #N/A | BS53: =IFERROR(BQ53*BR53,"") | BT53: =係数マスタ!$A$10 -> 7 | BV53: =係数マスタ!$B$10 -> #N/A | BW53: =IFERROR(BU53*BV53,"") | BX53: =係数マスタ!$A$10 -> 7 | BZ53: =係数マスタ!$B$10 -> #N/A | CA53: =IFERROR(BY53*BZ53,"") | CB53: =係数マスタ!$A$10 -> 7 | CD53: =係数マスタ!$B$10 -> #N/A | CE53: =IFERROR(CC53*CD53,"") | CG53: =係数マスタ!$A$10 -> 7 | CI53: =係数マスタ!$B$10 -> #N/A | CJ53: =IFERROR(CH53*CI53,"") | CK53: =係数マスタ!$A$10 -> 7 | CM53: =係数マスタ!$B$10 -> #N/A | CN53: =IFERROR(CL53*CM53,"") | CO53: =係数マスタ!$A$10 -> 7 | CQ53: =係数マスタ!$B$10 -> #N/A | CR53: =IFERROR(CP53*CQ53,"") | CS53: =係数マスタ!$A$10 -> 7 | CU53: =係数マスタ!$B$10 -> #N/A | CV53: =IFERROR(CT53*CU53,"") | CW53: =係数マスタ!$A$10 -> 7 | CY53: =係数マスタ!$B$10 -> #N/A | CZ53: =IFERROR(CX53*CY53,"")
A54: =係数マスタ!$A$11 -> 8 | C54: =係数マスタ!$B$11 -> #N/A | D54: =IFERROR(B54*C54,"") | E54: =係数マスタ!$A$11 -> 8 | G54: =係数マスタ!$B$11 -> #N/A | H54: =IFERROR(F54*G54,"") | I54: =係数マスタ!$A$11 -> 8 | K54: =係数マスタ!$B$11 -> #N/A | L54: =IFERROR(J54*K54,"") | M54: =係数マスタ!$A$11 -> 8 | O54: =係数マスタ!$B$11 -> #N/A | P54: =IFERROR(N54*O54,"") | Q54: =係数マスタ!$A$11 -> 8 | S54: =係数マスタ!$B$11 -> #N/A | T54: =IFERROR(R54*S54,"") | V54: =係数マスタ!$A$11 -> 8 | X54: =係数マスタ!$B$11 -> #N/A | Y54: =IFERROR(W54*X54,"") | Z54: =係数マスタ!$A$11 -> 8 | AB54: =係数マスタ!$B$11 -> #N/A | AC54: =IFERROR(AA54*AB54,"") | AD54: =係数マスタ!$A$11 -> 8 | AF54: =係数マスタ!$B$11 -> #N/A | AG54: =IFERROR(AE54*AF54,"") | AH54: =係数マスタ!$A$11 -> 8 | AJ54: =係数マスタ!$B$11 -> #N/A | AK54: =IFERROR(AI54*AJ54,"") | AL54: =係数マスタ!$A$11 -> 8 | AN54: =係数マスタ!$B$11 -> #N/A | AO54: =IFERROR(AM54*AN54,"") | AQ54: =係数マスタ!$A$11 -> 8 | AS54: =係数マスタ!$B$11 -> #N/A | AT54: =IFERROR(AR54*AS54,"") | AU54: =係数マスタ!$A$11 -> 8 | AW54: =係数マスタ!$B$11 -> #N/A | AX54: =IFERROR(AV54*AW54,"") | AY54: =係数マスタ!$A$11 -> 8 | BA54: =係数マスタ!$B$11 -> #N/A | BB54: =IFERROR(AZ54*BA54,"") | BC54: =係数マスタ!$A$11 -> 8 | BE54: =係数マスタ!$B$11 -> #N/A | BF54: =IFERROR(BD54*BE54,"") | BG54: =係数マスタ!$A$11 -> 8 | BI54: =係数マスタ!$B$11 -> #N/A | BJ54: =IFERROR(BH54*BI54,"") | BL54: =係数マスタ!$A$11 -> 8 | BN54: =係数マスタ!$B$11 -> #N/A | BO54: =IFERROR(BM54*BN54,"") | BP54: =係数マスタ!$A$11 -> 8 | BR54: =係数マスタ!$B$11 -> #N/A | BS54: =IFERROR(BQ54*BR54,"") | BT54: =係数マスタ!$A$11 -> 8 | BV54: =係数マスタ!$B$11 -> #N/A | BW54: =IFERROR(BU54*BV54,"") | BX54: =係数マスタ!$A$11 -> 8 | BZ54: =係数マスタ!$B$11 -> #N/A | CA54: =IFERROR(BY54*BZ54,"") | CB54: =係数マスタ!$A$11 -> 8 | CD54: =係数マスタ!$B$11 -> #N/A | CE54: =IFERROR(CC54*CD54,"") | CG54: =係数マスタ!$A$11 -> 8 | CI54: =係数マスタ!$B$11 -> #N/A | CJ54: =IFERROR(CH54*CI54,"") | CK54: =係数マスタ!$A$11 -> 8 | CM54: =係数マスタ!$B$11 -> #N/A | CN54: =IFERROR(CL54*CM54,"") | CO54: =係数マスタ!$A$11 -> 8 | CQ54: =係数マスタ!$B$11 -> #N/A | CR54: =IFERROR(CP54*CQ54,"") | CS54: =係数マスタ!$A$11 -> 8 | CU54: =係数マスタ!$B$11 -> #N/A | CV54: =IFERROR(CT54*CU54,"") | CW54: =係数マスタ!$A$11 -> 8 | CY54: =係数マスタ!$B$11 -> #N/A | CZ54: =IFERROR(CX54*CY54,"")
A55: =係数マスタ!$A$12 -> 9 | C55: =係数マスタ!$B$12 -> #N/A | D55: =IFERROR(B55*C55,"") | E55: =係数マスタ!$A$12 -> 9 | G55: =係数マスタ!$B$12 -> #N/A | H55: =IFERROR(F55*G55,"") | I55: =係数マスタ!$A$12 -> 9 | K55: =係数マスタ!$B$12 -> #N/A | L55: =IFERROR(J55*K55,"") | M55: =係数マスタ!$A$12 -> 9 | O55: =係数マスタ!$B$12 -> #N/A | P55: =IFERROR(N55*O55,"") | Q55: =係数マスタ!$A$12 -> 9 | S55: =係数マスタ!$B$12 -> #N/A | T55: =IFERROR(R55*S55,"") | V55: =係数マスタ!$A$12 -> 9 | X55: =係数マスタ!$B$12 -> #N/A | Y55: =IFERROR(W55*X55,"") | Z55: =係数マスタ!$A$12 -> 9 | AB55: =係数マスタ!$B$12 -> #N/A | AC55: =IFERROR(AA55*AB55,"") | AD55: =係数マスタ!$A$12 -> 9 | AF55: =係数マスタ!$B$12 -> #N/A | AG55: =IFERROR(AE55*AF55,"") | AH55: =係数マスタ!$A$12 -> 9 | AJ55: =係数マスタ!$B$12 -> #N/A | AK55: =IFERROR(AI55*AJ55,"") | AL55: =係数マスタ!$A$12 -> 9 | AN55: =係数マスタ!$B$12 -> #N/A | AO55: =IFERROR(AM55*AN55,"") | AQ55: =係数マスタ!$A$12 -> 9 | AS55: =係数マスタ!$B$12 -> #N/A | AT55: =IFERROR(AR55*AS55,"") | AU55: =係数マスタ!$A$12 -> 9 | AW55: =係数マスタ!$B$12 -> #N/A | AX55: =IFERROR(AV55*AW55,"") | AY55: =係数マスタ!$A$12 -> 9 | BA55: =係数マスタ!$B$12 -> #N/A | BB55: =IFERROR(AZ55*BA55,"") | BC55: =係数マスタ!$A$12 -> 9 | BE55: =係数マスタ!$B$12 -> #N/A | BF55: =IFERROR(BD55*BE55,"") | BG55: =係数マスタ!$A$12 -> 9 | BI55: =係数マスタ!$B$12 -> #N/A | BJ55: =IFERROR(BH55*BI55,"") | BL55: =係数マスタ!$A$12 -> 9 | BN55: =係数マスタ!$B$12 -> #N/A | BO55: =IFERROR(BM55*BN55,"") | BP55: =係数マスタ!$A$12 -> 9 | BR55: =係数マスタ!$B$12 -> #N/A | BS55: =IFERROR(BQ55*BR55,"") | BT55: =係数マスタ!$A$12 -> 9 | BV55: =係数マスタ!$B$12 -> #N/A | BW55: =IFERROR(BU55*BV55,"") | BX55: =係数マスタ!$A$12 -> 9 | BZ55: =係数マスタ!$B$12 -> #N/A | CA55: =IFERROR(BY55*BZ55,"") | CB55: =係数マスタ!$A$12 -> 9 | CD55: =係数マスタ!$B$12 -> #N/A | CE55: =IFERROR(CC55*CD55,"") | CG55: =係数マスタ!$A$12 -> 9 | CI55: =係数マスタ!$B$12 -> #N/A | CJ55: =IFERROR(CH55*CI55,"") | CK55: =係数マスタ!$A$12 -> 9 | CM55: =係数マスタ!$B$12 -> #N/A | CN55: =IFERROR(CL55*CM55,"") | CO55: =係数マスタ!$A$12 -> 9 | CQ55: =係数マスタ!$B$12 -> #N/A | CR55: =IFERROR(CP55*CQ55,"") | CS55: =係数マスタ!$A$12 -> 9 | CU55: =係数マスタ!$B$12 -> #N/A | CV55: =IFERROR(CT55*CU55,"") | CW55: =係数マスタ!$A$12 -> 9 | CY55: =係数マスタ!$B$12 -> #N/A | CZ55: =IFERROR(CX55*CY55,"")
A56: =係数マスタ!$A$13 -> 10 | C56: =係数マスタ!$B$13 -> #N/A | D56: =IFERROR(B56*C56,"") | E56: =係数マスタ!$A$13 -> 10 | G56: =係数マスタ!$B$13 -> #N/A | H56: =IFERROR(F56*G56,"") | I56: =係数マスタ!$A$13 -> 10 | K56: =係数マスタ!$B$13 -> #N/A | L56: =IFERROR(J56*K56,"") | M56: =係数マスタ!$A$13 -> 10 | O56: =係数マスタ!$B$13 -> #N/A | P56: =IFERROR(N56*O56,"") | Q56: =係数マスタ!$A$13 -> 10 | S56: =係数マスタ!$B$13 -> #N/A | T56: =IFERROR(R56*S56,"") | V56: =係数マスタ!$A$13 -> 10 | X56: =係数マスタ!$B$13 -> #N/A | Y56: =IFERROR(W56*X56,"") | Z56: =係数マスタ!$A$13 -> 10 | AB56: =係数マスタ!$B$13 -> #N/A | AC56: =IFERROR(AA56*AB56,"") | AD56: =係数マスタ!$A$13 -> 10 | AF56: =係数マスタ!$B$13 -> #N/A | AG56: =IFERROR(AE56*AF56,"") | AH56: =係数マスタ!$A$13 -> 10 | AJ56: =係数マスタ!$B$13 -> #N/A | AK56: =IFERROR(AI56*AJ56,"") | AL56: =係数マスタ!$A$13 -> 10 | AN56: =係数マスタ!$B$13 -> #N/A | AO56: =IFERROR(AM56*AN56,"") | AQ56: =係数マスタ!$A$13 -> 10 | AS56: =係数マスタ!$B$13 -> #N/A | AT56: =IFERROR(AR56*AS56,"") | AU56: =係数マスタ!$A$13 -> 10 | AW56: =係数マスタ!$B$13 -> #N/A | AX56: =IFERROR(AV56*AW56,"") | AY56: =係数マスタ!$A$13 -> 10 | BA56: =係数マスタ!$B$13 -> #N/A | BB56: =IFERROR(AZ56*BA56,"") | BC56: =係数マスタ!$A$13 -> 10 | BE56: =係数マスタ!$B$13 -> #N/A | BF56: =IFERROR(BD56*BE56,"") | BG56: =係数マスタ!$A$13 -> 10 | BI56: =係数マスタ!$B$13 -> #N/A | BJ56: =IFERROR(BH56*BI56,"") | BL56: =係数マスタ!$A$13 -> 10 | BN56: =係数マスタ!$B$13 -> #N/A | BO56: =IFERROR(BM56*BN56,"") | BP56: =係数マスタ!$A$13 -> 10 | BR56: =係数マスタ!$B$13 -> #N/A | BS56: =IFERROR(BQ56*BR56,"") | BT56: =係数マスタ!$A$13 -> 10 | BV56: =係数マスタ!$B$13 -> #N/A | BW56: =IFERROR(BU56*BV56,"") | BX56: =係数マスタ!$A$13 -> 10 | BZ56: =係数マスタ!$B$13 -> #N/A | CA56: =IFERROR(BY56*BZ56,"") | CB56: =係数マスタ!$A$13 -> 10 | CD56: =係数マスタ!$B$13 -> #N/A | CE56: =IFERROR(CC56*CD56,"") | CG56: =係数マスタ!$A$13 -> 10 | CI56: =係数マスタ!$B$13 -> #N/A | CJ56: =IFERROR(CH56*CI56,"") | CK56: =係数マスタ!$A$13 -> 10 | CM56: =係数マスタ!$B$13 -> #N/A | CN56: =IFERROR(CL56*CM56,"") | CO56: =係数マスタ!$A$13 -> 10 | CQ56: =係数マスタ!$B$13 -> #N/A | CR56: =IFERROR(CP56*CQ56,"") | CS56: =係数マスタ!$A$13 -> 10 | CU56: =係数マスタ!$B$13 -> #N/A | CV56: =IFERROR(CT56*CU56,"") | CW56: =係数マスタ!$A$13 -> 10 | CY56: =係数マスタ!$B$13 -> #N/A | CZ56: =IFERROR(CX56*CY56,"")
A57: =係数マスタ!$A$14 -> 11 | C57: =係数マスタ!$B$14 -> #N/A | D57: =IFERROR(B57*C57,"") | E57: =係数マスタ!$A$14 -> 11 | G57: =係数マスタ!$B$14 -> #N/A | H57: =IFERROR(F57*G57,"") | I57: =係数マスタ!$A$14 -> 11 | K57: =係数マスタ!$B$14 -> #N/A | L57: =IFERROR(J57*K57,"") | M57: =係数マスタ!$A$14 -> 11 | O57: =係数マスタ!$B$14 -> #N/A | P57: =IFERROR(N57*O57,"") | Q57: =係数マスタ!$A$14 -> 11 | S57: =係数マスタ!$B$14 -> #N/A | T57: =IFERROR(R57*S57,"") | V57: =係数マスタ!$A$14 -> 11 | X57: =係数マスタ!$B$14 -> #N/A | Y57: =IFERROR(W57*X57,"") | Z57: =係数マスタ!$A$14 -> 11 | AB57: =係数マスタ!$B$14 -> #N/A | AC57: =IFERROR(AA57*AB57,"") | AD57: =係数マスタ!$A$14 -> 11 | AF57: =係数マスタ!$B$14 -> #N/A | AG57: =IFERROR(AE57*AF57,"") | AH57: =係数マスタ!$A$14 -> 11 | AJ57: =係数マスタ!$B$14 -> #N/A | AK57: =IFERROR(AI57*AJ57,"") | AL57: =係数マスタ!$A$14 -> 11 | AN57: =係数マスタ!$B$14 -> #N/A | AO57: =IFERROR(AM57*AN57,"") | AQ57: =係数マスタ!$A$14 -> 11 | AS57: =係数マスタ!$B$14 -> #N/A | AT57: =IFERROR(AR57*AS57,"") | AU57: =係数マスタ!$A$14 -> 11 | AW57: =係数マスタ!$B$14 -> #N/A | AX57: =IFERROR(AV57*AW57,"") | AY57: =係数マスタ!$A$14 -> 11 | BA57: =係数マスタ!$B$14 -> #N/A | BB57: =IFERROR(AZ57*BA57,"") | BC57: =係数マスタ!$A$14 -> 11 | BE57: =係数マスタ!$B$14 -> #N/A | BF57: =IFERROR(BD57*BE57,"") | BG57: =係数マスタ!$A$14 -> 11 | BI57: =係数マスタ!$B$14 -> #N/A | BJ57: =IFERROR(BH57*BI57,"") | BL57: =係数マスタ!$A$14 -> 11 | BN57: =係数マスタ!$B$14 -> #N/A | BO57: =IFERROR(BM57*BN57,"") | BP57: =係数マスタ!$A$14 -> 11 | BR57: =係数マスタ!$B$14 -> #N/A | BS57: =IFERROR(BQ57*BR57,"") | BT57: =係数マスタ!$A$14 -> 11 | BV57: =係数マスタ!$B$14 -> #N/A | BW57: =IFERROR(BU57*BV57,"") | BX57: =係数マスタ!$A$14 -> 11 | BZ57: =係数マスタ!$B$14 -> #N/A | CA57: =IFERROR(BY57*BZ57,"") | CB57: =係数マスタ!$A$14 -> 11 | CD57: =係数マスタ!$B$14 -> #N/A | CE57: =IFERROR(CC57*CD57,"") | CG57: =係数マスタ!$A$14 -> 11 | CI57: =係数マスタ!$B$14 -> #N/A | CJ57: =IFERROR(CH57*CI57,"") | CK57: =係数マスタ!$A$14 -> 11 | CM57: =係数マスタ!$B$14 -> #N/A | CN57: =IFERROR(CL57*CM57,"") | CO57: =係数マスタ!$A$14 -> 11 | CQ57: =係数マスタ!$B$14 -> #N/A | CR57: =IFERROR(CP57*CQ57,"") | CS57: =係数マスタ!$A$14 -> 11 | CU57: =係数マスタ!$B$14 -> #N/A | CV57: =IFERROR(CT57*CU57,"") | CW57: =係数マスタ!$A$14 -> 11 | CY57: =係数マスタ!$B$14 -> #N/A | CZ57: =IFERROR(CX57*CY57,"")
A58: =係数マスタ!$A$15 -> 12 | C58: =係数マスタ!$B$15 -> #N/A | D58: =IFERROR(B58*C58,"") | E58: =係数マスタ!$A$15 -> 12 | G58: =係数マスタ!$B$15 -> #N/A | H58: =IFERROR(F58*G58,"") | I58: =係数マスタ!$A$15 -> 12 | K58: =係数マスタ!$B$15 -> #N/A | L58: =IFERROR(J58*K58,"") | M58: =係数マスタ!$A$15 -> 12 | O58: =係数マスタ!$B$15 -> #N/A | P58: =IFERROR(N58*O58,"") | Q58: =係数マスタ!$A$15 -> 12 | S58: =係数マスタ!$B$15 -> #N/A | T58: =IFERROR(R58*S58,"") | V58: =係数マスタ!$A$15 -> 12 | X58: =係数マスタ!$B$15 -> #N/A | Y58: =IFERROR(W58*X58,"") | Z58: =係数マスタ!$A$15 -> 12 | AB58: =係数マスタ!$B$15 -> #N/A | AC58: =IFERROR(AA58*AB58,"") | AD58: =係数マスタ!$A$15 -> 12 | AF58: =係数マスタ!$B$15 -> #N/A | AG58: =IFERROR(AE58*AF58,"") | AH58: =係数マスタ!$A$15 -> 12 | AJ58: =係数マスタ!$B$15 -> #N/A | AK58: =IFERROR(AI58*AJ58,"") | AL58: =係数マスタ!$A$15 -> 12 | AN58: =係数マスタ!$B$15 -> #N/A | AO58: =IFERROR(AM58*AN58,"") | AQ58: =係数マスタ!$A$15 -> 12 | AS58: =係数マスタ!$B$15 -> #N/A | AT58: =IFERROR(AR58*AS58,"") | AU58: =係数マスタ!$A$15 -> 12 | AW58: =係数マスタ!$B$15 -> #N/A | AX58: =IFERROR(AV58*AW58,"") | AY58: =係数マスタ!$A$15 -> 12 | BA58: =係数マスタ!$B$15 -> #N/A | BB58: =IFERROR(AZ58*BA58,"") | BC58: =係数マスタ!$A$15 -> 12 | BE58: =係数マスタ!$B$15 -> #N/A | BF58: =IFERROR(BD58*BE58,"") | BG58: =係数マスタ!$A$15 -> 12 | BI58: =係数マスタ!$B$15 -> #N/A | BJ58: =IFERROR(BH58*BI58,"") | BL58: =係数マスタ!$A$15 -> 12 | BN58: =係数マスタ!$B$15 -> #N/A | BO58: =IFERROR(BM58*BN58,"") | BP58: =係数マスタ!$A$15 -> 12 | BR58: =係数マスタ!$B$15 -> #N/A | BS58: =IFERROR(BQ58*BR58,"") | BT58: =係数マスタ!$A$15 -> 12 | BV58: =係数マスタ!$B$15 -> #N/A | BW58: =IFERROR(BU58*BV58,"") | BX58: =係数マスタ!$A$15 -> 12 | BZ58: =係数マスタ!$B$15 -> #N/A | CA58: =IFERROR(BY58*BZ58,"") | CB58: =係数マスタ!$A$15 -> 12 | CD58: =係数マスタ!$B$15 -> #N/A | CE58: =IFERROR(CC58*CD58,"") | CG58: =係数マスタ!$A$15 -> 12 | CI58: =係数マスタ!$B$15 -> #N/A | CJ58: =IFERROR(CH58*CI58,"") | CK58: =係数マスタ!$A$15 -> 12 | CM58: =係数マスタ!$B$15 -> #N/A | CN58: =IFERROR(CL58*CM58,"") | CO58: =係数マスタ!$A$15 -> 12 | CQ58: =係数マスタ!$B$15 -> #N/A | CR58: =IFERROR(CP58*CQ58,"") | CS58: =係数マスタ!$A$15 -> 12 | CU58: =係数マスタ!$B$15 -> #N/A | CV58: =IFERROR(CT58*CU58,"") | CW58: =係数マスタ!$A$15 -> 12 | CY58: =係数マスタ!$B$15 -> #N/A | CZ58: =IFERROR(CX58*CY58,"")
A59: =係数マスタ!$A$16 -> 13 | C59: =係数マスタ!$B$16 -> #N/A | D59: =IFERROR(B59*C59,"") | E59: =係数マスタ!$A$16 -> 13 | G59: =係数マスタ!$B$16 -> #N/A | H59: =IFERROR(F59*G59,"") | I59: =係数マスタ!$A$16 -> 13 | K59: =係数マスタ!$B$16 -> #N/A | L59: =IFERROR(J59*K59,"") | M59: =係数マスタ!$A$16 -> 13 | O59: =係数マスタ!$B$16 -> #N/A | P59: =IFERROR(N59*O59,"") | Q59: =係数マスタ!$A$16 -> 13 | S59: =係数マスタ!$B$16 -> #N/A | T59: =IFERROR(R59*S59,"") | V59: =係数マスタ!$A$16 -> 13 | X59: =係数マスタ!$B$16 -> #N/A | Y59: =IFERROR(W59*X59,"") | Z59: =係数マスタ!$A$16 -> 13 | AB59: =係数マスタ!$B$16 -> #N/A | AC59: =IFERROR(AA59*AB59,"") | AD59: =係数マスタ!$A$16 -> 13 | AF59: =係数マスタ!$B$16 -> #N/A | AG59: =IFERROR(AE59*AF59,"") | AH59: =係数マスタ!$A$16 -> 13 | AJ59: =係数マスタ!$B$16 -> #N/A | AK59: =IFERROR(AI59*AJ59,"") | AL59: =係数マスタ!$A$16 -> 13 | AN59: =係数マスタ!$B$16 -> #N/A | AO59: =IFERROR(AM59*AN59,"") | AQ59: =係数マスタ!$A$16 -> 13 | AS59: =係数マスタ!$B$16 -> #N/A | AT59: =IFERROR(AR59*AS59,"") | AU59: =係数マスタ!$A$16 -> 13 | AW59: =係数マスタ!$B$16 -> #N/A | AX59: =IFERROR(AV59*AW59,"") | AY59: =係数マスタ!$A$16 -> 13 | BA59: =係数マスタ!$B$16 -> #N/A | BB59: =IFERROR(AZ59*BA59,"") | BC59: =係数マスタ!$A$16 -> 13 | BE59: =係数マスタ!$B$16 -> #N/A | BF59: =IFERROR(BD59*BE59,"") | BG59: =係数マスタ!$A$16 -> 13 | BI59: =係数マスタ!$B$16 -> #N/A | BJ59: =IFERROR(BH59*BI59,"") | BL59: =係数マスタ!$A$16 -> 13 | BN59: =係数マスタ!$B$16 -> #N/A | BO59: =IFERROR(BM59*BN59,"") | BP59: =係数マスタ!$A$16 -> 13 | BR59: =係数マスタ!$B$16 -> #N/A | BS59: =IFERROR(BQ59*BR59,"") | BT59: =係数マスタ!$A$16 -> 13 | BV59: =係数マスタ!$B$16 -> #N/A | BW59: =IFERROR(BU59*BV59,"") | BX59: =係数マスタ!$A$16 -> 13 | BZ59: =係数マスタ!$B$16 -> #N/A | CA59: =IFERROR(BY59*BZ59,"") | CB59: =係数マスタ!$A$16 -> 13 | CD59: =係数マスタ!$B$16 -> #N/A | CE59: =IFERROR(CC59*CD59,"") | CG59: =係数マスタ!$A$16 -> 13 | CI59: =係数マスタ!$B$16 -> #N/A | CJ59: =IFERROR(CH59*CI59,"") | CK59: =係数マスタ!$A$16 -> 13 | CM59: =係数マスタ!$B$16 -> #N/A | CN59: =IFERROR(CL59*CM59,"") | CO59: =係数マスタ!$A$16 -> 13 | CQ59: =係数マスタ!$B$16 -> #N/A | CR59: =IFERROR(CP59*CQ59,"") | CS59: =係数マスタ!$A$16 -> 13 | CU59: =係数マスタ!$B$16 -> #N/A | CV59: =IFERROR(CT59*CU59,"") | CW59: =係数マスタ!$A$16 -> 13 | CY59: =係数マスタ!$B$16 -> #N/A | CZ59: =IFERROR(CX59*CY59,"")
A60: =係数マスタ!$A$17 -> 14 | C60: =係数マスタ!$B$17 -> #N/A | D60: =IFERROR(B60*C60,"") | E60: =係数マスタ!$A$17 -> 14 | G60: =係数マスタ!$B$17 -> #N/A | H60: =IFERROR(F60*G60,"") | I60: =係数マスタ!$A$17 -> 14 | K60: =係数マスタ!$B$17 -> #N/A | L60: =IFERROR(J60*K60,"") | M60: =係数マスタ!$A$17 -> 14 | O60: =係数マスタ!$B$17 -> #N/A | P60: =IFERROR(N60*O60,"") | Q60: =係数マスタ!$A$17 -> 14 | S60: =係数マスタ!$B$17 -> #N/A | T60: =IFERROR(R60*S60,"") | V60: =係数マスタ!$A$17 -> 14 | X60: =係数マスタ!$B$17 -> #N/A | Y60: =IFERROR(W60*X60,"") | Z60: =係数マスタ!$A$17 -> 14 | AB60: =係数マスタ!$B$17 -> #N/A | AC60: =IFERROR(AA60*AB60,"") | AD60: =係数マスタ!$A$17 -> 14 | AF60: =係数マスタ!$B$17 -> #N/A | AG60: =IFERROR(AE60*AF60,"") | AH60: =係数マスタ!$A$17 -> 14 | AJ60: =係数マスタ!$B$17 -> #N/A | AK60: =IFERROR(AI60*AJ60,"") | AL60: =係数マスタ!$A$17 -> 14 | AN60: =係数マスタ!$B$17 -> #N/A | AO60: =IFERROR(AM60*AN60,"") | AQ60: =係数マスタ!$A$17 -> 14 | AS60: =係数マスタ!$B$17 -> #N/A | AT60: =IFERROR(AR60*AS60,"") | AU60: =係数マスタ!$A$17 -> 14 | AW60: =係数マスタ!$B$17 -> #N/A | AX60: =IFERROR(AV60*AW60,"") | AY60: =係数マスタ!$A$17 -> 14 | BA60: =係数マスタ!$B$17 -> #N/A | BB60: =IFERROR(AZ60*BA60,"") | BC60: =係数マスタ!$A$17 -> 14 | BE60: =係数マスタ!$B$17 -> #N/A | BF60: =IFERROR(BD60*BE60,"") | BG60: =係数マスタ!$A$17 -> 14 | BI60: =係数マスタ!$B$17 -> #N/A | BJ60: =IFERROR(BH60*BI60,"") | BL60: =係数マスタ!$A$17 -> 14 | BN60: =係数マスタ!$B$17 -> #N/A | BO60: =IFERROR(BM60*BN60,"") | BP60: =係数マスタ!$A$17 -> 14 | BR60: =係数マスタ!$B$17 -> #N/A | BS60: =IFERROR(BQ60*BR60,"") | BT60: =係数マスタ!$A$17 -> 14 | BV60: =係数マスタ!$B$17 -> #N/A | BW60: =IFERROR(BU60*BV60,"") | BX60: =係数マスタ!$A$17 -> 14 | BZ60: =係数マスタ!$B$17 -> #N/A | CA60: =IFERROR(BY60*BZ60,"") | CB60: =係数マスタ!$A$17 -> 14 | CD60: =係数マスタ!$B$17 -> #N/A | CE60: =IFERROR(CC60*CD60,"") | CG60: =係数マスタ!$A$17 -> 14 | CI60: =係数マスタ!$B$17 -> #N/A | CJ60: =IFERROR(CH60*CI60,"") | CK60: =係数マスタ!$A$17 -> 14 | CM60: =係数マスタ!$B$17 -> #N/A | CN60: =IFERROR(CL60*CM60,"") | CO60: =係数マスタ!$A$17 -> 14 | CQ60: =係数マスタ!$B$17 -> #N/A | CR60: =IFERROR(CP60*CQ60,"") | CS60: =係数マスタ!$A$17 -> 14 | CU60: =係数マスタ!$B$17 -> #N/A | CV60: =IFERROR(CT60*CU60,"") | CW60: =係数マスタ!$A$17 -> 14 | CY60: =係数マスタ!$B$17 -> #N/A | CZ60: =IFERROR(CX60*CY60,"")
A61: =係数マスタ!$A$18 -> 15 | C61: =係数マスタ!$B$18 -> #N/A | D61: =IFERROR(B61*C61,"") | E61: =係数マスタ!$A$18 -> 15 | G61: =係数マスタ!$B$18 -> #N/A | H61: =IFERROR(F61*G61,"") | I61: =係数マスタ!$A$18 -> 15 | K61: =係数マスタ!$B$18 -> #N/A | L61: =IFERROR(J61*K61,"") | M61: =係数マスタ!$A$18 -> 15 | O61: =係数マスタ!$B$18 -> #N/A | P61: =IFERROR(N61*O61,"") | Q61: =係数マスタ!$A$18 -> 15 | S61: =係数マスタ!$B$18 -> #N/A | T61: =IFERROR(R61*S61,"") | V61: =係数マスタ!$A$18 -> 15 | X61: =係数マスタ!$B$18 -> #N/A | Y61: =IFERROR(W61*X61,"") | Z61: =係数マスタ!$A$18 -> 15 | AB61: =係数マスタ!$B$18 -> #N/A | AC61: =IFERROR(AA61*AB61,"") | AD61: =係数マスタ!$A$18 -> 15 | AF61: =係数マスタ!$B$18 -> #N/A | AG61: =IFERROR(AE61*AF61,"") | AH61: =係数マスタ!$A$18 -> 15 | AJ61: =係数マスタ!$B$18 -> #N/A | AK61: =IFERROR(AI61*AJ61,"") | AL61: =係数マスタ!$A$18 -> 15 | AN61: =係数マスタ!$B$18 -> #N/A | AO61: =IFERROR(AM61*AN61,"") | AQ61: =係数マスタ!$A$18 -> 15 | AS61: =係数マスタ!$B$18 -> #N/A | AT61: =IFERROR(AR61*AS61,"") | AU61: =係数マスタ!$A$18 -> 15 | AW61: =係数マスタ!$B$18 -> #N/A | AX61: =IFERROR(AV61*AW61,"") | AY61: =係数マスタ!$A$18 -> 15 | BA61: =係数マスタ!$B$18 -> #N/A | BB61: =IFERROR(AZ61*BA61,"") | BC61: =係数マスタ!$A$18 -> 15 | BE61: =係数マスタ!$B$18 -> #N/A | BF61: =IFERROR(BD61*BE61,"") | BG61: =係数マスタ!$A$18 -> 15 | BI61: =係数マスタ!$B$18 -> #N/A | BJ61: =IFERROR(BH61*BI61,"") | BL61: =係数マスタ!$A$18 -> 15 | BN61: =係数マスタ!$B$18 -> #N/A | BO61: =IFERROR(BM61*BN61,"") | BP61: =係数マスタ!$A$18 -> 15 | BR61: =係数マスタ!$B$18 -> #N/A | BS61: =IFERROR(BQ61*BR61,"") | BT61: =係数マスタ!$A$18 -> 15 | BV61: =係数マスタ!$B$18 -> #N/A | BW61: =IFERROR(BU61*BV61,"") | BX61: =係数マスタ!$A$18 -> 15 | BZ61: =係数マスタ!$B$18 -> #N/A | CA61: =IFERROR(BY61*BZ61,"") | CB61: =係数マスタ!$A$18 -> 15 | CD61: =係数マスタ!$B$18 -> #N/A | CE61: =IFERROR(CC61*CD61,"") | CG61: =係数マスタ!$A$18 -> 15 | CI61: =係数マスタ!$B$18 -> #N/A | CJ61: =IFERROR(CH61*CI61,"") | CK61: =係数マスタ!$A$18 -> 15 | CM61: =係数マスタ!$B$18 -> #N/A | CN61: =IFERROR(CL61*CM61,"") | CO61: =係数マスタ!$A$18 -> 15 | CQ61: =係数マスタ!$B$18 -> #N/A | CR61: =IFERROR(CP61*CQ61,"") | CS61: =係数マスタ!$A$18 -> 15 | CU61: =係数マスタ!$B$18 -> #N/A | CV61: =IFERROR(CT61*CU61,"") | CW61: =係数マスタ!$A$18 -> 15 | CY61: =係数マスタ!$B$18 -> #N/A | CZ61: =IFERROR(CX61*CY61,"")
A62: =係数マスタ!$A$19 | C62: =係数マスタ!$B$19 -> #VALUE! | D62: =IFERROR(B62*C62,"") | E62: =係数マスタ!$A$19 | G62: =係数マスタ!$B$19 -> #VALUE! | H62: =IFERROR(F62*G62,"") | I62: =係数マスタ!$A$19 | K62: =係数マスタ!$B$19 -> #VALUE! | L62: =IFERROR(J62*K62,"") | M62: =係数マスタ!$A$19 | O62: =係数マスタ!$B$19 -> #VALUE! | P62: =IFERROR(N62*O62,"") | Q62: =係数マスタ!$A$19 | S62: =係数マスタ!$B$19 -> #VALUE! | T62: =IFERROR(R62*S62,"") | V62: =係数マスタ!$A$19 | X62: =係数マスタ!$B$19 -> #VALUE! | Y62: =IFERROR(W62*X62,"") | Z62: =係数マスタ!$A$19 | AB62: =係数マスタ!$B$19 -> #VALUE! | AC62: =IFERROR(AA62*AB62,"") | AD62: =係数マスタ!$A$19 | AF62: =係数マスタ!$B$19 -> #VALUE! | AG62: =IFERROR(AE62*AF62,"") | AH62: =係数マスタ!$A$19 | AJ62: =係数マスタ!$B$19 -> #VALUE! | AK62: =IFERROR(AI62*AJ62,"") | AL62: =係数マスタ!$A$19 | AN62: =係数マスタ!$B$19 -> #VALUE! | AO62: =IFERROR(AM62*AN62,"") | AQ62: =係数マスタ!$A$19 | AS62: =係数マスタ!$B$19 -> #VALUE! | AT62: =IFERROR(AR62*AS62,"") | AU62: =係数マスタ!$A$19 | AW62: =係数マスタ!$B$19 -> #VALUE! | AX62: =IFERROR(AV62*AW62,"") | AY62: =係数マスタ!$A$19 | BA62: =係数マスタ!$B$19 -> #VALUE! | BB62: =IFERROR(AZ62*BA62,"") | BC62: =係数マスタ!$A$19 | BE62: =係数マスタ!$B$19 -> #VALUE! | BF62: =IFERROR(BD62*BE62,"") | BG62: =係数マスタ!$A$19 | BI62: =係数マスタ!$B$19 -> #VALUE! | BJ62: =IFERROR(BH62*BI62,"") | BL62: =係数マスタ!$A$19 | BN62: =係数マスタ!$B$19 -> #VALUE! | BO62: =IFERROR(BM62*BN62,"") | BP62: =係数マスタ!$A$19 | BR62: =係数マスタ!$B$19 -> #VALUE! | BS62: =IFERROR(BQ62*BR62,"") | BT62: =係数マスタ!$A$19 | BV62: =係数マスタ!$B$19 -> #VALUE! | BW62: =IFERROR(BU62*BV62,"") | BX62: =係数マスタ!$A$19 | BZ62: =係数マスタ!$B$19 -> #VALUE! | CA62: =IFERROR(BY62*BZ62,"") | CB62: =係数マスタ!$A$19 | CD62: =係数マスタ!$B$19 -> #VALUE! | CE62: =IFERROR(CC62*CD62,"") | CG62: =係数マスタ!$A$19 | CI62: =係数マスタ!$B$19 -> #VALUE! | CJ62: =IFERROR(CH62*CI62,"") | CK62: =係数マスタ!$A$19 | CM62: =係数マスタ!$B$19 -> #VALUE! | CN62: =IFERROR(CL62*CM62,"") | CO62: =係数マスタ!$A$19 | CQ62: =係数マスタ!$B$19 -> #VALUE! | CR62: =IFERROR(CP62*CQ62,"") | CS62: =係数マスタ!$A$19 | CU62: =係数マスタ!$B$19 -> #VALUE! | CV62: =IFERROR(CT62*CU62,"") | CW62: =係数マスタ!$A$19 | CY62: =係数マスタ!$B$19 -> #VALUE! | CZ62: =IFERROR(CX62*CY62,"")
A63: 技術性の得点 | D63: =SUM(D47:D62) -> 0 | E63: 技術性の得点 | H63: =SUM(H47:H62) -> 0 | I63: 技術性の得点 | L63: =SUM(L47:L62) -> 0 | M63: 技術性の得点 | P63: =SUM(P47:P62) -> 0 | Q63: 技術性の得点 | T63: =SUM(T47:T62) -> 0 | V63: 技術性の得点 | Y63: =SUM(Y47:Y62) -> 0 | Z63: 技術性の得点 | AC63: =SUM(AC47:AC62) -> 0 | AD63: 技術性の得点 | AG63: =SUM(AG47:AG62) -> 0 | AH63: 技術性の得点 | AK63: =SUM(AK47:AK62) -> 0 | AL63: 技術性の得点 | AO63: =SUM(AO47:AO62) -> 0 | AQ63: 技術性の得点 | AT63: =SUM(AT47:AT62) -> 0 | AU63: 技術性の得点 | AX63: =SUM(AX47:AX62) -> 0 | AY63: 技術性の得点 | BB63: =SUM(BB47:BB62) -> 0 | BC63: 技術性の得点 | BF63: =SUM(BF47:BF62) -> 0 | BG63: 技術性の得点 | BJ63: =SUM(BJ47:BJ62) -> 0 | BL63: 技術性の得点 | BO63: =SUM(BO47:BO62) -> 0 | BP63: 技術性の得点 | BS63: =SUM(BS47:BS62) -> 0 | BT63: 技術性の得点 | BW63: =SUM(BW47:BW62) -> 0 | BX63: 技術性の得点 | CA63: =SUM(CA47:CA62) -> 0 | CB63: 技術性の得点 | CE63: =SUM(CE47:CE62) -> 0 | CG63: 技術性の得点 | CJ63: =SUM(CJ47:CJ62) -> 0 | CK63: 技術性の得点 | CN63: =SUM(CN47:CN62) -> 0 | CO63: 技術性の得点 | CR63: =SUM(CR47:CR62) -> 0 | CS63: 技術性の得点 | CV63: =SUM(CV47:CV62) -> 0 | CW63: 技術性の得点 | CZ63: =SUM(CZ47:CZ62) -> 0
A65: =係数マスタ!$A$20 -> 16 | C65: =係数マスタ!$B$20 -> #N/A | D65: =B65*C65 -> #N/A | E65: =係数マスタ!$A$20 -> 16 | G65: =係数マスタ!$B$20 -> #N/A | H65: =F65*G65 -> #N/A | I65: =係数マスタ!$A$20 -> 16 | K65: =係数マスタ!$B$20 -> #N/A | L65: =J65*K65 -> #N/A | M65: =係数マスタ!$A$20 -> 16 | O65: =係数マスタ!$B$20 -> #N/A | P65: =N65*O65 -> #N/A | Q65: =係数マスタ!$A$20 -> 16 | S65: =係数マスタ!$B$20 -> #N/A | T65: =R65*S65 -> #N/A | V65: =係数マスタ!$A$20 -> 16 | X65: =係数マスタ!$B$20 -> #N/A | Y65: =W65*X65 -> #N/A | Z65: =係数マスタ!$A$20 -> 16 | AB65: =係数マスタ!$B$20 -> #N/A | AC65: =AA65*AB65 -> #N/A | AD65: =係数マスタ!$A$20 -> 16 | AF65: =係数マスタ!$B$20 -> #N/A | AG65: =AE65*AF65 -> #N/A | AH65: =係数マスタ!$A$20 -> 16 | AJ65: =係数マスタ!$B$20 -> #N/A | AK65: =AI65*AJ65 -> #N/A | AL65: =係数マスタ!$A$20 -> 16 | AN65: =係数マスタ!$B$20 -> #N/A | AO65: =AM65*AN65 -> #N/A | AQ65: =係数マスタ!$A$20 -> 16 | AS65: =係数マスタ!$B$20 -> #N/A | AT65: =AR65*AS65 -> #N/A | AU65: =係数マスタ!$A$20 -> 16 | AW65: =係数マスタ!$B$20 -> #N/A | AX65: =AV65*AW65 -> #N/A | AY65: =係数マスタ!$A$20 -> 16 | BA65: =係数マスタ!$B$20 -> #N/A | BB65: =AZ65*BA65 -> #N/A | BC65: =係数マスタ!$A$20 -> 16 | BE65: =係数マスタ!$B$20 -> #N/A | BF65: =BD65*BE65 -> #N/A | BG65: =係数マスタ!$A$20 -> 16 | BI65: =係数マスタ!$B$20 -> #N/A | BJ65: =BH65*BI65 -> #N/A | BL65: =係数マスタ!$A$20 -> 16 | BN65: =係数マスタ!$B$20 -> #N/A | BO65: =BM65*BN65 -> #N/A | BP65: =係数マスタ!$A$20 -> 16 | BR65: =係数マスタ!$B$20 -> #N/A | BS65: =BQ65*BR65 -> #N/A | BT65: =係数マスタ!$A$20 -> 16 | BV65: =係数マスタ!$B$20 -> #N/A | BW65: =BU65*BV65 -> #N/A | BX65: =係数マスタ!$A$20 -> 16 | BZ65: =係数マスタ!$B$20 -> #N/A | CA65: =BY65*BZ65 -> #N/A | CB65: =係数マスタ!$A$20 -> 16 | CD65: =係数マスタ!$B$20 -> #N/A | CE65: =CC65*CD65 -> #N/A | CG65: =係数マスタ!$A$20 -> 16 | CI65: =係数マスタ!$B$20 -> #N/A | CJ65: =CH65*CI65 -> #N/A | CK65: =係数マスタ!$A$20 -> 16 | CM65: =係数マスタ!$B$20 -> #N/A | CN65: =CL65*CM65 -> #N/A | CO65: =係数マスタ!$A$20 -> 16 | CQ65: =係数マスタ!$B$20 -> #N/A | CR65: =CP65*CQ65 -> #N/A | CS65: =係数マスタ!$A$20 -> 16 | CU65: =係数マスタ!$B$20 -> #N/A | CV65: =CT65*CU65 -> #N/A | CW65: =係数マスタ!$A$20 -> 16 | CY65: =係数マスタ!$B$20 -> #N/A | CZ65: =CX65*CY65 -> #N/A
A66: =係数マスタ!$A$21 -> 17 | C66: =係数マスタ!$B$21 -> #N/A | D66: =B66*C66 -> #N/A | E66: =係数マスタ!$A$21 -> 17 | G66: =係数マスタ!$B$21 -> #N/A | H66: =F66*G66 -> #N/A | I66: =係数マスタ!$A$21 -> 17 | K66: =係数マスタ!$B$21 -> #N/A | L66: =J66*K66 -> #N/A | M66: =係数マスタ!$A$21 -> 17 | O66: =係数マスタ!$B$21 -> #N/A | P66: =N66*O66 -> #N/A | Q66: =係数マスタ!$A$21 -> 17 | S66: =係数マスタ!$B$21 -> #N/A | T66: =R66*S66 -> #N/A | V66: =係数マスタ!$A$21 -> 17 | X66: =係数マスタ!$B$21 -> #N/A | Y66: =W66*X66 -> #N/A | Z66: =係数マスタ!$A$21 -> 17 | AB66: =係数マスタ!$B$21 -> #N/A | AC66: =AA66*AB66 -> #N/A | AD66: =係数マスタ!$A$21 -> 17 | AF66: =係数マスタ!$B$21 -> #N/A | AG66: =AE66*AF66 -> #N/A | AH66: =係数マスタ!$A$21 -> 17 | AJ66: =係数マスタ!$B$21 -> #N/A | AK66: =AI66*AJ66 -> #N/A | AL66: =係数マスタ!$A$21 -> 17 | AN66: =係数マスタ!$B$21 -> #N/A | AO66: =AM66*AN66 -> #N/A | AQ66: =係数マスタ!$A$21 -> 17 | AS66: =係数マスタ!$B$21 -> #N/A | AT66: =AR66*AS66 -> #N/A | AU66: =係数マスタ!$A$21 -> 17 | AW66: =係数マスタ!$B$21 -> #N/A | AX66: =AV66*AW66 -> #N/A | AY66: =係数マスタ!$A$21 -> 17 | BA66: =係数マスタ!$B$21 -> #N/A | BB66: =AZ66*BA66 -> #N/A | BC66: =係数マスタ!$A$21 -> 17 | BE66: =係数マスタ!$B$21 -> #N/A | BF66: =BD66*BE66 -> #N/A | BG66: =係数マスタ!$A$21 -> 17 | BI66: =係数マスタ!$B$21 -> #N/A | BJ66: =BH66*BI66 -> #N/A | BL66: =係数マスタ!$A$21 -> 17 | BN66: =係数マスタ!$B$21 -> #N/A | BO66: =BM66*BN66 -> #N/A | BP66: =係数マスタ!$A$21 -> 17 | BR66: =係数マスタ!$B$21 -> #N/A | BS66: =BQ66*BR66 -> #N/A | BT66: =係数マスタ!$A$21 -> 17 | BV66: =係数マスタ!$B$21 -> #N/A | BW66: =BU66*BV66 -> #N/A | BX66: =係数マスタ!$A$21 -> 17 | BZ66: =係数マスタ!$B$21 -> #N/A | CA66: =BY66*BZ66 -> #N/A | CB66: =係数マスタ!$A$21 -> 17 | CD66: =係数マスタ!$B$21 -> #N/A | CE66: =CC66*CD66 -> #N/A | CG66: =係数マスタ!$A$21 -> 17 | CI66: =係数マスタ!$B$21 -> #N/A | CJ66: =CH66*CI66 -> #N/A | CK66: =係数マスタ!$A$21 -> 17 | CM66: =係数マスタ!$B$21 -> #N/A | CN66: =CL66*CM66 -> #N/A | CO66: =係数マスタ!$A$21 -> 17 | CQ66: =係数マスタ!$B$21 -> #N/A | CR66: =CP66*CQ66 -> #N/A | CS66: =係数マスタ!$A$21 -> 17 | CU66: =係数マスタ!$B$21 -> #N/A | CV66: =CT66*CU66 -> #N/A | CW66: =係数マスタ!$A$21 -> 17 | CY66: =係数マスタ!$B$21 -> #N/A | CZ66: =CX66*CY66 -> #N/A
A67: =係数マスタ!$A$22 -> 18 | C67: =係数マスタ!$B$22 -> #N/A | D67: =B67*C67 -> #N/A | E67: =係数マスタ!$A$22 -> 18 | G67: =係数マスタ!$B$22 -> #N/A | H67: =F67*G67 -> #N/A | I67: =係数マスタ!$A$22 -> 18 | K67: =係数マスタ!$B$22 -> #N/A | L67: =J67*K67 -> #N/A | M67: =係数マスタ!$A$22 -> 18 | O67: =係数マスタ!$B$22 -> #N/A | P67: =N67*O67 -> #N/A | Q67: =係数マスタ!$A$22 -> 18 | S67: =係数マスタ!$B$22 -> #N/A | T67: =R67*S67 -> #N/A | V67: =係数マスタ!$A$22 -> 18 | X67: =係数マスタ!$B$22 -> #N/A | Y67: =W67*X67 -> #N/A | Z67: =係数マスタ!$A$22 -> 18 | AB67: =係数マスタ!$B$22 -> #N/A | AC67: =AA67*AB67 -> #N/A | AD67: =係数マスタ!$A$22 -> 18 | AF67: =係数マスタ!$B$22 -> #N/A | AG67: =AE67*AF67 -> #N/A | AH67: =係数マスタ!$A$22 -> 18 | AJ67: =係数マスタ!$B$22 -> #N/A | AK67: =AI67*AJ67 -> #N/A | AL67: =係数マスタ!$A$22 -> 18 | AN67: =係数マスタ!$B$22 -> #N/A | AO67: =AM67*AN67 -> #N/A | AQ67: =係数マスタ!$A$22 -> 18 | AS67: =係数マスタ!$B$22 -> #N/A | AT67: =AR67*AS67 -> #N/A | AU67: =係数マスタ!$A$22 -> 18 | AW67: =係数マスタ!$B$22 -> #N/A | AX67: =AV67*AW67 -> #N/A | AY67: =係数マスタ!$A$22 -> 18 | BA67: =係数マスタ!$B$22 -> #N/A | BB67: =AZ67*BA67 -> #N/A | BC67: =係数マスタ!$A$22 -> 18 | BE67: =係数マスタ!$B$22 -> #N/A | BF67: =BD67*BE67 -> #N/A | BG67: =係数マスタ!$A$22 -> 18 | BI67: =係数マスタ!$B$22 -> #N/A | BJ67: =BH67*BI67 -> #N/A | BL67: =係数マスタ!$A$22 -> 18 | BN67: =係数マスタ!$B$22 -> #N/A | BO67: =BM67*BN67 -> #N/A | BP67: =係数マスタ!$A$22 -> 18 | BR67: =係数マスタ!$B$22 -> #N/A | BS67: =BQ67*BR67 -> #N/A | BT67: =係数マスタ!$A$22 -> 18 | BV67: =係数マスタ!$B$22 -> #N/A | BW67: =BU67*BV67 -> #N/A | BX67: =係数マスタ!$A$22 -> 18 | BZ67: =係数マスタ!$B$22 -> #N/A | CA67: =BY67*BZ67 -> #N/A | CB67: =係数マスタ!$A$22 -> 18 | CD67: =係数マスタ!$B$22 -> #N/A | CE67: =CC67*CD67 -> #N/A | CG67: =係数マスタ!$A$22 -> 18 | CI67: =係数マスタ!$B$22 -> #N/A | CJ67: =CH67*CI67 -> #N/A | CK67: =係数マスタ!$A$22 -> 18 | CM67: =係数マスタ!$B$22 -> #N/A | CN67: =CL67*CM67 -> #N/A | CO67: =係数マスタ!$A$22 -> 18 | CQ67: =係数マスタ!$B$22 -> #N/A | CR67: =CP67*CQ67 -> #N/A | CS67: =係数マスタ!$A$22 -> 18 | CU67: =係数マスタ!$B$22 -> #N/A | CV67: =CT67*CU67 -> #N/A | CW67: =係数マスタ!$A$22 -> 18 | CY67: =係数マスタ!$B$22 -> #N/A | CZ67: =CX67*CY67 -> #N/A
A68: =係数マスタ!$A$23 -> 19 | C68: =係数マスタ!$B$23 -> #N/A | D68: =B68*C68 -> #N/A | E68: =係数マスタ!$A$23 -> 19 | G68: =係数マスタ!$B$23 -> #N/A | H68: =F68*G68 -> #N/A | I68: =係数マスタ!$A$23 -> 19 | K68: =係数マスタ!$B$23 -> #N/A | L68: =J68*K68 -> #N/A | M68: =係数マスタ!$A$23 -> 19 | O68: =係数マスタ!$B$23 -> #N/A | P68: =N68*O68 -> #N/A | Q68: =係数マスタ!$A$23 -> 19 | S68: =係数マスタ!$B$23 -> #N/A | T68: =R68*S68 -> #N/A | V68: =係数マスタ!$A$23 -> 19 | X68: =係数マスタ!$B$23 -> #N/A | Y68: =W68*X68 -> #N/A | Z68: =係数マスタ!$A$23 -> 19 | AB68: =係数マスタ!$B$23 -> #N/A | AC68: =AA68*AB68 -> #N/A | AD68: =係数マスタ!$A$23 -> 19 | AF68: =係数マスタ!$B$23 -> #N/A | AG68: =AE68*AF68 -> #N/A | AH68: =係数マスタ!$A$23 -> 19 | AJ68: =係数マスタ!$B$23 -> #N/A | AK68: =AI68*AJ68 -> #N/A | AL68: =係数マスタ!$A$23 -> 19 | AN68: =係数マスタ!$B$23 -> #N/A | AO68: =AM68*AN68 -> #N/A | AQ68: =係数マスタ!$A$23 -> 19 | AS68: =係数マスタ!$B$23 -> #N/A | AT68: =AR68*AS68 -> #N/A | AU68: =係数マスタ!$A$23 -> 19 | AW68: =係数マスタ!$B$23 -> #N/A | AX68: =AV68*AW68 -> #N/A | AY68: =係数マスタ!$A$23 -> 19 | BA68: =係数マスタ!$B$23 -> #N/A | BB68: =AZ68*BA68 -> #N/A | BC68: =係数マスタ!$A$23 -> 19 | BE68: =係数マスタ!$B$23 -> #N/A | BF68: =BD68*BE68 -> #N/A | BG68: =係数マスタ!$A$23 -> 19 | BI68: =係数マスタ!$B$23 -> #N/A | BJ68: =BH68*BI68 -> #N/A | BL68: =係数マスタ!$A$23 -> 19 | BN68: =係数マスタ!$B$23 -> #N/A | BO68: =BM68*BN68 -> #N/A | BP68: =係数マスタ!$A$23 -> 19 | BR68: =係数マスタ!$B$23 -> #N/A | BS68: =BQ68*BR68 -> #N/A | BT68: =係数マスタ!$A$23 -> 19 | BV68: =係数マスタ!$B$23 -> #N/A | BW68: =BU68*BV68 -> #N/A | BX68: =係数マスタ!$A$23 -> 19 | BZ68: =係数マスタ!$B$23 -> #N/A | CA68: =BY68*BZ68 -> #N/A | CB68: =係数マスタ!$A$23 -> 19 | CD68: =係数マスタ!$B$23 -> #N/A | CE68: =CC68*CD68 -> #N/A | CG68: =係数マスタ!$A$23 -> 19 | CI68: =係数マスタ!$B$23 -> #N/A | CJ68: =CH68*CI68 -> #N/A | CK68: =係数マスタ!$A$23 -> 19 | CM68: =係数マスタ!$B$23 -> #N/A | CN68: =CL68*CM68 -> #N/A | CO68: =係数マスタ!$A$23 -> 19 | CQ68: =係数マスタ!$B$23 -> #N/A | CR68: =CP68*CQ68 -> #N/A | CS68: =係数マスタ!$A$23 -> 19 | CU68: =係数マスタ!$B$23 -> #N/A | CV68: =CT68*CU68 -> #N/A | CW68: =係数マスタ!$A$23 -> 19 | CY68: =係数マスタ!$B$23 -> #N/A | CZ68: =CX68*CY68 -> #N/A
A69: =係数マスタ!$A$24 -> 20 | C69: =係数マスタ!$B$24 -> #N/A | D69: =B69*C69 -> #N/A | E69: =係数マスタ!$A$24 -> 20 | G69: =係数マスタ!$B$24 -> #N/A | H69: =F69*G69 -> #N/A | I69: =係数マスタ!$A$24 -> 20 | K69: =係数マスタ!$B$24 -> #N/A | L69: =J69*K69 -> #N/A | M69: =係数マスタ!$A$24 -> 20 | O69: =係数マスタ!$B$24 -> #N/A | P69: =N69*O69 -> #N/A | Q69: =係数マスタ!$A$24 -> 20 | S69: =係数マスタ!$B$24 -> #N/A | T69: =R69*S69 -> #N/A | V69: =係数マスタ!$A$24 -> 20 | X69: =係数マスタ!$B$24 -> #N/A | Y69: =W69*X69 -> #N/A | Z69: =係数マスタ!$A$24 -> 20 | AB69: =係数マスタ!$B$24 -> #N/A | AC69: =AA69*AB69 -> #N/A | AD69: =係数マスタ!$A$24 -> 20 | AF69: =係数マスタ!$B$24 -> #N/A | AG69: =AE69*AF69 -> #N/A | AH69: =係数マスタ!$A$24 -> 20 | AJ69: =係数マスタ!$B$24 -> #N/A | AK69: =AI69*AJ69 -> #N/A | AL69: =係数マスタ!$A$24 -> 20 | AN69: =係数マスタ!$B$24 -> #N/A | AO69: =AM69*AN69 -> #N/A | AQ69: =係数マスタ!$A$24 -> 20 | AS69: =係数マスタ!$B$24 -> #N/A | AT69: =AR69*AS69 -> #N/A | AU69: =係数マスタ!$A$24 -> 20 | AW69: =係数マスタ!$B$24 -> #N/A | AX69: =AV69*AW69 -> #N/A | AY69: =係数マスタ!$A$24 -> 20 | BA69: =係数マスタ!$B$24 -> #N/A | BB69: =AZ69*BA69 -> #N/A | BC69: =係数マスタ!$A$24 -> 20 | BE69: =係数マスタ!$B$24 -> #N/A | BF69: =BD69*BE69 -> #N/A | BG69: =係数マスタ!$A$24 -> 20 | BI69: =係数マスタ!$B$24 -> #N/A | BJ69: =BH69*BI69 -> #N/A | BL69: =係数マスタ!$A$24 -> 20 | BN69: =係数マスタ!$B$24 -> #N/A | BO69: =BM69*BN69 -> #N/A | BP69: =係数マスタ!$A$24 -> 20 | BR69: =係数マスタ!$B$24 -> #N/A | BS69: =BQ69*BR69 -> #N/A | BT69: =係数マスタ!$A$24 -> 20 | BV69: =係数マスタ!$B$24 -> #N/A | BW69: =BU69*BV69 -> #N/A | BX69: =係数マスタ!$A$24 -> 20 | BZ69: =係数マスタ!$B$24 -> #N/A | CA69: =BY69*BZ69 -> #N/A | CB69: =係数マスタ!$A$24 -> 20 | CD69: =係数マスタ!$B$24 -> #N/A | CE69: =CC69*CD69 -> #N/A | CG69: =係数マスタ!$A$24 -> 20 | CI69: =係数マスタ!$B$24 -> #N/A | CJ69: =CH69*CI69 -> #N/A | CK69: =係数マスタ!$A$24 -> 20 | CM69: =係数マスタ!$B$24 -> #N/A | CN69: =CL69*CM69 -> #N/A | CO69: =係数マスタ!$A$24 -> 20 | CQ69: =係数マスタ!$B$24 -> #N/A | CR69: =CP69*CQ69 -> #N/A | CS69: =係数マスタ!$A$24 -> 20 | CU69: =係数マスタ!$B$24 -> #N/A | CV69: =CT69*CU69 -> #N/A | CW69: =係数マスタ!$A$24 -> 20 | CY69: =係数マスタ!$B$24 -> #N/A | CZ69: =CX69*CY69 -> #N/A
A70: 芸術性の得点 | D70: =SUM(D65:D69) -> #N/A | E70: 芸術性の得点 | H70: =SUM(H65:H69) -> #N/A | I70: 芸術性の得点 | L70: =SUM(L65:L69) -> #N/A | M70: 芸術性の得点 | P70: =SUM(P65:P69) -> #N/A | Q70: 芸術性の得点 | T70: =SUM(T65:T69) -> #N/A | V70: 芸術性の得点 | Y70: =SUM(Y65:Y69) -> #N/A | Z70: 芸術性の得点 | AC70: =SUM(AC65:AC69) -> #N/A | AD70: 芸術性の得点 | AG70: =SUM(AG65:AG69) -> #N/A | AH70: 芸術性の得点 | AK70: =SUM(AK65:AK69) -> #N/A | AL70: 芸術性の得点 | AO70: =SUM(AO65:AO69) -> #N/A | AQ70: 芸術性の得点 | AT70: =SUM(AT65:AT69) -> #N/A | AU70: 芸術性の得点 | AX70: =SUM(AX65:AX69) -> #N/A | AY70: 芸術性の得点 | BB70: =SUM(BB65:BB69) -> #N/A | BC70: 芸術性の得点 | BF70: =SUM(BF65:BF69) -> #N/A | BG70: 芸術性の得点 | BJ70: =SUM(BJ65:BJ69) -> #N/A | BL70: 芸術性の得点 | BO70: =SUM(BO65:BO69) -> #N/A | BP70: 芸術性の得点 | BS70: =SUM(BS65:BS69) -> #N/A | BT70: 芸術性の得点 | BW70: =SUM(BW65:BW69) -> #N/A | BX70: 芸術性の得点 | CA70: =SUM(CA65:CA69) -> #N/A | CB70: 芸術性の得点 | CE70: =SUM(CE65:CE69) -> #N/A | CG70: 芸術性の得点 | CJ70: =SUM(CJ65:CJ69) -> #N/A | CK70: 芸術性の得点 | CN70: =SUM(CN65:CN69) -> #N/A | CO70: 芸術性の得点 | CR70: =SUM(CR65:CR69) -> #N/A | CS70: 芸術性の得点 | CV70: =SUM(CV65:CV69) -> #N/A | CW70: 芸術性の得点 | CZ70: =SUM(CZ65:CZ69) -> #N/A
A72: 技術性の得点 | D72: =D63 -> 0 | E72: 技術性の得点 | H72: =H63 -> 0 | I72: 技術性の得点 | L72: =L63 -> 0 | M72: 技術性の得点 | P72: =P63 -> 0 | Q72: 技術性の得点 | T72: =T63 -> 0 | V72: 技術性の得点 | Y72: =Y63 -> 0 | Z72: 技術性の得点 | AC72: =AC63 -> 0 | AD72: 技術性の得点 | AG72: =AG63 -> 0 | AH72: 技術性の得点 | AK72: =AK63 -> 0 | AL72: 技術性の得点 | AO72: =AO63 -> 0 | AQ72: 技術性の得点 | AT72: =AT63 -> 0 | AU72: 技術性の得点 | AX72: =AX63 -> 0 | AY72: 技術性の得点 | BB72: =BB63 -> 0 | BC72: 技術性の得点 | BF72: =BF63 -> 0 | BG72: 技術性の得点 | BJ72: =BJ63 -> 0 | BL72: 技術性の得点 | BO72: =BO63 -> 0 | BP72: 技術性の得点 | BS72: =BS63 -> 0 | BT72: 技術性の得点 | BW72: =BW63 -> 0 | BX72: 技術性の得点 | CA72: =CA63 -> 0 | CB72: 技術性の得点 | CE72: =CE63 -> 0 | CG72: 技術性の得点 | CJ72: =CJ63 -> 0 | CK72: 技術性の得点 | CN72: =CN63 -> 0 | CO72: 技術性の得点 | CR72: =CR63 -> 0 | CS72: 技術性の得点 | CV72: =CV63 -> 0 | CW72: 技術性の得点 | CZ72: =CZ63 -> 0
A73: 技術採点を％で表したもの | D73: =ROUND(D72/2,3) -> 0 | E73: 技術採点を％で表したもの | H73: =ROUND(H72/2,3) -> 0 | I73: 技術採点を％で表したもの | L73: =ROUND(L72/2,3) -> 0 | M73: 技術採点を％で表したもの | P73: =ROUND(P72/2,3) -> 0 | Q73: 技術採点を％で表したもの | T73: =ROUND(T72/2,3) -> 0 | V73: 技術採点を％で表したもの | Y73: =ROUND(Y72/2,3) -> 0 | Z73: 技術採点を％で表したもの | AC73: =ROUND(AC72/2,3) -> 0 | AD73: 技術採点を％で表したもの | AG73: =ROUND(AG72/2,3) -> 0 | AH73: 技術採点を％で表したもの | AK73: =ROUND(AK72/2,3) -> 0 | AL73: 技術採点を％で表したもの | AO73: =ROUND(AO72/2,3) -> 0 | AQ73: 技術採点を％で表したもの | AT73: =ROUND(AT72/2,3) -> 0 | AU73: 技術採点を％で表したもの | AX73: =ROUND(AX72/2,3) -> 0 | AY73: 技術採点を％で表したもの | BB73: =ROUND(BB72/2,3) -> 0 | BC73: 技術採点を％で表したもの | BF73: =ROUND(BF72/2,3) -> 0 | BG73: 技術採点を％で表したもの | BJ73: =ROUND(BJ72/2,3) -> 0 | BL73: 技術採点を％で表したもの | BO73: =ROUND(BO72/2,3) -> 0 | BP73: 技術採点を％で表したもの | BS73: =ROUND(BS72/2,3) -> 0 | BT73: 技術採点を％で表したもの | BW73: =ROUND(BW72/2,3) -> 0 | BX73: 技術採点を％で表したもの | CA73: =ROUND(CA72/2,3) -> 0 | CB73: 技術採点を％で表したもの | CE73: =ROUND(CE72/2,3) -> 0 | CG73: 技術採点を％で表したもの | CJ73: =ROUND(CJ72/2,3) -> 0 | CK73: 技術採点を％で表したもの | CN73: =ROUND(CN72/2,3) -> 0 | CO73: 技術採点を％で表したもの | CR73: =ROUND(CR72/2,3) -> 0 | CS73: 技術採点を％で表したもの | CV73: =ROUND(CV72/2,3) -> 0 | CW73: 技術採点を％で表したもの | CZ73: =ROUND(CZ72/2,3) -> 0
A74: ペナルティ - 技術的過失 | E74: ペナルティ - 技術的過失 | I74: ペナルティ - 技術的過失 | M74: ペナルティ - 技術的過失 | Q74: ペナルティ - 技術的過失 | V74: ペナルティ - 技術的過失 | Z74: ペナルティ - 技術的過失 | AD74: ペナルティ - 技術的過失 | AH74: ペナルティ - 技術的過失 | AL74: ペナルティ - 技術的過失 | AQ74: ペナルティ - 技術的過失 | AU74: ペナルティ - 技術的過失 | AY74: ペナルティ - 技術的過失 | BC74: ペナルティ - 技術的過失 | BG74: ペナルティ - 技術的過失 | BL74: ペナルティ - 技術的過失 | BP74: ペナルティ - 技術的過失 | BT74: ペナルティ - 技術的過失 | BX74: ペナルティ - 技術的過失 | CB74: ペナルティ - 技術的過失 | CG74: ペナルティ - 技術的過失 | CK74: ペナルティ - 技術的過失 | CO74: ペナルティ - 技術的過失 | CS74: ペナルティ - 技術的過失 | CW74: ペナルティ - 技術的過失
A75: 技術採点 得点率（最終） | D75: =D73+D74 -> 0 | E75: 技術採点 得点率（最終） | H75: =H73+H74 -> 0 | I75: 技術採点 得点率（最終） | L75: =L73+L74 -> 0 | M75: 技術採点 得点率（最終） | P75: =P73+P74 -> 0 | Q75: 技術採点 得点率（最終） | T75: =T73+T74 -> 0 | V75: 技術採点 得点率（最終） | Y75: =Y73+Y74 -> 0 | Z75: 技術採点 得点率（最終） | AC75: =AC73+AC74 -> 0 | AD75: 技術採点 得点率（最終） | AG75: =AG73+AG74 -> 0 | AH75: 技術採点 得点率（最終） | AK75: =AK73+AK74 -> 0 | AL75: 技術採点 得点率（最終） | AO75: =AO73+AO74 -> 0 | AQ75: 技術採点 得点率（最終） | AT75: =AT73+AT74 -> 0 | AU75: 技術採点 得点率（最終） | AX75: =AX73+AX74 -> 0 | AY75: 技術採点 得点率（最終） | BB75: =BB73+BB74 -> 0 | BC75: 技術採点 得点率（最終） | BF75: =BF73+BF74 -> 0 | BG75: 技術採点 得点率（最終） | BJ75: =BJ73+BJ74 -> 0 | BL75: 技術採点 得点率（最終） | BO75: =BO73+BO74 -> 0 | BP75: 技術採点 得点率（最終） | BS75: =BS73+BS74 -> 0 | BT75: 技術採点 得点率（最終） | BW75: =BW73+BW74 -> 0 | BX75: 技術採点 得点率（最終） | CA75: =CA73+CA74 -> 0 | CB75: 技術採点 得点率（最終） | CE75: =CE73+CE74 -> 0 | CG75: 技術採点 得点率（最終） | CJ75: =CJ73+CJ74 -> 0 | CK75: 技術採点 得点率（最終） | CN75: =CN73+CN74 -> 0 | CO75: 技術採点 得点率（最終） | CR75: =CR73+CR74 -> 0 | CS75: 技術採点 得点率（最終） | CV75: =CV73+CV74 -> 0 | CW75: 技術採点 得点率（最終） | CZ75: =CZ73+CZ74 -> 0
A76: 芸術性の得点 | D76: =D70 -> #N/A | E76: 芸術性の得点 | H76: =H70 -> #N/A | I76: 芸術性の得点 | L76: =L70 -> #N/A | M76: 芸術性の得点 | P76: =P70 -> #N/A | Q76: 芸術性の得点 | T76: =T70 -> #N/A | V76: 芸術性の得点 | Y76: =Y70 -> #N/A | Z76: 芸術性の得点 | AC76: =AC70 -> #N/A | AD76: 芸術性の得点 | AG76: =AG70 -> #N/A | AH76: 芸術性の得点 | AK76: =AK70 -> #N/A | AL76: 芸術性の得点 | AO76: =AO70 -> #N/A | AQ76: 芸術性の得点 | AT76: =AT70 -> #N/A | AU76: 芸術性の得点 | AX76: =AX70 -> #N/A | AY76: 芸術性の得点 | BB76: =BB70 -> #N/A | BC76: 芸術性の得点 | BF76: =BF70 -> #N/A | BG76: 芸術性の得点 | BJ76: =BJ70 -> #N/A | BL76: 芸術性の得点 | BO76: =BO70 -> #N/A | BP76: 芸術性の得点 | BS76: =BS70 -> #N/A | BT76: 芸術性の得点 | BW76: =BW70 -> #N/A | BX76: 芸術性の得点 | CA76: =CA70 -> #N/A | CB76: 芸術性の得点 | CE76: =CE70 -> #N/A | CG76: 芸術性の得点 | CJ76: =CJ70 -> #N/A | CK76: 芸術性の得点 | CN76: =CN70 -> #N/A | CO76: 芸術性の得点 | CR76: =CR70 -> #N/A | CS76: 芸術性の得点 | CV76: =CV70 -> #N/A | CW76: 芸術性の得点 | CZ76: =CZ70 -> #N/A
A77: 芸術採点を％で表したもの | D77: =ROUND(D76/2,3) -> #N/A | E77: 芸術採点を％で表したもの | H77: =ROUND(H76/2,3) -> #N/A | I77: 芸術採点を％で表したもの | L77: =ROUND(L76/2,3) -> #N/A | M77: 芸術採点を％で表したもの | P77: =ROUND(P76/2,3) -> #N/A | Q77: 芸術採点を％で表したもの | T77: =ROUND(T76/2,3) -> #N/A | V77: 芸術採点を％で表したもの | Y77: =ROUND(Y76/2,3) -> #N/A | Z77: 芸術採点を％で表したもの | AC77: =ROUND(AC76/2,3) -> #N/A | AD77: 芸術採点を％で表したもの | AG77: =ROUND(AG76/2,3) -> #N/A | AH77: 芸術採点を％で表したもの | AK77: =ROUND(AK76/2,3) -> #N/A | AL77: 芸術採点を％で表したもの | AO77: =ROUND(AO76/2,3) -> #N/A | AQ77: 芸術採点を％で表したもの | AT77: =ROUND(AT76/2,3) -> #N/A | AU77: 芸術採点を％で表したもの | AX77: =ROUND(AX76/2,3) -> #N/A | AY77: 芸術採点を％で表したもの | BB77: =ROUND(BB76/2,3) -> #N/A | BC77: 芸術採点を％で表したもの | BF77: =ROUND(BF76/2,3) -> #N/A | BG77: 芸術採点を％で表したもの | BJ77: =ROUND(BJ76/2,3) -> #N/A | BL77: 芸術採点を％で表したもの | BO77: =ROUND(BO76/2,3) -> #N/A | BP77: 芸術採点を％で表したもの | BS77: =ROUND(BS76/2,3) -> #N/A | BT77: 芸術採点を％で表したもの | BW77: =ROUND(BW76/2,3) -> #N/A | BX77: 芸術採点を％で表したもの | CA77: =ROUND(CA76/2,3) -> #N/A | CB77: 芸術採点を％で表したもの | CE77: =ROUND(CE76/2,3) -> #N/A | CG77: 芸術採点を％で表したもの | CJ77: =ROUND(CJ76/2,3) -> #N/A | CK77: 芸術採点を％で表したもの | CN77: =ROUND(CN76/2,3) -> #N/A | CO77: 芸術採点を％で表したもの | CR77: =ROUND(CR76/2,3) -> #N/A | CS77: 芸術採点を％で表したもの | CV77: =ROUND(CV76/2,3) -> #N/A | CW77: 芸術採点を％で表したもの | CZ77: =ROUND(CZ76/2,3) -> #N/A
A78: 時間減点 | E78: 時間減点 | I78: 時間減点 | M78: 時間減点 | Q78: 時間減点 | V78: 時間減点 | Z78: 時間減点 | AD78: 時間減点 | AH78: 時間減点 | AL78: 時間減点 | AQ78: 時間減点 | AU78: 時間減点 | AY78: 時間減点 | BC78: 時間減点 | BG78: 時間減点 | BL78: 時間減点 | BP78: 時間減点 | BT78: 時間減点 | BX78: 時間減点 | CB78: 時間減点 | CG78: 時間減点 | CK78: 時間減点 | CO78: 時間減点 | CS78: 時間減点 | CW78: 時間減点
A79: 芸術採点 得点率（最終） | D79: =D77+D78 -> #N/A | E79: 芸術採点 得点率（最終） | H79: =H77+H78 -> #N/A | I79: 芸術採点 得点率（最終） | L79: =L77+L78 -> #N/A | M79: 芸術採点 得点率（最終） | P79: =P77+P78 -> #N/A | Q79: 芸術採点 得点率（最終） | T79: =T77+T78 -> #N/A | V79: 芸術採点 得点率（最終） | Y79: =Y77+Y78 -> #N/A | Z79: 芸術採点 得点率（最終） | AC79: =AC77+AC78 -> #N/A | AD79: 芸術採点 得点率（最終） | AG79: =AG77+AG78 -> #N/A | AH79: 芸術採点 得点率（最終） | AK79: =AK77+AK78 -> #N/A | AL79: 芸術採点 得点率（最終） | AO79: =AO77+AO78 -> #N/A | AQ79: 芸術採点 得点率（最終） | AT79: =AT77+AT78 -> #N/A | AU79: 芸術採点 得点率（最終） | AX79: =AX77+AX78 -> #N/A | AY79: 芸術採点 得点率（最終） | BB79: =BB77+BB78 -> #N/A | BC79: 芸術採点 得点率（最終） | BF79: =BF77+BF78 -> #N/A | BG79: 芸術採点 得点率（最終） | BJ79: =BJ77+BJ78 -> #N/A | BL79: 芸術採点 得点率（最終） | BO79: =BO77+BO78 -> #N/A | BP79: 芸術採点 得点率（最終） | BS79: =BS77+BS78 -> #N/A | BT79: 芸術採点 得点率（最終） | BW79: =BW77+BW78 -> #N/A | BX79: 芸術採点 得点率（最終） | CA79: =CA77+CA78 -> #N/A | CB79: 芸術採点 得点率（最終） | CE79: =CE77+CE78 -> #N/A | CG79: 芸術採点 得点率（最終） | CJ79: =CJ77+CJ78 -> #N/A | CK79: 芸術採点 得点率（最終） | CN79: =CN77+CN78 -> #N/A | CO79: 芸術採点 得点率（最終） | CR79: =CR77+CR78 -> #N/A | CS79: 芸術採点 得点率（最終） | CV79: =CV77+CV78 -> #N/A | CW79: 芸術採点 得点率（最終） | CZ79: =CZ77+CZ78 -> #N/A
A80: 最終得点率 | D80: =ROUND((D75+D79)/2,3) -> #N/A | E80: 最終得点率 | H80: =ROUND((H75+H79)/2,3) -> #N/A | I80: 最終得点率 | L80: =ROUND((L75+L79)/2,3) -> #N/A | M80: 最終得点率 | P80: =ROUND((P75+P79)/2,3) -> #N/A | Q80: 最終得点率 | T80: =ROUND((T75+T79)/2,3) -> #N/A | V80: 最終得点率 | Y80: =ROUND((Y75+Y79)/2,3) -> #N/A | Z80: 最終得点率 | AC80: =ROUND((AC75+AC79)/2,3) -> #N/A | AD80: 最終得点率 | AG80: =ROUND((AG75+AG79)/2,3) -> #N/A | AH80: 最終得点率 | AK80: =ROUND((AK75+AK79)/2,3) -> #N/A | AL80: 最終得点率 | AO80: =ROUND((AO75+AO79)/2,3) -> #N/A | AQ80: 最終得点率 | AT80: =ROUND((AT75+AT79)/2,3) -> #N/A | AU80: 最終得点率 | AX80: =ROUND((AX75+AX79)/2,3) -> #N/A | AY80: 最終得点率 | BB80: =ROUND((BB75+BB79)/2,3) -> #N/A | BC80: 最終得点率 | BF80: =ROUND((BF75+BF79)/2,3) -> #N/A | BG80: 最終得点率 | BJ80: =ROUND((BJ75+BJ79)/2,3) -> #N/A | BL80: 最終得点率 | BO80: =ROUND((BO75+BO79)/2,3) -> #N/A | BP80: 最終得点率 | BS80: =ROUND((BS75+BS79)/2,3) -> #N/A | BT80: 最終得点率 | BW80: =ROUND((BW75+BW79)/2,3) -> #N/A | BX80: 最終得点率 | CA80: =ROUND((CA75+CA79)/2,3) -> #N/A | CB80: 最終得点率 | CE80: =ROUND((CE75+CE79)/2,3) -> #N/A | CG80: 最終得点率 | CJ80: =ROUND((CJ75+CJ79)/2,3) -> #N/A | CK80: 最終得点率 | CN80: =ROUND((CN75+CN79)/2,3) -> #N/A | CO80: 最終得点率 | CR80: =ROUND((CR75+CR79)/2,3) -> #N/A | CS80: 最終得点率 | CV80: =ROUND((CV75+CV79)/2,3) -> #N/A | CW80: 最終得点率 | CZ80: =ROUND((CZ75+CZ79)/2,3) -> #N/A
A81: 技術得点率 | B81: =ROUND((D75+H75+L75+P75+T75)/$AB$1,3) -> #DIV/0! | V81: 技術得点率 | W81: =ROUND((Y75+AC75+AG75+AK75+AO75)/$AB$1,3) -> #DIV/0! | AQ81: 技術得点率 | AR81: =ROUND((AT75+AX75+BB75+BF75+BJ75)/$AB$1,3) -> #DIV/0! | BL81: 技術得点率 | BM81: =ROUND((BO75+BS75+BW75+CA75+CE75)/$AB$1,3) -> #DIV/0! | CG81: 技術得点率 | CH81: =ROUND((CJ75+CN75+CR75+CV75+CZ75)/$AB$1,3) -> #DIV/0!
A82: 芸術得点率 | B82: =ROUND((D79+H79+L79+P79+T79)/$AB$1,3) -> #N/A | V82: 芸術得点率 | W82: =ROUND((Y79+AC79+AG79+AK79+AO79)/$AB$1,3) -> #N/A | AQ82: 芸術得点率 | AR82: =ROUND((AT79+AX79+BB79+BF79+BJ79)/$AB$1,3) -> #N/A | BL82: 芸術得点率 | BM82: =ROUND((BO79+BS79+BW79+CA79+CE79)/$AB$1,3) -> #N/A | CG82: 芸術得点率 | CH82: =ROUND((CJ79+CN79+CR79+CV79+CZ79)/$AB$1,3) -> #N/A
A83: 最終結果 | B83: =IF(T44="",ROUND((D80+H80+L80+P80+T80)/$AB$1,3),T44) -> #N/A | V83: 最終結果 | W83: =IF(AO44="",ROUND((Y80+AC80+AG80+AK80+AO80)/$AB$1,3),AO44) -> #N/A | AQ83: 最終結果 | AR83: =IF(BJ44="",ROUND((AT80+AX80+BB80+BF80+BJ80)/$AB$1,3),BJ44) -> #N/A | BL83: 最終結果 | BM83: =IF(CE44="",ROUND((BO80+BS80+BW80+CA80+CE80)/$AB$1,3),CE44) -> #N/A | CG83: 最終結果 | CH83: =IF(CZ44="",ROUND((CJ80+CN80+CR80+CV80+CZ80)/$AB$1,3),CZ44) -> #N/A
A85: 出番 | B85: =①出番表!$B24 -> 11 | D85: 選手 | E85: =①出番表!$C24 -> 0 | H85: =①出番表!$D24 -> 0 | I85: 馬 | J85: =①出番表!$E24 -> 0 | M85: =①出番表!$F24 -> 0 | N85: 所属 | O85: =①出番表!$G24 -> 0 | S85: 強制処理 | V85: 出番 | W85: =①出番表!$B25 -> 12 | Y85: 選手 | Z85: =①出番表!$C25 -> 0 | AC85: =①出番表!$D25 -> 0 | AD85: 馬 | AE85: =①出番表!$E25 -> 0 | AH85: =①出番表!$F25 -> 0 | AI85: 所属 | AJ85: =①出番表!$G25 -> 0 | AN85: 強制処理 | AQ85: 出番 | AR85: =①出番表!$B26 -> 13 | AT85: 選手 | AU85: =①出番表!$C26 -> 0 | AX85: =①出番表!$D26 -> 0 | AY85: 馬 | AZ85: =①出番表!$E26 -> 0 | BC85: =①出番表!$F26 -> 0 | BD85: 所属 | BE85: =①出番表!$G26 -> 0 | BI85: 強制処理 | BL85: 出番 | BM85: =①出番表!$B27 -> 14 | BO85: 選手 | BP85: =①出番表!$C27 -> 0 | BS85: =①出番表!$D27 -> 0 | BT85: 馬 | BU85: =①出番表!$E27 -> 0 | BX85: =①出番表!$F27 -> 0 | BY85: 所属 | BZ85: =①出番表!$G27 -> 0 | CD85: 強制処理 | CG85: 出番 | CH85: =①出番表!$B28 -> 15 | CJ85: 選手 | CK85: =①出番表!$C28 -> 0 | CN85: =①出番表!$D28 -> 0 | CO85: 馬 | CP85: =①出番表!$E28 -> 0 | CS85: =①出番表!$F28 -> 0 | CT85: 所属 | CU85: =①出番表!$G28 -> 0 | CY85: 強制処理
A86: E | E86: H | I86: C | M86: M | Q86: B | V86: E | Z86: H | AD86: C | AH86: M | AL86: B | AQ86: E | AU86: H | AY86: C | BC86: M | BG86: B | BL86: E | BP86: H | BT86: C | BX86: M | CB86: B | CG86: E | CK86: H | CO86: C | CS86: M | CW86: B
A87: 項目 | B87: 入力 | C87: 係数 | D87: 得点 | E87: 項目 | F87: 入力 | G87: 係数 | H87: 得点 | I87: 項目 | J87: 入力 | K87: 係数 | L87: 得点 | M87: 項目 | N87: 入力 | O87: 係数 | P87: 得点 | Q87: 項目 | R87: 入力 | S87: 係数 | T87: 得点 | V87: 項目 | W87: 入力 | X87: 係数 | Y87: 得点 | Z87: 項目 | AA87: 入力 | AB87: 係数 | AC87: 得点 | AD87: 項目 | AE87: 入力 | AF87: 係数 | AG87: 得点 | AH87: 項目 | AI87: 入力 | AJ87: 係数 | AK87: 得点 | AL87: 項目 | AM87: 入力 | AN87: 係数 | AO87: 得点 | AQ87: 項目 | AR87: 入力 | AS87: 係数 | AT87: 得点 | AU87: 項目 | AV87: 入力 | AW87: 係数 | AX87: 得点 | AY87: 項目 | AZ87: 入力 | BA87: 係数 | BB87: 得点 | BC87: 項目 | BD87: 入力 | BE87: 係数 | BF87: 得点 | BG87: 項目 | BH87: 入力 | BI87: 係数 | BJ87: 得点 | BL87: 項目 | BM87: 入力 | BN87: 係数 | BO87: 得点 | BP87: 項目 | BQ87: 入力 | BR87: 係数 | BS87: 得点 | BT87: 項目 | BU87: 入力 | BV87: 係数 | BW87: 得点 | BX87: 項目 | BY87: 入力 | BZ87: 係数 | CA87: 得点 | CB87: 項目 | CC87: 入力 | CD87: 係数 | CE87: 得点 | CG87: 項目 | CH87: 入力 | CI87: 係数 | CJ87: 得点 | CK87: 項目 | CL87: 入力 | CM87: 係数 | CN87: 得点 | CO87: 項目 | CP87: 入力 | CQ87: 係数 | CR87: 得点 | CS87: 項目 | CT87: 入力 | CU87: 係数 | CV87: 得点 | CW87: 項目 | CX87: 入力 | CY87: 係数 | CZ87: 得点
A88: =係数マスタ!$A$4 -> 1 | C88: =係数マスタ!$B$4 -> #N/A | D88: =IFERROR(B88*C88,"") | E88: =係数マスタ!$A$4 -> 1 | G88: =係数マスタ!$B$4 -> #N/A | H88: =IFERROR(F88*G88,"") | I88: =係数マスタ!$A$4 -> 1 | K88: =係数マスタ!$B$4 -> #N/A | L88: =IFERROR(J88*K88,"") | M88: =係数マスタ!$A$4 -> 1 | O88: =係数マスタ!$B$4 -> #N/A | P88: =IFERROR(N88*O88,"") | Q88: =係数マスタ!$A$4 -> 1 | S88: =係数マスタ!$B$4 -> #N/A | T88: =IFERROR(R88*S88,"") | V88: =係数マスタ!$A$4 -> 1 | X88: =係数マスタ!$B$4 -> #N/A | Y88: =IFERROR(W88*X88,"") | Z88: =係数マスタ!$A$4 -> 1 | AB88: =係数マスタ!$B$4 -> #N/A | AC88: =IFERROR(AA88*AB88,"") | AD88: =係数マスタ!$A$4 -> 1 | AF88: =係数マスタ!$B$4 -> #N/A | AG88: =IFERROR(AE88*AF88,"") | AH88: =係数マスタ!$A$4 -> 1 | AJ88: =係数マスタ!$B$4 -> #N/A | AK88: =IFERROR(AI88*AJ88,"") | AL88: =係数マスタ!$A$4 -> 1 | AN88: =係数マスタ!$B$4 -> #N/A | AO88: =IFERROR(AM88*AN88,"") | AQ88: =係数マスタ!$A$4 -> 1 | AS88: =係数マスタ!$B$4 -> #N/A | AT88: =IFERROR(AR88*AS88,"") | AU88: =係数マスタ!$A$4 -> 1 | AW88: =係数マスタ!$B$4 -> #N/A | AX88: =IFERROR(AV88*AW88,"") | AY88: =係数マスタ!$A$4 -> 1 | BA88: =係数マスタ!$B$4 -> #N/A | BB88: =IFERROR(AZ88*BA88,"") | BC88: =係数マスタ!$A$4 -> 1 | BE88: =係数マスタ!$B$4 -> #N/A | BF88: =IFERROR(BD88*BE88,"") | BG88: =係数マスタ!$A$4 -> 1 | BI88: =係数マスタ!$B$4 -> #N/A | BJ88: =IFERROR(BH88*BI88,"") | BL88: =係数マスタ!$A$4 -> 1 | BN88: =係数マスタ!$B$4 -> #N/A | BO88: =IFERROR(BM88*BN88,"") | BP88: =係数マスタ!$A$4 -> 1 | BR88: =係数マスタ!$B$4 -> #N/A | BS88: =IFERROR(BQ88*BR88,"") | BT88: =係数マスタ!$A$4 -> 1 | BV88: =係数マスタ!$B$4 -> #N/A | BW88: =IFERROR(BU88*BV88,"") | BX88: =係数マスタ!$A$4 -> 1 | BZ88: =係数マスタ!$B$4 -> #N/A | CA88: =IFERROR(BY88*BZ88,"") | CB88: =係数マスタ!$A$4 -> 1 | CD88: =係数マスタ!$B$4 -> #N/A | CE88: =IFERROR(CC88*CD88,"") | CG88: =係数マスタ!$A$4 -> 1 | CI88: =係数マスタ!$B$4 -> #N/A | CJ88: =IFERROR(CH88*CI88,"") | CK88: =係数マスタ!$A$4 -> 1 | CM88: =係数マスタ!$B$4 -> #N/A | CN88: =IFERROR(CL88*CM88,"") | CO88: =係数マスタ!$A$4 -> 1 | CQ88: =係数マスタ!$B$4 -> #N/A | CR88: =IFERROR(CP88*CQ88,"") | CS88: =係数マスタ!$A$4 -> 1 | CU88: =係数マスタ!$B$4 -> #N/A | CV88: =IFERROR(CT88*CU88,"") | CW88: =係数マスタ!$A$4 -> 1 | CY88: =係数マスタ!$B$4 -> #N/A | CZ88: =IFERROR(CX88*CY88,"")
A89: =係数マスタ!$A$5 -> 2 | C89: =係数マスタ!$B$5 -> #N/A | D89: =IFERROR(B89*C89,"") | E89: =係数マスタ!$A$5 -> 2 | G89: =係数マスタ!$B$5 -> #N/A | H89: =IFERROR(F89*G89,"") | I89: =係数マスタ!$A$5 -> 2 | K89: =係数マスタ!$B$5 -> #N/A | L89: =IFERROR(J89*K89,"") | M89: =係数マスタ!$A$5 -> 2 | O89: =係数マスタ!$B$5 -> #N/A | P89: =IFERROR(N89*O89,"") | Q89: =係数マスタ!$A$5 -> 2 | S89: =係数マスタ!$B$5 -> #N/A | T89: =IFERROR(R89*S89,"") | V89: =係数マスタ!$A$5 -> 2 | X89: =係数マスタ!$B$5 -> #N/A | Y89: =IFERROR(W89*X89,"") | Z89: =係数マスタ!$A$5 -> 2 | AB89: =係数マスタ!$B$5 -> #N/A | AC89: =IFERROR(AA89*AB89,"") | AD89: =係数マスタ!$A$5 -> 2 | AF89: =係数マスタ!$B$5 -> #N/A | AG89: =IFERROR(AE89*AF89,"") | AH89: =係数マスタ!$A$5 -> 2 | AJ89: =係数マスタ!$B$5 -> #N/A | AK89: =IFERROR(AI89*AJ89,"") | AL89: =係数マスタ!$A$5 -> 2 | AN89: =係数マスタ!$B$5 -> #N/A | AO89: =IFERROR(AM89*AN89,"") | AQ89: =係数マスタ!$A$5 -> 2 | AS89: =係数マスタ!$B$5 -> #N/A | AT89: =IFERROR(AR89*AS89,"") | AU89: =係数マスタ!$A$5 -> 2 | AW89: =係数マスタ!$B$5 -> #N/A | AX89: =IFERROR(AV89*AW89,"") | AY89: =係数マスタ!$A$5 -> 2 | BA89: =係数マスタ!$B$5 -> #N/A | BB89: =IFERROR(AZ89*BA89,"") | BC89: =係数マスタ!$A$5 -> 2 | BE89: =係数マスタ!$B$5 -> #N/A | BF89: =IFERROR(BD89*BE89,"") | BG89: =係数マスタ!$A$5 -> 2 | BI89: =係数マスタ!$B$5 -> #N/A | BJ89: =IFERROR(BH89*BI89,"") | BL89: =係数マスタ!$A$5 -> 2 | BN89: =係数マスタ!$B$5 -> #N/A | BO89: =IFERROR(BM89*BN89,"") | BP89: =係数マスタ!$A$5 -> 2 | BR89: =係数マスタ!$B$5 -> #N/A | BS89: =IFERROR(BQ89*BR89,"") | BT89: =係数マスタ!$A$5 -> 2 | BV89: =係数マスタ!$B$5 -> #N/A | BW89: =IFERROR(BU89*BV89,"") | BX89: =係数マスタ!$A$5 -> 2 | BZ89: =係数マスタ!$B$5 -> #N/A | CA89: =IFERROR(BY89*BZ89,"") | CB89: =係数マスタ!$A$5 -> 2 | CD89: =係数マスタ!$B$5 -> #N/A | CE89: =IFERROR(CC89*CD89,"") | CG89: =係数マスタ!$A$5 -> 2 | CI89: =係数マスタ!$B$5 -> #N/A | CJ89: =IFERROR(CH89*CI89,"") | CK89: =係数マスタ!$A$5 -> 2 | CM89: =係数マスタ!$B$5 -> #N/A | CN89: =IFERROR(CL89*CM89,"") | CO89: =係数マスタ!$A$5 -> 2 | CQ89: =係数マスタ!$B$5 -> #N/A | CR89: =IFERROR(CP89*CQ89,"") | CS89: =係数マスタ!$A$5 -> 2 | CU89: =係数マスタ!$B$5 -> #N/A | CV89: =IFERROR(CT89*CU89,"") | CW89: =係数マスタ!$A$5 -> 2 | CY89: =係数マスタ!$B$5 -> #N/A | CZ89: =IFERROR(CX89*CY89,"")
A90: =係数マスタ!$A$6 -> 3 | C90: =係数マスタ!$B$6 -> #N/A | D90: =IFERROR(B90*C90,"") | E90: =係数マスタ!$A$6 -> 3 | G90: =係数マスタ!$B$6 -> #N/A | H90: =IFERROR(F90*G90,"") | I90: =係数マスタ!$A$6 -> 3 | K90: =係数マスタ!$B$6 -> #N/A | L90: =IFERROR(J90*K90,"") | M90: =係数マスタ!$A$6 -> 3 | O90: =係数マスタ!$B$6 -> #N/A | P90: =IFERROR(N90*O90,"") | Q90: =係数マスタ!$A$6 -> 3 | S90: =係数マスタ!$B$6 -> #N/A | T90: =IFERROR(R90*S90,"") | V90: =係数マスタ!$A$6 -> 3 | X90: =係数マスタ!$B$6 -> #N/A | Y90: =IFERROR(W90*X90,"") | Z90: =係数マスタ!$A$6 -> 3 | AB90: =係数マスタ!$B$6 -> #N/A | AC90: =IFERROR(AA90*AB90,"") | AD90: =係数マスタ!$A$6 -> 3 | AF90: =係数マスタ!$B$6 -> #N/A | AG90: =IFERROR(AE90*AF90,"") | AH90: =係数マスタ!$A$6 -> 3 | AJ90: =係数マスタ!$B$6 -> #N/A | AK90: =IFERROR(AI90*AJ90,"") | AL90: =係数マスタ!$A$6 -> 3 | AN90: =係数マスタ!$B$6 -> #N/A | AO90: =IFERROR(AM90*AN90,"") | AQ90: =係数マスタ!$A$6 -> 3 | AS90: =係数マスタ!$B$6 -> #N/A | AT90: =IFERROR(AR90*AS90,"") | AU90: =係数マスタ!$A$6 -> 3 | AW90: =係数マスタ!$B$6 -> #N/A | AX90: =IFERROR(AV90*AW90,"") | AY90: =係数マスタ!$A$6 -> 3 | BA90: =係数マスタ!$B$6 -> #N/A | BB90: =IFERROR(AZ90*BA90,"") | BC90: =係数マスタ!$A$6 -> 3 | BE90: =係数マスタ!$B$6 -> #N/A | BF90: =IFERROR(BD90*BE90,"") | BG90: =係数マスタ!$A$6 -> 3 | BI90: =係数マスタ!$B$6 -> #N/A | BJ90: =IFERROR(BH90*BI90,"") | BL90: =係数マスタ!$A$6 -> 3 | BN90: =係数マスタ!$B$6 -> #N/A | BO90: =IFERROR(BM90*BN90,"") | BP90: =係数マスタ!$A$6 -> 3 | BR90: =係数マスタ!$B$6 -> #N/A | BS90: =IFERROR(BQ90*BR90,"") | BT90: =係数マスタ!$A$6 -> 3 | BV90: =係数マスタ!$B$6 -> #N/A | BW90: =IFERROR(BU90*BV90,"") | BX90: =係数マスタ!$A$6 -> 3 | BZ90: =係数マスタ!$B$6 -> #N/A | CA90: =IFERROR(BY90*BZ90,"") | CB90: =係数マスタ!$A$6 -> 3 | CD90: =係数マスタ!$B$6 -> #N/A | CE90: =IFERROR(CC90*CD90,"") | CG90: =係数マスタ!$A$6 -> 3 | CI90: =係数マスタ!$B$6 -> #N/A | CJ90: =IFERROR(CH90*CI90,"") | CK90: =係数マスタ!$A$6 -> 3 | CM90: =係数マスタ!$B$6 -> #N/A | CN90: =IFERROR(CL90*CM90,"") | CO90: =係数マスタ!$A$6 -> 3 | CQ90: =係数マスタ!$B$6 -> #N/A | CR90: =IFERROR(CP90*CQ90,"") | CS90: =係数マスタ!$A$6 -> 3 | CU90: =係数マスタ!$B$6 -> #N/A | CV90: =IFERROR(CT90*CU90,"") | CW90: =係数マスタ!$A$6 -> 3 | CY90: =係数マスタ!$B$6 -> #N/A | CZ90: =IFERROR(CX90*CY90,"")
A91: =係数マスタ!$A$7 -> 4 | C91: =係数マスタ!$B$7 -> #N/A | D91: =IFERROR(B91*C91,"") | E91: =係数マスタ!$A$7 -> 4 | G91: =係数マスタ!$B$7 -> #N/A | H91: =IFERROR(F91*G91,"") | I91: =係数マスタ!$A$7 -> 4 | K91: =係数マスタ!$B$7 -> #N/A | L91: =IFERROR(J91*K91,"") | M91: =係数マスタ!$A$7 -> 4 | O91: =係数マスタ!$B$7 -> #N/A | P91: =IFERROR(N91*O91,"") | Q91: =係数マスタ!$A$7 -> 4 | S91: =係数マスタ!$B$7 -> #N/A | T91: =IFERROR(R91*S91,"") | V91: =係数マスタ!$A$7 -> 4 | X91: =係数マスタ!$B$7 -> #N/A | Y91: =IFERROR(W91*X91,"") | Z91: =係数マスタ!$A$7 -> 4 | AB91: =係数マスタ!$B$7 -> #N/A | AC91: =IFERROR(AA91*AB91,"") | AD91: =係数マスタ!$A$7 -> 4 | AF91: =係数マスタ!$B$7 -> #N/A | AG91: =IFERROR(AE91*AF91,"") | AH91: =係数マスタ!$A$7 -> 4 | AJ91: =係数マスタ!$B$7 -> #N/A | AK91: =IFERROR(AI91*AJ91,"") | AL91: =係数マスタ!$A$7 -> 4 | AN91: =係数マスタ!$B$7 -> #N/A | AO91: =IFERROR(AM91*AN91,"") | AQ91: =係数マスタ!$A$7 -> 4 | AS91: =係数マスタ!$B$7 -> #N/A | AT91: =IFERROR(AR91*AS91,"") | AU91: =係数マスタ!$A$7 -> 4 | AW91: =係数マスタ!$B$7 -> #N/A | AX91: =IFERROR(AV91*AW91,"") | AY91: =係数マスタ!$A$7 -> 4 | BA91: =係数マスタ!$B$7 -> #N/A | BB91: =IFERROR(AZ91*BA91,"") | BC91: =係数マスタ!$A$7 -> 4 | BE91: =係数マスタ!$B$7 -> #N/A | BF91: =IFERROR(BD91*BE91,"") | BG91: =係数マスタ!$A$7 -> 4 | BI91: =係数マスタ!$B$7 -> #N/A | BJ91: =IFERROR(BH91*BI91,"") | BL91: =係数マスタ!$A$7 -> 4 | BN91: =係数マスタ!$B$7 -> #N/A | BO91: =IFERROR(BM91*BN91,"") | BP91: =係数マスタ!$A$7 -> 4 | BR91: =係数マスタ!$B$7 -> #N/A | BS91: =IFERROR(BQ91*BR91,"") | BT91: =係数マスタ!$A$7 -> 4 | BV91: =係数マスタ!$B$7 -> #N/A | BW91: =IFERROR(BU91*BV91,"") | BX91: =係数マスタ!$A$7 -> 4 | BZ91: =係数マスタ!$B$7 -> #N/A | CA91: =IFERROR(BY91*BZ91,"") | CB91: =係数マスタ!$A$7 -> 4 | CD91: =係数マスタ!$B$7 -> #N/A | CE91: =IFERROR(CC91*CD91,"") | CG91: =係数マスタ!$A$7 -> 4 | CI91: =係数マスタ!$B$7 -> #N/A | CJ91: =IFERROR(CH91*CI91,"") | CK91: =係数マスタ!$A$7 -> 4 | CM91: =係数マスタ!$B$7 -> #N/A | CN91: =IFERROR(CL91*CM91,"") | CO91: =係数マスタ!$A$7 -> 4 | CQ91: =係数マスタ!$B$7 -> #N/A | CR91: =IFERROR(CP91*CQ91,"") | CS91: =係数マスタ!$A$7 -> 4 | CU91: =係数マスタ!$B$7 -> #N/A | CV91: =IFERROR(CT91*CU91,"") | CW91: =係数マスタ!$A$7 -> 4 | CY91: =係数マスタ!$B$7 -> #N/A | CZ91: =IFERROR(CX91*CY91,"")
A92: =係数マスタ!$A$8 -> 5 | C92: =係数マスタ!$B$8 -> #N/A | D92: =IFERROR(B92*C92,"") | E92: =係数マスタ!$A$8 -> 5 | G92: =係数マスタ!$B$8 -> #N/A | H92: =IFERROR(F92*G92,"") | I92: =係数マスタ!$A$8 -> 5 | K92: =係数マスタ!$B$8 -> #N/A | L92: =IFERROR(J92*K92,"") | M92: =係数マスタ!$A$8 -> 5 | O92: =係数マスタ!$B$8 -> #N/A | P92: =IFERROR(N92*O92,"") | Q92: =係数マスタ!$A$8 -> 5 | S92: =係数マスタ!$B$8 -> #N/A | T92: =IFERROR(R92*S92,"") | V92: =係数マスタ!$A$8 -> 5 | X92: =係数マスタ!$B$8 -> #N/A | Y92: =IFERROR(W92*X92,"") | Z92: =係数マスタ!$A$8 -> 5 | AB92: =係数マスタ!$B$8 -> #N/A | AC92: =IFERROR(AA92*AB92,"") | AD92: =係数マスタ!$A$8 -> 5 | AF92: =係数マスタ!$B$8 -> #N/A | AG92: =IFERROR(AE92*AF92,"") | AH92: =係数マスタ!$A$8 -> 5 | AJ92: =係数マスタ!$B$8 -> #N/A | AK92: =IFERROR(AI92*AJ92,"") | AL92: =係数マスタ!$A$8 -> 5 | AN92: =係数マスタ!$B$8 -> #N/A | AO92: =IFERROR(AM92*AN92,"") | AQ92: =係数マスタ!$A$8 -> 5 | AS92: =係数マスタ!$B$8 -> #N/A | AT92: =IFERROR(AR92*AS92,"") | AU92: =係数マスタ!$A$8 -> 5 | AW92: =係数マスタ!$B$8 -> #N/A | AX92: =IFERROR(AV92*AW92,"") | AY92: =係数マスタ!$A$8 -> 5 | BA92: =係数マスタ!$B$8 -> #N/A | BB92: =IFERROR(AZ92*BA92,"") | BC92: =係数マスタ!$A$8 -> 5 | BE92: =係数マスタ!$B$8 -> #N/A | BF92: =IFERROR(BD92*BE92,"") | BG92: =係数マスタ!$A$8 -> 5 | BI92: =係数マスタ!$B$8 -> #N/A | BJ92: =IFERROR(BH92*BI92,"") | BL92: =係数マスタ!$A$8 -> 5 | BN92: =係数マスタ!$B$8 -> #N/A | BO92: =IFERROR(BM92*BN92,"") | BP92: =係数マスタ!$A$8 -> 5 | BR92: =係数マスタ!$B$8 -> #N/A | BS92: =IFERROR(BQ92*BR92,"") | BT92: =係数マスタ!$A$8 -> 5 | BV92: =係数マスタ!$B$8 -> #N/A | BW92: =IFERROR(BU92*BV92,"") | BX92: =係数マスタ!$A$8 -> 5 | BZ92: =係数マスタ!$B$8 -> #N/A | CA92: =IFERROR(BY92*BZ92,"") | CB92: =係数マスタ!$A$8 -> 5 | CD92: =係数マスタ!$B$8 -> #N/A | CE92: =IFERROR(CC92*CD92,"") | CG92: =係数マスタ!$A$8 -> 5 | CI92: =係数マスタ!$B$8 -> #N/A | CJ92: =IFERROR(CH92*CI92,"") | CK92: =係数マスタ!$A$8 -> 5 | CM92: =係数マスタ!$B$8 -> #N/A | CN92: =IFERROR(CL92*CM92,"") | CO92: =係数マスタ!$A$8 -> 5 | CQ92: =係数マスタ!$B$8 -> #N/A | CR92: =IFERROR(CP92*CQ92,"") | CS92: =係数マスタ!$A$8 -> 5 | CU92: =係数マスタ!$B$8 -> #N/A | CV92: =IFERROR(CT92*CU92,"") | CW92: =係数マスタ!$A$8 -> 5 | CY92: =係数マスタ!$B$8 -> #N/A | CZ92: =IFERROR(CX92*CY92,"")
A93: =係数マスタ!$A$9 -> 6 | C93: =係数マスタ!$B$9 -> #N/A | D93: =IFERROR(B93*C93,"") | E93: =係数マスタ!$A$9 -> 6 | G93: =係数マスタ!$B$9 -> #N/A | H93: =IFERROR(F93*G93,"") | I93: =係数マスタ!$A$9 -> 6 | K93: =係数マスタ!$B$9 -> #N/A | L93: =IFERROR(J93*K93,"") | M93: =係数マスタ!$A$9 -> 6 | O93: =係数マスタ!$B$9 -> #N/A | P93: =IFERROR(N93*O93,"") | Q93: =係数マスタ!$A$9 -> 6 | S93: =係数マスタ!$B$9 -> #N/A | T93: =IFERROR(R93*S93,"") | V93: =係数マスタ!$A$9 -> 6 | X93: =係数マスタ!$B$9 -> #N/A | Y93: =IFERROR(W93*X93,"") | Z93: =係数マスタ!$A$9 -> 6 | AB93: =係数マスタ!$B$9 -> #N/A | AC93: =IFERROR(AA93*AB93,"") | AD93: =係数マスタ!$A$9 -> 6 | AF93: =係数マスタ!$B$9 -> #N/A | AG93: =IFERROR(AE93*AF93,"") | AH93: =係数マスタ!$A$9 -> 6 | AJ93: =係数マスタ!$B$9 -> #N/A | AK93: =IFERROR(AI93*AJ93,"") | AL93: =係数マスタ!$A$9 -> 6 | AN93: =係数マスタ!$B$9 -> #N/A | AO93: =IFERROR(AM93*AN93,"") | AQ93: =係数マスタ!$A$9 -> 6 | AS93: =係数マスタ!$B$9 -> #N/A | AT93: =IFERROR(AR93*AS93,"") | AU93: =係数マスタ!$A$9 -> 6 | AW93: =係数マスタ!$B$9 -> #N/A | AX93: =IFERROR(AV93*AW93,"") | AY93: =係数マスタ!$A$9 -> 6 | BA93: =係数マスタ!$B$9 -> #N/A | BB93: =IFERROR(AZ93*BA93,"") | BC93: =係数マスタ!$A$9 -> 6 | BE93: =係数マスタ!$B$9 -> #N/A | BF93: =IFERROR(BD93*BE93,"") | BG93: =係数マスタ!$A$9 -> 6 | BI93: =係数マスタ!$B$9 -> #N/A | BJ93: =IFERROR(BH93*BI93,"") | BL93: =係数マスタ!$A$9 -> 6 | BN93: =係数マスタ!$B$9 -> #N/A | BO93: =IFERROR(BM93*BN93,"") | BP93: =係数マスタ!$A$9 -> 6 | BR93: =係数マスタ!$B$9 -> #N/A | BS93: =IFERROR(BQ93*BR93,"") | BT93: =係数マスタ!$A$9 -> 6 | BV93: =係数マスタ!$B$9 -> #N/A | BW93: =IFERROR(BU93*BV93,"") | BX93: =係数マスタ!$A$9 -> 6 | BZ93: =係数マスタ!$B$9 -> #N/A | CA93: =IFERROR(BY93*BZ93,"") | CB93: =係数マスタ!$A$9 -> 6 | CD93: =係数マスタ!$B$9 -> #N/A | CE93: =IFERROR(CC93*CD93,"") | CG93: =係数マスタ!$A$9 -> 6 | CI93: =係数マスタ!$B$9 -> #N/A | CJ93: =IFERROR(CH93*CI93,"") | CK93: =係数マスタ!$A$9 -> 6 | CM93: =係数マスタ!$B$9 -> #N/A | CN93: =IFERROR(CL93*CM93,"") | CO93: =係数マスタ!$A$9 -> 6 | CQ93: =係数マスタ!$B$9 -> #N/A | CR93: =IFERROR(CP93*CQ93,"") | CS93: =係数マスタ!$A$9 -> 6 | CU93: =係数マスタ!$B$9 -> #N/A | CV93: =IFERROR(CT93*CU93,"") | CW93: =係数マスタ!$A$9 -> 6 | CY93: =係数マスタ!$B$9 -> #N/A | CZ93: =IFERROR(CX93*CY93,"")
A94: =係数マスタ!$A$10 -> 7 | C94: =係数マスタ!$B$10 -> #N/A | D94: =IFERROR(B94*C94,"") | E94: =係数マスタ!$A$10 -> 7 | G94: =係数マスタ!$B$10 -> #N/A | H94: =IFERROR(F94*G94,"") | I94: =係数マスタ!$A$10 -> 7 | K94: =係数マスタ!$B$10 -> #N/A | L94: =IFERROR(J94*K94,"") | M94: =係数マスタ!$A$10 -> 7 | O94: =係数マスタ!$B$10 -> #N/A | P94: =IFERROR(N94*O94,"") | Q94: =係数マスタ!$A$10 -> 7 | S94: =係数マスタ!$B$10 -> #N/A | T94: =IFERROR(R94*S94,"") | V94: =係数マスタ!$A$10 -> 7 | X94: =係数マスタ!$B$10 -> #N/A | Y94: =IFERROR(W94*X94,"") | Z94: =係数マスタ!$A$10 -> 7 | AB94: =係数マスタ!$B$10 -> #N/A | AC94: =IFERROR(AA94*AB94,"") | AD94: =係数マスタ!$A$10 -> 7 | AF94: =係数マスタ!$B$10 -> #N/A | AG94: =IFERROR(AE94*AF94,"") | AH94: =係数マスタ!$A$10 -> 7 | AJ94: =係数マスタ!$B$10 -> #N/A | AK94: =IFERROR(AI94*AJ94,"") | AL94: =係数マスタ!$A$10 -> 7 | AN94: =係数マスタ!$B$10 -> #N/A | AO94: =IFERROR(AM94*AN94,"") | AQ94: =係数マスタ!$A$10 -> 7 | AS94: =係数マスタ!$B$10 -> #N/A | AT94: =IFERROR(AR94*AS94,"") | AU94: =係数マスタ!$A$10 -> 7 | AW94: =係数マスタ!$B$10 -> #N/A | AX94: =IFERROR(AV94*AW94,"") | AY94: =係数マスタ!$A$10 -> 7 | BA94: =係数マスタ!$B$10 -> #N/A | BB94: =IFERROR(AZ94*BA94,"") | BC94: =係数マスタ!$A$10 -> 7 | BE94: =係数マスタ!$B$10 -> #N/A | BF94: =IFERROR(BD94*BE94,"") | BG94: =係数マスタ!$A$10 -> 7 | BI94: =係数マスタ!$B$10 -> #N/A | BJ94: =IFERROR(BH94*BI94,"") | BL94: =係数マスタ!$A$10 -> 7 | BN94: =係数マスタ!$B$10 -> #N/A | BO94: =IFERROR(BM94*BN94,"") | BP94: =係数マスタ!$A$10 -> 7 | BR94: =係数マスタ!$B$10 -> #N/A | BS94: =IFERROR(BQ94*BR94,"") | BT94: =係数マスタ!$A$10 -> 7 | BV94: =係数マスタ!$B$10 -> #N/A | BW94: =IFERROR(BU94*BV94,"") | BX94: =係数マスタ!$A$10 -> 7 | BZ94: =係数マスタ!$B$10 -> #N/A | CA94: =IFERROR(BY94*BZ94,"") | CB94: =係数マスタ!$A$10 -> 7 | CD94: =係数マスタ!$B$10 -> #N/A | CE94: =IFERROR(CC94*CD94,"") | CG94: =係数マスタ!$A$10 -> 7 | CI94: =係数マスタ!$B$10 -> #N/A | CJ94: =IFERROR(CH94*CI94,"") | CK94: =係数マスタ!$A$10 -> 7 | CM94: =係数マスタ!$B$10 -> #N/A | CN94: =IFERROR(CL94*CM94,"") | CO94: =係数マスタ!$A$10 -> 7 | CQ94: =係数マスタ!$B$10 -> #N/A | CR94: =IFERROR(CP94*CQ94,"") | CS94: =係数マスタ!$A$10 -> 7 | CU94: =係数マスタ!$B$10 -> #N/A | CV94: =IFERROR(CT94*CU94,"") | CW94: =係数マスタ!$A$10 -> 7 | CY94: =係数マスタ!$B$10 -> #N/A | CZ94: =IFERROR(CX94*CY94,"")
A95: =係数マスタ!$A$11 -> 8 | C95: =係数マスタ!$B$11 -> #N/A | D95: =IFERROR(B95*C95,"") | E95: =係数マスタ!$A$11 -> 8 | G95: =係数マスタ!$B$11 -> #N/A | H95: =IFERROR(F95*G95,"") | I95: =係数マスタ!$A$11 -> 8 | K95: =係数マスタ!$B$11 -> #N/A | L95: =IFERROR(J95*K95,"") | M95: =係数マスタ!$A$11 -> 8 | O95: =係数マスタ!$B$11 -> #N/A | P95: =IFERROR(N95*O95,"") | Q95: =係数マスタ!$A$11 -> 8 | S95: =係数マスタ!$B$11 -> #N/A | T95: =IFERROR(R95*S95,"") | V95: =係数マスタ!$A$11 -> 8 | X95: =係数マスタ!$B$11 -> #N/A | Y95: =IFERROR(W95*X95,"") | Z95: =係数マスタ!$A$11 -> 8 | AB95: =係数マスタ!$B$11 -> #N/A | AC95: =IFERROR(AA95*AB95,"") | AD95: =係数マスタ!$A$11 -> 8 | AF95: =係数マスタ!$B$11 -> #N/A | AG95: =IFERROR(AE95*AF95,"") | AH95: =係数マスタ!$A$11 -> 8 | AJ95: =係数マスタ!$B$11 -> #N/A | AK95: =IFERROR(AI95*AJ95,"") | AL95: =係数マスタ!$A$11 -> 8 | AN95: =係数マスタ!$B$11 -> #N/A | AO95: =IFERROR(AM95*AN95,"") | AQ95: =係数マスタ!$A$11 -> 8 | AS95: =係数マスタ!$B$11 -> #N/A | AT95: =IFERROR(AR95*AS95,"") | AU95: =係数マスタ!$A$11 -> 8 | AW95: =係数マスタ!$B$11 -> #N/A | AX95: =IFERROR(AV95*AW95,"") | AY95: =係数マスタ!$A$11 -> 8 | BA95: =係数マスタ!$B$11 -> #N/A | BB95: =IFERROR(AZ95*BA95,"") | BC95: =係数マスタ!$A$11 -> 8 | BE95: =係数マスタ!$B$11 -> #N/A | BF95: =IFERROR(BD95*BE95,"") | BG95: =係数マスタ!$A$11 -> 8 | BI95: =係数マスタ!$B$11 -> #N/A | BJ95: =IFERROR(BH95*BI95,"") | BL95: =係数マスタ!$A$11 -> 8 | BN95: =係数マスタ!$B$11 -> #N/A | BO95: =IFERROR(BM95*BN95,"") | BP95: =係数マスタ!$A$11 -> 8 | BR95: =係数マスタ!$B$11 -> #N/A | BS95: =IFERROR(BQ95*BR95,"") | BT95: =係数マスタ!$A$11 -> 8 | BV95: =係数マスタ!$B$11 -> #N/A | BW95: =IFERROR(BU95*BV95,"") | BX95: =係数マスタ!$A$11 -> 8 | BZ95: =係数マスタ!$B$11 -> #N/A | CA95: =IFERROR(BY95*BZ95,"") | CB95: =係数マスタ!$A$11 -> 8 | CD95: =係数マスタ!$B$11 -> #N/A | CE95: =IFERROR(CC95*CD95,"") | CG95: =係数マスタ!$A$11 -> 8 | CI95: =係数マスタ!$B$11 -> #N/A | CJ95: =IFERROR(CH95*CI95,"") | CK95: =係数マスタ!$A$11 -> 8 | CM95: =係数マスタ!$B$11 -> #N/A | CN95: =IFERROR(CL95*CM95,"") | CO95: =係数マスタ!$A$11 -> 8 | CQ95: =係数マスタ!$B$11 -> #N/A | CR95: =IFERROR(CP95*CQ95,"") | CS95: =係数マスタ!$A$11 -> 8 | CU95: =係数マスタ!$B$11 -> #N/A | CV95: =IFERROR(CT95*CU95,"") | CW95: =係数マスタ!$A$11 -> 8 | CY95: =係数マスタ!$B$11 -> #N/A | CZ95: =IFERROR(CX95*CY95,"")
A96: =係数マスタ!$A$12 -> 9 | C96: =係数マスタ!$B$12 -> #N/A | D96: =IFERROR(B96*C96,"") | E96: =係数マスタ!$A$12 -> 9 | G96: =係数マスタ!$B$12 -> #N/A | H96: =IFERROR(F96*G96,"") | I96: =係数マスタ!$A$12 -> 9 | K96: =係数マスタ!$B$12 -> #N/A | L96: =IFERROR(J96*K96,"") | M96: =係数マスタ!$A$12 -> 9 | O96: =係数マスタ!$B$12 -> #N/A | P96: =IFERROR(N96*O96,"") | Q96: =係数マスタ!$A$12 -> 9 | S96: =係数マスタ!$B$12 -> #N/A | T96: =IFERROR(R96*S96,"") | V96: =係数マスタ!$A$12 -> 9 | X96: =係数マスタ!$B$12 -> #N/A | Y96: =IFERROR(W96*X96,"") | Z96: =係数マスタ!$A$12 -> 9 | AB96: =係数マスタ!$B$12 -> #N/A | AC96: =IFERROR(AA96*AB96,"") | AD96: =係数マスタ!$A$12 -> 9 | AF96: =係数マスタ!$B$12 -> #N/A | AG96: =IFERROR(AE96*AF96,"") | AH96: =係数マスタ!$A$12 -> 9 | AJ96: =係数マスタ!$B$12 -> #N/A | AK96: =IFERROR(AI96*AJ96,"") | AL96: =係数マスタ!$A$12 -> 9 | AN96: =係数マスタ!$B$12 -> #N/A | AO96: =IFERROR(AM96*AN96,"") | AQ96: =係数マスタ!$A$12 -> 9 | AS96: =係数マスタ!$B$12 -> #N/A | AT96: =IFERROR(AR96*AS96,"") | AU96: =係数マスタ!$A$12 -> 9 | AW96: =係数マスタ!$B$12 -> #N/A | AX96: =IFERROR(AV96*AW96,"") | AY96: =係数マスタ!$A$12 -> 9 | BA96: =係数マスタ!$B$12 -> #N/A | BB96: =IFERROR(AZ96*BA96,"") | BC96: =係数マスタ!$A$12 -> 9 | BE96: =係数マスタ!$B$12 -> #N/A | BF96: =IFERROR(BD96*BE96,"") | BG96: =係数マスタ!$A$12 -> 9 | BI96: =係数マスタ!$B$12 -> #N/A | BJ96: =IFERROR(BH96*BI96,"") | BL96: =係数マスタ!$A$12 -> 9 | BN96: =係数マスタ!$B$12 -> #N/A | BO96: =IFERROR(BM96*BN96,"") | BP96: =係数マスタ!$A$12 -> 9 | BR96: =係数マスタ!$B$12 -> #N/A | BS96: =IFERROR(BQ96*BR96,"") | BT96: =係数マスタ!$A$12 -> 9 | BV96: =係数マスタ!$B$12 -> #N/A | BW96: =IFERROR(BU96*BV96,"") | BX96: =係数マスタ!$A$12 -> 9 | BZ96: =係数マスタ!$B$12 -> #N/A | CA96: =IFERROR(BY96*BZ96,"") | CB96: =係数マスタ!$A$12 -> 9 | CD96: =係数マスタ!$B$12 -> #N/A | CE96: =IFERROR(CC96*CD96,"") | CG96: =係数マスタ!$A$12 -> 9 | CI96: =係数マスタ!$B$12 -> #N/A | CJ96: =IFERROR(CH96*CI96,"") | CK96: =係数マスタ!$A$12 -> 9 | CM96: =係数マスタ!$B$12 -> #N/A | CN96: =IFERROR(CL96*CM96,"") | CO96: =係数マスタ!$A$12 -> 9 | CQ96: =係数マスタ!$B$12 -> #N/A | CR96: =IFERROR(CP96*CQ96,"") | CS96: =係数マスタ!$A$12 -> 9 | CU96: =係数マスタ!$B$12 -> #N/A | CV96: =IFERROR(CT96*CU96,"") | CW96: =係数マスタ!$A$12 -> 9 | CY96: =係数マスタ!$B$12 -> #N/A | CZ96: =IFERROR(CX96*CY96,"")
A97: =係数マスタ!$A$13 -> 10 | C97: =係数マスタ!$B$13 -> #N/A | D97: =IFERROR(B97*C97,"") | E97: =係数マスタ!$A$13 -> 10 | G97: =係数マスタ!$B$13 -> #N/A | H97: =IFERROR(F97*G97,"") | I97: =係数マスタ!$A$13 -> 10 | K97: =係数マスタ!$B$13 -> #N/A | L97: =IFERROR(J97*K97,"") | M97: =係数マスタ!$A$13 -> 10 | O97: =係数マスタ!$B$13 -> #N/A | P97: =IFERROR(N97*O97,"") | Q97: =係数マスタ!$A$13 -> 10 | S97: =係数マスタ!$B$13 -> #N/A | T97: =IFERROR(R97*S97,"") | V97: =係数マスタ!$A$13 -> 10 | X97: =係数マスタ!$B$13 -> #N/A | Y97: =IFERROR(W97*X97,"") | Z97: =係数マスタ!$A$13 -> 10 | AB97: =係数マスタ!$B$13 -> #N/A | AC97: =IFERROR(AA97*AB97,"") | AD97: =係数マスタ!$A$13 -> 10 | AF97: =係数マスタ!$B$13 -> #N/A | AG97: =IFERROR(AE97*AF97,"") | AH97: =係数マスタ!$A$13 -> 10 | AJ97: =係数マスタ!$B$13 -> #N/A | AK97: =IFERROR(AI97*AJ97,"") | AL97: =係数マスタ!$A$13 -> 10 | AN97: =係数マスタ!$B$13 -> #N/A | AO97: =IFERROR(AM97*AN97,"") | AQ97: =係数マスタ!$A$13 -> 10 | AS97: =係数マスタ!$B$13 -> #N/A | AT97: =IFERROR(AR97*AS97,"") | AU97: =係数マスタ!$A$13 -> 10 | AW97: =係数マスタ!$B$13 -> #N/A | AX97: =IFERROR(AV97*AW97,"") | AY97: =係数マスタ!$A$13 -> 10 | BA97: =係数マスタ!$B$13 -> #N/A | BB97: =IFERROR(AZ97*BA97,"") | BC97: =係数マスタ!$A$13 -> 10 | BE97: =係数マスタ!$B$13 -> #N/A | BF97: =IFERROR(BD97*BE97,"") | BG97: =係数マスタ!$A$13 -> 10 | BI97: =係数マスタ!$B$13 -> #N/A | BJ97: =IFERROR(BH97*BI97,"") | BL97: =係数マスタ!$A$13 -> 10 | BN97: =係数マスタ!$B$13 -> #N/A | BO97: =IFERROR(BM97*BN97,"") | BP97: =係数マスタ!$A$13 -> 10 | BR97: =係数マスタ!$B$13 -> #N/A | BS97: =IFERROR(BQ97*BR97,"") | BT97: =係数マスタ!$A$13 -> 10 | BV97: =係数マスタ!$B$13 -> #N/A | BW97: =IFERROR(BU97*BV97,"") | BX97: =係数マスタ!$A$13 -> 10 | BZ97: =係数マスタ!$B$13 -> #N/A | CA97: =IFERROR(BY97*BZ97,"") | CB97: =係数マスタ!$A$13 -> 10 | CD97: =係数マスタ!$B$13 -> #N/A | CE97: =IFERROR(CC97*CD97,"") | CG97: =係数マスタ!$A$13 -> 10 | CI97: =係数マスタ!$B$13 -> #N/A | CJ97: =IFERROR(CH97*CI97,"") | CK97: =係数マスタ!$A$13 -> 10 | CM97: =係数マスタ!$B$13 -> #N/A | CN97: =IFERROR(CL97*CM97,"") | CO97: =係数マスタ!$A$13 -> 10 | CQ97: =係数マスタ!$B$13 -> #N/A | CR97: =IFERROR(CP97*CQ97,"") | CS97: =係数マスタ!$A$13 -> 10 | CU97: =係数マスタ!$B$13 -> #N/A | CV97: =IFERROR(CT97*CU97,"") | CW97: =係数マスタ!$A$13 -> 10 | CY97: =係数マスタ!$B$13 -> #N/A | CZ97: =IFERROR(CX97*CY97,"")
A98: =係数マスタ!$A$14 -> 11 | C98: =係数マスタ!$B$14 -> #N/A | D98: =IFERROR(B98*C98,"") | E98: =係数マスタ!$A$14 -> 11 | G98: =係数マスタ!$B$14 -> #N/A | H98: =IFERROR(F98*G98,"") | I98: =係数マスタ!$A$14 -> 11 | K98: =係数マスタ!$B$14 -> #N/A | L98: =IFERROR(J98*K98,"") | M98: =係数マスタ!$A$14 -> 11 | O98: =係数マスタ!$B$14 -> #N/A | P98: =IFERROR(N98*O98,"") | Q98: =係数マスタ!$A$14 -> 11 | S98: =係数マスタ!$B$14 -> #N/A | T98: =IFERROR(R98*S98,"") | V98: =係数マスタ!$A$14 -> 11 | X98: =係数マスタ!$B$14 -> #N/A | Y98: =IFERROR(W98*X98,"") | Z98: =係数マスタ!$A$14 -> 11 | AB98: =係数マスタ!$B$14 -> #N/A | AC98: =IFERROR(AA98*AB98,"") | AD98: =係数マスタ!$A$14 -> 11 | AF98: =係数マスタ!$B$14 -> #N/A | AG98: =IFERROR(AE98*AF98,"") | AH98: =係数マスタ!$A$14 -> 11 | AJ98: =係数マスタ!$B$14 -> #N/A | AK98: =IFERROR(AI98*AJ98,"") | AL98: =係数マスタ!$A$14 -> 11 | AN98: =係数マスタ!$B$14 -> #N/A | AO98: =IFERROR(AM98*AN98,"") | AQ98: =係数マスタ!$A$14 -> 11 | AS98: =係数マスタ!$B$14 -> #N/A | AT98: =IFERROR(AR98*AS98,"") | AU98: =係数マスタ!$A$14 -> 11 | AW98: =係数マスタ!$B$14 -> #N/A | AX98: =IFERROR(AV98*AW98,"") | AY98: =係数マスタ!$A$14 -> 11 | BA98: =係数マスタ!$B$14 -> #N/A | BB98: =IFERROR(AZ98*BA98,"") | BC98: =係数マスタ!$A$14 -> 11 | BE98: =係数マスタ!$B$14 -> #N/A | BF98: =IFERROR(BD98*BE98,"") | BG98: =係数マスタ!$A$14 -> 11 | BI98: =係数マスタ!$B$14 -> #N/A | BJ98: =IFERROR(BH98*BI98,"") | BL98: =係数マスタ!$A$14 -> 11 | BN98: =係数マスタ!$B$14 -> #N/A | BO98: =IFERROR(BM98*BN98,"") | BP98: =係数マスタ!$A$14 -> 11 | BR98: =係数マスタ!$B$14 -> #N/A | BS98: =IFERROR(BQ98*BR98,"") | BT98: =係数マスタ!$A$14 -> 11 | BV98: =係数マスタ!$B$14 -> #N/A | BW98: =IFERROR(BU98*BV98,"") | BX98: =係数マスタ!$A$14 -> 11 | BZ98: =係数マスタ!$B$14 -> #N/A | CA98: =IFERROR(BY98*BZ98,"") | CB98: =係数マスタ!$A$14 -> 11 | CD98: =係数マスタ!$B$14 -> #N/A | CE98: =IFERROR(CC98*CD98,"") | CG98: =係数マスタ!$A$14 -> 11 | CI98: =係数マスタ!$B$14 -> #N/A | CJ98: =IFERROR(CH98*CI98,"") | CK98: =係数マスタ!$A$14 -> 11 | CM98: =係数マスタ!$B$14 -> #N/A | CN98: =IFERROR(CL98*CM98,"") | CO98: =係数マスタ!$A$14 -> 11 | CQ98: =係数マスタ!$B$14 -> #N/A | CR98: =IFERROR(CP98*CQ98,"") | CS98: =係数マスタ!$A$14 -> 11 | CU98: =係数マスタ!$B$14 -> #N/A | CV98: =IFERROR(CT98*CU98,"") | CW98: =係数マスタ!$A$14 -> 11 | CY98: =係数マスタ!$B$14 -> #N/A | CZ98: =IFERROR(CX98*CY98,"")
A99: =係数マスタ!$A$15 -> 12 | C99: =係数マスタ!$B$15 -> #N/A | D99: =IFERROR(B99*C99,"") | E99: =係数マスタ!$A$15 -> 12 | G99: =係数マスタ!$B$15 -> #N/A | H99: =IFERROR(F99*G99,"") | I99: =係数マスタ!$A$15 -> 12 | K99: =係数マスタ!$B$15 -> #N/A | L99: =IFERROR(J99*K99,"") | M99: =係数マスタ!$A$15 -> 12 | O99: =係数マスタ!$B$15 -> #N/A | P99: =IFERROR(N99*O99,"") | Q99: =係数マスタ!$A$15 -> 12 | S99: =係数マスタ!$B$15 -> #N/A | T99: =IFERROR(R99*S99,"") | V99: =係数マスタ!$A$15 -> 12 | X99: =係数マスタ!$B$15 -> #N/A | Y99: =IFERROR(W99*X99,"") | Z99: =係数マスタ!$A$15 -> 12 | AB99: =係数マスタ!$B$15 -> #N/A | AC99: =IFERROR(AA99*AB99,"") | AD99: =係数マスタ!$A$15 -> 12 | AF99: =係数マスタ!$B$15 -> #N/A | AG99: =IFERROR(AE99*AF99,"") | AH99: =係数マスタ!$A$15 -> 12 | AJ99: =係数マスタ!$B$15 -> #N/A | AK99: =IFERROR(AI99*AJ99,"") | AL99: =係数マスタ!$A$15 -> 12 | AN99: =係数マスタ!$B$15 -> #N/A | AO99: =IFERROR(AM99*AN99,"") | AQ99: =係数マスタ!$A$15 -> 12 | AS99: =係数マスタ!$B$15 -> #N/A | AT99: =IFERROR(AR99*AS99,"") | AU99: =係数マスタ!$A$15 -> 12 | AW99: =係数マスタ!$B$15 -> #N/A | AX99: =IFERROR(AV99*AW99,"") | AY99: =係数マスタ!$A$15 -> 12 | BA99: =係数マスタ!$B$15 -> #N/A | BB99: =IFERROR(AZ99*BA99,"") | BC99: =係数マスタ!$A$15 -> 12 | BE99: =係数マスタ!$B$15 -> #N/A | BF99: =IFERROR(BD99*BE99,"") | BG99: =係数マスタ!$A$15 -> 12 | BI99: =係数マスタ!$B$15 -> #N/A | BJ99: =IFERROR(BH99*BI99,"") | BL99: =係数マスタ!$A$15 -> 12 | BN99: =係数マスタ!$B$15 -> #N/A | BO99: =IFERROR(BM99*BN99,"") | BP99: =係数マスタ!$A$15 -> 12 | BR99: =係数マスタ!$B$15 -> #N/A | BS99: =IFERROR(BQ99*BR99,"") | BT99: =係数マスタ!$A$15 -> 12 | BV99: =係数マスタ!$B$15 -> #N/A | BW99: =IFERROR(BU99*BV99,"") | BX99: =係数マスタ!$A$15 -> 12 | BZ99: =係数マスタ!$B$15 -> #N/A | CA99: =IFERROR(BY99*BZ99,"") | CB99: =係数マスタ!$A$15 -> 12 | CD99: =係数マスタ!$B$15 -> #N/A | CE99: =IFERROR(CC99*CD99,"") | CG99: =係数マスタ!$A$15 -> 12 | CI99: =係数マスタ!$B$15 -> #N/A | CJ99: =IFERROR(CH99*CI99,"") | CK99: =係数マスタ!$A$15 -> 12 | CM99: =係数マスタ!$B$15 -> #N/A | CN99: =IFERROR(CL99*CM99,"") | CO99: =係数マスタ!$A$15 -> 12 | CQ99: =係数マスタ!$B$15 -> #N/A | CR99: =IFERROR(CP99*CQ99,"") | CS99: =係数マスタ!$A$15 -> 12 | CU99: =係数マスタ!$B$15 -> #N/A | CV99: =IFERROR(CT99*CU99,"") | CW99: =係数マスタ!$A$15 -> 12 | CY99: =係数マスタ!$B$15 -> #N/A | CZ99: =IFERROR(CX99*CY99,"")
A100: =係数マスタ!$A$16 -> 13 | C100: =係数マスタ!$B$16 -> #N/A | D100: =IFERROR(B100*C100,"") | E100: =係数マスタ!$A$16 -> 13 | G100: =係数マスタ!$B$16 -> #N/A | H100: =IFERROR(F100*G100,"") | I100: =係数マスタ!$A$16 -> 13 | K100: =係数マスタ!$B$16 -> #N/A | L100: =IFERROR(J100*K100,"") | M100: =係数マスタ!$A$16 -> 13 | O100: =係数マスタ!$B$16 -> #N/A | P100: =IFERROR(N100*O100,"") | Q100: =係数マスタ!$A$16 -> 13 | S100: =係数マスタ!$B$16 -> #N/A | T100: =IFERROR(R100*S100,"") | V100: =係数マスタ!$A$16 -> 13 | X100: =係数マスタ!$B$16 -> #N/A | Y100: =IFERROR(W100*X100,"") | Z100: =係数マスタ!$A$16 -> 13 | AB100: =係数マスタ!$B$16 -> #N/A | AC100: =IFERROR(AA100*AB100,"") | AD100: =係数マスタ!$A$16 -> 13 | AF100: =係数マスタ!$B$16 -> #N/A | AG100: =IFERROR(AE100*AF100,"") | AH100: =係数マスタ!$A$16 -> 13 | AJ100: =係数マスタ!$B$16 -> #N/A | AK100: =IFERROR(AI100*AJ100,"") | AL100: =係数マスタ!$A$16 -> 13 | AN100: =係数マスタ!$B$16 -> #N/A | AO100: =IFERROR(AM100*AN100,"") | AQ100: =係数マスタ!$A$16 -> 13 | AS100: =係数マスタ!$B$16 -> #N/A | AT100: =IFERROR(AR100*AS100,"") | AU100: =係数マスタ!$A$16 -> 13 | AW100: =係数マスタ!$B$16 -> #N/A | AX100: =IFERROR(AV100*AW100,"") | AY100: =係数マスタ!$A$16 -> 13 | BA100: =係数マスタ!$B$16 -> #N/A | BB100: =IFERROR(AZ100*BA100,"") | BC100: =係数マスタ!$A$16 -> 13 | BE100: =係数マスタ!$B$16 -> #N/A | BF100: =IFERROR(BD100*BE100,"") | BG100: =係数マスタ!$A$16 -> 13 | BI100: =係数マスタ!$B$16 -> #N/A | BJ100: =IFERROR(BH100*BI100,"") | BL100: =係数マスタ!$A$16 -> 13 | BN100: =係数マスタ!$B$16 -> #N/A | BO100: =IFERROR(BM100*BN100,"") | BP100: =係数マスタ!$A$16 -> 13 | BR100: =係数マスタ!$B$16 -> #N/A | BS100: =IFERROR(BQ100*BR100,"") | BT100: =係数マスタ!$A$16 -> 13 | BV100: =係数マスタ!$B$16 -> #N/A | BW100: =IFERROR(BU100*BV100,"") | BX100: =係数マスタ!$A$16 -> 13 | BZ100: =係数マスタ!$B$16 -> #N/A | CA100: =IFERROR(BY100*BZ100,"") | CB100: =係数マスタ!$A$16 -> 13 | CD100: =係数マスタ!$B$16 -> #N/A | CE100: =IFERROR(CC100*CD100,"") | CG100: =係数マスタ!$A$16 -> 13 | CI100: =係数マスタ!$B$16 -> #N/A | CJ100: =IFERROR(CH100*CI100,"") | CK100: =係数マスタ!$A$16 -> 13 | CM100: =係数マスタ!$B$16 -> #N/A | CN100: =IFERROR(CL100*CM100,"") | CO100: =係数マスタ!$A$16 -> 13 | CQ100: =係数マスタ!$B$16 -> #N/A | CR100: =IFERROR(CP100*CQ100,"") | CS100: =係数マスタ!$A$16 -> 13 | CU100: =係数マスタ!$B$16 -> #N/A | CV100: =IFERROR(CT100*CU100,"") | CW100: =係数マスタ!$A$16 -> 13 | CY100: =係数マスタ!$B$16 -> #N/A | CZ100: =IFERROR(CX100*CY100,"")
A101: =係数マスタ!$A$17 -> 14 | C101: =係数マスタ!$B$17 -> #N/A | D101: =IFERROR(B101*C101,"") | E101: =係数マスタ!$A$17 -> 14 | G101: =係数マスタ!$B$17 -> #N/A | H101: =IFERROR(F101*G101,"") | I101: =係数マスタ!$A$17 -> 14 | K101: =係数マスタ!$B$17 -> #N/A | L101: =IFERROR(J101*K101,"") | M101: =係数マスタ!$A$17 -> 14 | O101: =係数マスタ!$B$17 -> #N/A | P101: =IFERROR(N101*O101,"") | Q101: =係数マスタ!$A$17 -> 14 | S101: =係数マスタ!$B$17 -> #N/A | T101: =IFERROR(R101*S101,"") | V101: =係数マスタ!$A$17 -> 14 | X101: =係数マスタ!$B$17 -> #N/A | Y101: =IFERROR(W101*X101,"") | Z101: =係数マスタ!$A$17 -> 14 | AB101: =係数マスタ!$B$17 -> #N/A | AC101: =IFERROR(AA101*AB101,"") | AD101: =係数マスタ!$A$17 -> 14 | AF101: =係数マスタ!$B$17 -> #N/A | AG101: =IFERROR(AE101*AF101,"") | AH101: =係数マスタ!$A$17 -> 14 | AJ101: =係数マスタ!$B$17 -> #N/A | AK101: =IFERROR(AI101*AJ101,"") | AL101: =係数マスタ!$A$17 -> 14 | AN101: =係数マスタ!$B$17 -> #N/A | AO101: =IFERROR(AM101*AN101,"") | AQ101: =係数マスタ!$A$17 -> 14 | AS101: =係数マスタ!$B$17 -> #N/A | AT101: =IFERROR(AR101*AS101,"") | AU101: =係数マスタ!$A$17 -> 14 | AW101: =係数マスタ!$B$17 -> #N/A | AX101: =IFERROR(AV101*AW101,"") | AY101: =係数マスタ!$A$17 -> 14 | BA101: =係数マスタ!$B$17 -> #N/A | BB101: =IFERROR(AZ101*BA101,"") | BC101: =係数マスタ!$A$17 -> 14 | BE101: =係数マスタ!$B$17 -> #N/A | BF101: =IFERROR(BD101*BE101,"") | BG101: =係数マスタ!$A$17 -> 14 | BI101: =係数マスタ!$B$17 -> #N/A | BJ101: =IFERROR(BH101*BI101,"") | BL101: =係数マスタ!$A$17 -> 14 | BN101: =係数マスタ!$B$17 -> #N/A | BO101: =IFERROR(BM101*BN101,"") | BP101: =係数マスタ!$A$17 -> 14 | BR101: =係数マスタ!$B$17 -> #N/A | BS101: =IFERROR(BQ101*BR101,"") | BT101: =係数マスタ!$A$17 -> 14 | BV101: =係数マスタ!$B$17 -> #N/A | BW101: =IFERROR(BU101*BV101,"") | BX101: =係数マスタ!$A$17 -> 14 | BZ101: =係数マスタ!$B$17 -> #N/A | CA101: =IFERROR(BY101*BZ101,"") | CB101: =係数マスタ!$A$17 -> 14 | CD101: =係数マスタ!$B$17 -> #N/A | CE101: =IFERROR(CC101*CD101,"") | CG101: =係数マスタ!$A$17 -> 14 | CI101: =係数マスタ!$B$17 -> #N/A | CJ101: =IFERROR(CH101*CI101,"") | CK101: =係数マスタ!$A$17 -> 14 | CM101: =係数マスタ!$B$17 -> #N/A | CN101: =IFERROR(CL101*CM101,"") | CO101: =係数マスタ!$A$17 -> 14 | CQ101: =係数マスタ!$B$17 -> #N/A | CR101: =IFERROR(CP101*CQ101,"") | CS101: =係数マスタ!$A$17 -> 14 | CU101: =係数マスタ!$B$17 -> #N/A | CV101: =IFERROR(CT101*CU101,"") | CW101: =係数マスタ!$A$17 -> 14 | CY101: =係数マスタ!$B$17 -> #N/A | CZ101: =IFERROR(CX101*CY101,"")
A102: =係数マスタ!$A$18 -> 15 | C102: =係数マスタ!$B$18 -> #N/A | D102: =IFERROR(B102*C102,"") | E102: =係数マスタ!$A$18 -> 15 | G102: =係数マスタ!$B$18 -> #N/A | H102: =IFERROR(F102*G102,"") | I102: =係数マスタ!$A$18 -> 15 | K102: =係数マスタ!$B$18 -> #N/A | L102: =IFERROR(J102*K102,"") | M102: =係数マスタ!$A$18 -> 15 | O102: =係数マスタ!$B$18 -> #N/A | P102: =IFERROR(N102*O102,"") | Q102: =係数マスタ!$A$18 -> 15 | S102: =係数マスタ!$B$18 -> #N/A | T102: =IFERROR(R102*S102,"") | V102: =係数マスタ!$A$18 -> 15 | X102: =係数マスタ!$B$18 -> #N/A | Y102: =IFERROR(W102*X102,"") | Z102: =係数マスタ!$A$18 -> 15 | AB102: =係数マスタ!$B$18 -> #N/A | AC102: =IFERROR(AA102*AB102,"") | AD102: =係数マスタ!$A$18 -> 15 | AF102: =係数マスタ!$B$18 -> #N/A | AG102: =IFERROR(AE102*AF102,"") | AH102: =係数マスタ!$A$18 -> 15 | AJ102: =係数マスタ!$B$18 -> #N/A | AK102: =IFERROR(AI102*AJ102,"") | AL102: =係数マスタ!$A$18 -> 15 | AN102: =係数マスタ!$B$18 -> #N/A | AO102: =IFERROR(AM102*AN102,"") | AQ102: =係数マスタ!$A$18 -> 15 | AS102: =係数マスタ!$B$18 -> #N/A | AT102: =IFERROR(AR102*AS102,"") | AU102: =係数マスタ!$A$18 -> 15 | AW102: =係数マスタ!$B$18 -> #N/A | AX102: =IFERROR(AV102*AW102,"") | AY102: =係数マスタ!$A$18 -> 15 | BA102: =係数マスタ!$B$18 -> #N/A | BB102: =IFERROR(AZ102*BA102,"") | BC102: =係数マスタ!$A$18 -> 15 | BE102: =係数マスタ!$B$18 -> #N/A | BF102: =IFERROR(BD102*BE102,"") | BG102: =係数マスタ!$A$18 -> 15 | BI102: =係数マスタ!$B$18 -> #N/A | BJ102: =IFERROR(BH102*BI102,"") | BL102: =係数マスタ!$A$18 -> 15 | BN102: =係数マスタ!$B$18 -> #N/A | BO102: =IFERROR(BM102*BN102,"") | BP102: =係数マスタ!$A$18 -> 15 | BR102: =係数マスタ!$B$18 -> #N/A | BS102: =IFERROR(BQ102*BR102,"") | BT102: =係数マスタ!$A$18 -> 15 | BV102: =係数マスタ!$B$18 -> #N/A | BW102: =IFERROR(BU102*BV102,"") | BX102: =係数マスタ!$A$18 -> 15 | BZ102: =係数マスタ!$B$18 -> #N/A | CA102: =IFERROR(BY102*BZ102,"") | CB102: =係数マスタ!$A$18 -> 15 | CD102: =係数マスタ!$B$18 -> #N/A | CE102: =IFERROR(CC102*CD102,"") | CG102: =係数マスタ!$A$18 -> 15 | CI102: =係数マスタ!$B$18 -> #N/A | CJ102: =IFERROR(CH102*CI102,"") | CK102: =係数マスタ!$A$18 -> 15 | CM102: =係数マスタ!$B$18 -> #N/A | CN102: =IFERROR(CL102*CM102,"") | CO102: =係数マスタ!$A$18 -> 15 | CQ102: =係数マスタ!$B$18 -> #N/A | CR102: =IFERROR(CP102*CQ102,"") | CS102: =係数マスタ!$A$18 -> 15 | CU102: =係数マスタ!$B$18 -> #N/A | CV102: =IFERROR(CT102*CU102,"") | CW102: =係数マスタ!$A$18 -> 15 | CY102: =係数マスタ!$B$18 -> #N/A | CZ102: =IFERROR(CX102*CY102,"")
A103: =係数マスタ!$A$19 | C103: =係数マスタ!$B$19 -> #VALUE! | D103: =IFERROR(B103*C103,"") | E103: =係数マスタ!$A$19 | G103: =係数マスタ!$B$19 -> #VALUE! | H103: =IFERROR(F103*G103,"") | I103: =係数マスタ!$A$19 | K103: =係数マスタ!$B$19 -> #VALUE! | L103: =IFERROR(J103*K103,"") | M103: =係数マスタ!$A$19 | O103: =係数マスタ!$B$19 -> #VALUE! | P103: =IFERROR(N103*O103,"") | Q103: =係数マスタ!$A$19 | S103: =係数マスタ!$B$19 -> #VALUE! | T103: =IFERROR(R103*S103,"") | V103: =係数マスタ!$A$19 | X103: =係数マスタ!$B$19 -> #VALUE! | Y103: =IFERROR(W103*X103,"") | Z103: =係数マスタ!$A$19 | AB103: =係数マスタ!$B$19 -> #VALUE! | AC103: =IFERROR(AA103*AB103,"") | AD103: =係数マスタ!$A$19 | AF103: =係数マスタ!$B$19 -> #VALUE! | AG103: =IFERROR(AE103*AF103,"") | AH103: =係数マスタ!$A$19 | AJ103: =係数マスタ!$B$19 -> #VALUE! | AK103: =IFERROR(AI103*AJ103,"") | AL103: =係数マスタ!$A$19 | AN103: =係数マスタ!$B$19 -> #VALUE! | AO103: =IFERROR(AM103*AN103,"") | AQ103: =係数マスタ!$A$19 | AS103: =係数マスタ!$B$19 -> #VALUE! | AT103: =IFERROR(AR103*AS103,"") | AU103: =係数マスタ!$A$19 | AW103: =係数マスタ!$B$19 -> #VALUE! | AX103: =IFERROR(AV103*AW103,"") | AY103: =係数マスタ!$A$19 | BA103: =係数マスタ!$B$19 -> #VALUE! | BB103: =IFERROR(AZ103*BA103,"") | BC103: =係数マスタ!$A$19 | BE103: =係数マスタ!$B$19 -> #VALUE! | BF103: =IFERROR(BD103*BE103,"") | BG103: =係数マスタ!$A$19 | BI103: =係数マスタ!$B$19 -> #VALUE! | BJ103: =IFERROR(BH103*BI103,"") | BL103: =係数マスタ!$A$19 | BN103: =係数マスタ!$B$19 -> #VALUE! | BO103: =IFERROR(BM103*BN103,"") | BP103: =係数マスタ!$A$19 | BR103: =係数マスタ!$B$19 -> #VALUE! | BS103: =IFERROR(BQ103*BR103,"") | BT103: =係数マスタ!$A$19 | BV103: =係数マスタ!$B$19 -> #VALUE! | BW103: =IFERROR(BU103*BV103,"") | BX103: =係数マスタ!$A$19 | BZ103: =係数マスタ!$B$19 -> #VALUE! | CA103: =IFERROR(BY103*BZ103,"") | CB103: =係数マスタ!$A$19 | CD103: =係数マスタ!$B$19 -> #VALUE! | CE103: =IFERROR(CC103*CD103,"") | CG103: =係数マスタ!$A$19 | CI103: =係数マスタ!$B$19 -> #VALUE! | CJ103: =IFERROR(CH103*CI103,"") | CK103: =係数マスタ!$A$19 | CM103: =係数マスタ!$B$19 -> #VALUE! | CN103: =IFERROR(CL103*CM103,"") | CO103: =係数マスタ!$A$19 | CQ103: =係数マスタ!$B$19 -> #VALUE! | CR103: =IFERROR(CP103*CQ103,"") | CS103: =係数マスタ!$A$19 | CU103: =係数マスタ!$B$19 -> #VALUE! | CV103: =IFERROR(CT103*CU103,"") | CW103: =係数マスタ!$A$19 | CY103: =係数マスタ!$B$19 -> #VALUE! | CZ103: =IFERROR(CX103*CY103,"")
A104: 技術性の得点 | D104: =SUM(D88:D103) -> 0 | E104: 技術性の得点 | H104: =SUM(H88:H103) -> 0 | I104: 技術性の得点 | L104: =SUM(L88:L103) -> 0 | M104: 技術性の得点 | P104: =SUM(P88:P103) -> 0 | Q104: 技術性の得点 | T104: =SUM(T88:T103) -> 0 | V104: 技術性の得点 | Y104: =SUM(Y88:Y103) -> 0 | Z104: 技術性の得点 | AC104: =SUM(AC88:AC103) -> 0 | AD104: 技術性の得点 | AG104: =SUM(AG88:AG103) -> 0 | AH104: 技術性の得点 | AK104: =SUM(AK88:AK103) -> 0 | AL104: 技術性の得点 | AO104: =SUM(AO88:AO103) -> 0 | AQ104: 技術性の得点 | AT104: =SUM(AT88:AT103) -> 0 | AU104: 技術性の得点 | AX104: =SUM(AX88:AX103) -> 0 | AY104: 技術性の得点 | BB104: =SUM(BB88:BB103) -> 0 | BC104: 技術性の得点 | BF104: =SUM(BF88:BF103) -> 0 | BG104: 技術性の得点 | BJ104: =SUM(BJ88:BJ103) -> 0 | BL104: 技術性の得点 | BO104: =SUM(BO88:BO103) -> 0 | BP104: 技術性の得点 | BS104: =SUM(BS88:BS103) -> 0 | BT104: 技術性の得点 | BW104: =SUM(BW88:BW103) -> 0 | BX104: 技術性の得点 | CA104: =SUM(CA88:CA103) -> 0 | CB104: 技術性の得点 | CE104: =SUM(CE88:CE103) -> 0 | CG104: 技術性の得点 | CJ104: =SUM(CJ88:CJ103) -> 0 | CK104: 技術性の得点 | CN104: =SUM(CN88:CN103) -> 0 | CO104: 技術性の得点 | CR104: =SUM(CR88:CR103) -> 0 | CS104: 技術性の得点 | CV104: =SUM(CV88:CV103) -> 0 | CW104: 技術性の得点 | CZ104: =SUM(CZ88:CZ103) -> 0
A106: =係数マスタ!$A$20 -> 16 | C106: =係数マスタ!$B$20 -> #N/A | D106: =B106*C106 -> #N/A | E106: =係数マスタ!$A$20 -> 16 | G106: =係数マスタ!$B$20 -> #N/A | H106: =F106*G106 -> #N/A | I106: =係数マスタ!$A$20 -> 16 | K106: =係数マスタ!$B$20 -> #N/A | L106: =J106*K106 -> #N/A | M106: =係数マスタ!$A$20 -> 16 | O106: =係数マスタ!$B$20 -> #N/A | P106: =N106*O106 -> #N/A | Q106: =係数マスタ!$A$20 -> 16 | S106: =係数マスタ!$B$20 -> #N/A | T106: =R106*S106 -> #N/A | V106: =係数マスタ!$A$20 -> 16 | X106: =係数マスタ!$B$20 -> #N/A | Y106: =W106*X106 -> #N/A | Z106: =係数マスタ!$A$20 -> 16 | AB106: =係数マスタ!$B$20 -> #N/A | AC106: =AA106*AB106 -> #N/A | AD106: =係数マスタ!$A$20 -> 16 | AF106: =係数マスタ!$B$20 -> #N/A | AG106: =AE106*AF106 -> #N/A | AH106: =係数マスタ!$A$20 -> 16 | AJ106: =係数マスタ!$B$20 -> #N/A | AK106: =AI106*AJ106 -> #N/A | AL106: =係数マスタ!$A$20 -> 16 | AN106: =係数マスタ!$B$20 -> #N/A | AO106: =AM106*AN106 -> #N/A | AQ106: =係数マスタ!$A$20 -> 16 | AS106: =係数マスタ!$B$20 -> #N/A | AT106: =AR106*AS106 -> #N/A | AU106: =係数マスタ!$A$20 -> 16 | AW106: =係数マスタ!$B$20 -> #N/A | AX106: =AV106*AW106 -> #N/A | AY106: =係数マスタ!$A$20 -> 16 | BA106: =係数マスタ!$B$20 -> #N/A | BB106: =AZ106*BA106 -> #N/A | BC106: =係数マスタ!$A$20 -> 16 | BE106: =係数マスタ!$B$20 -> #N/A | BF106: =BD106*BE106 -> #N/A | BG106: =係数マスタ!$A$20 -> 16 | BI106: =係数マスタ!$B$20 -> #N/A | BJ106: =BH106*BI106 -> #N/A | BL106: =係数マスタ!$A$20 -> 16 | BN106: =係数マスタ!$B$20 -> #N/A | BO106: =BM106*BN106 -> #N/A | BP106: =係数マスタ!$A$20 -> 16 | BR106: =係数マスタ!$B$20 -> #N/A | BS106: =BQ106*BR106 -> #N/A | BT106: =係数マスタ!$A$20 -> 16 | BV106: =係数マスタ!$B$20 -> #N/A | BW106: =BU106*BV106 -> #N/A | BX106: =係数マスタ!$A$20 -> 16 | BZ106: =係数マスタ!$B$20 -> #N/A | CA106: =BY106*BZ106 -> #N/A | CB106: =係数マスタ!$A$20 -> 16 | CD106: =係数マスタ!$B$20 -> #N/A | CE106: =CC106*CD106 -> #N/A | CG106: =係数マスタ!$A$20 -> 16 | CI106: =係数マスタ!$B$20 -> #N/A | CJ106: =CH106*CI106 -> #N/A | CK106: =係数マスタ!$A$20 -> 16 | CM106: =係数マスタ!$B$20 -> #N/A | CN106: =CL106*CM106 -> #N/A | CO106: =係数マスタ!$A$20 -> 16 | CQ106: =係数マスタ!$B$20 -> #N/A | CR106: =CP106*CQ106 -> #N/A | CS106: =係数マスタ!$A$20 -> 16 | CU106: =係数マスタ!$B$20 -> #N/A | CV106: =CT106*CU106 -> #N/A | CW106: =係数マスタ!$A$20 -> 16 | CY106: =係数マスタ!$B$20 -> #N/A | CZ106: =CX106*CY106 -> #N/A
A107: =係数マスタ!$A$21 -> 17 | C107: =係数マスタ!$B$21 -> #N/A | D107: =B107*C107 -> #N/A | E107: =係数マスタ!$A$21 -> 17 | G107: =係数マスタ!$B$21 -> #N/A | H107: =F107*G107 -> #N/A | I107: =係数マスタ!$A$21 -> 17 | K107: =係数マスタ!$B$21 -> #N/A | L107: =J107*K107 -> #N/A | M107: =係数マスタ!$A$21 -> 17 | O107: =係数マスタ!$B$21 -> #N/A | P107: =N107*O107 -> #N/A | Q107: =係数マスタ!$A$21 -> 17 | S107: =係数マスタ!$B$21 -> #N/A | T107: =R107*S107 -> #N/A | V107: =係数マスタ!$A$21 -> 17 | X107: =係数マスタ!$B$21 -> #N/A | Y107: =W107*X107 -> #N/A | Z107: =係数マスタ!$A$21 -> 17 | AB107: =係数マスタ!$B$21 -> #N/A | AC107: =AA107*AB107 -> #N/A | AD107: =係数マスタ!$A$21 -> 17 | AF107: =係数マスタ!$B$21 -> #N/A | AG107: =AE107*AF107 -> #N/A | AH107: =係数マスタ!$A$21 -> 17 | AJ107: =係数マスタ!$B$21 -> #N/A | AK107: =AI107*AJ107 -> #N/A | AL107: =係数マスタ!$A$21 -> 17 | AN107: =係数マスタ!$B$21 -> #N/A | AO107: =AM107*AN107 -> #N/A | AQ107: =係数マスタ!$A$21 -> 17 | AS107: =係数マスタ!$B$21 -> #N/A | AT107: =AR107*AS107 -> #N/A | AU107: =係数マスタ!$A$21 -> 17 | AW107: =係数マスタ!$B$21 -> #N/A | AX107: =AV107*AW107 -> #N/A | AY107: =係数マスタ!$A$21 -> 17 | BA107: =係数マスタ!$B$21 -> #N/A | BB107: =AZ107*BA107 -> #N/A | BC107: =係数マスタ!$A$21 -> 17 | BE107: =係数マスタ!$B$21 -> #N/A | BF107: =BD107*BE107 -> #N/A | BG107: =係数マスタ!$A$21 -> 17 | BI107: =係数マスタ!$B$21 -> #N/A | BJ107: =BH107*BI107 -> #N/A | BL107: =係数マスタ!$A$21 -> 17 | BN107: =係数マスタ!$B$21 -> #N/A | BO107: =BM107*BN107 -> #N/A | BP107: =係数マスタ!$A$21 -> 17 | BR107: =係数マスタ!$B$21 -> #N/A | BS107: =BQ107*BR107 -> #N/A | BT107: =係数マスタ!$A$21 -> 17 | BV107: =係数マスタ!$B$21 -> #N/A | BW107: =BU107*BV107 -> #N/A | BX107: =係数マスタ!$A$21 -> 17 | BZ107: =係数マスタ!$B$21 -> #N/A | CA107: =BY107*BZ107 -> #N/A | CB107: =係数マスタ!$A$21 -> 17 | CD107: =係数マスタ!$B$21 -> #N/A | CE107: =CC107*CD107 -> #N/A | CG107: =係数マスタ!$A$21 -> 17 | CI107: =係数マスタ!$B$21 -> #N/A | CJ107: =CH107*CI107 -> #N/A | CK107: =係数マスタ!$A$21 -> 17 | CM107: =係数マスタ!$B$21 -> #N/A | CN107: =CL107*CM107 -> #N/A | CO107: =係数マスタ!$A$21 -> 17 | CQ107: =係数マスタ!$B$21 -> #N/A | CR107: =CP107*CQ107 -> #N/A | CS107: =係数マスタ!$A$21 -> 17 | CU107: =係数マスタ!$B$21 -> #N/A | CV107: =CT107*CU107 -> #N/A | CW107: =係数マスタ!$A$21 -> 17 | CY107: =係数マスタ!$B$21 -> #N/A | CZ107: =CX107*CY107 -> #N/A
A108: =係数マスタ!$A$22 -> 18 | C108: =係数マスタ!$B$22 -> #N/A | D108: =B108*C108 -> #N/A | E108: =係数マスタ!$A$22 -> 18 | G108: =係数マスタ!$B$22 -> #N/A | H108: =F108*G108 -> #N/A | I108: =係数マスタ!$A$22 -> 18 | K108: =係数マスタ!$B$22 -> #N/A | L108: =J108*K108 -> #N/A | M108: =係数マスタ!$A$22 -> 18 | O108: =係数マスタ!$B$22 -> #N/A | P108: =N108*O108 -> #N/A | Q108: =係数マスタ!$A$22 -> 18 | S108: =係数マスタ!$B$22 -> #N/A | T108: =R108*S108 -> #N/A | V108: =係数マスタ!$A$22 -> 18 | X108: =係数マスタ!$B$22 -> #N/A | Y108: =W108*X108 -> #N/A | Z108: =係数マスタ!$A$22 -> 18 | AB108: =係数マスタ!$B$22 -> #N/A | AC108: =AA108*AB108 -> #N/A | AD108: =係数マスタ!$A$22 -> 18 | AF108: =係数マスタ!$B$22 -> #N/A | AG108: =AE108*AF108 -> #N/A | AH108: =係数マスタ!$A$22 -> 18 | AJ108: =係数マスタ!$B$22 -> #N/A | AK108: =AI108*AJ108 -> #N/A | AL108: =係数マスタ!$A$22 -> 18 | AN108: =係数マスタ!$B$22 -> #N/A | AO108: =AM108*AN108 -> #N/A | AQ108: =係数マスタ!$A$22 -> 18 | AS108: =係数マスタ!$B$22 -> #N/A | AT108: =AR108*AS108 -> #N/A | AU108: =係数マスタ!$A$22 -> 18 | AW108: =係数マスタ!$B$22 -> #N/A | AX108: =AV108*AW108 -> #N/A | AY108: =係数マスタ!$A$22 -> 18 | BA108: =係数マスタ!$B$22 -> #N/A | BB108: =AZ108*BA108 -> #N/A | BC108: =係数マスタ!$A$22 -> 18 | BE108: =係数マスタ!$B$22 -> #N/A | BF108: =BD108*BE108 -> #N/A | BG108: =係数マスタ!$A$22 -> 18 | BI108: =係数マスタ!$B$22 -> #N/A | BJ108: =BH108*BI108 -> #N/A | BL108: =係数マスタ!$A$22 -> 18 | BN108: =係数マスタ!$B$22 -> #N/A | BO108: =BM108*BN108 -> #N/A | BP108: =係数マスタ!$A$22 -> 18 | BR108: =係数マスタ!$B$22 -> #N/A | BS108: =BQ108*BR108 -> #N/A | BT108: =係数マスタ!$A$22 -> 18 | BV108: =係数マスタ!$B$22 -> #N/A | BW108: =BU108*BV108 -> #N/A | BX108: =係数マスタ!$A$22 -> 18 | BZ108: =係数マスタ!$B$22 -> #N/A | CA108: =BY108*BZ108 -> #N/A | CB108: =係数マスタ!$A$22 -> 18 | CD108: =係数マスタ!$B$22 -> #N/A | CE108: =CC108*CD108 -> #N/A | CG108: =係数マスタ!$A$22 -> 18 | CI108: =係数マスタ!$B$22 -> #N/A | CJ108: =CH108*CI108 -> #N/A | CK108: =係数マスタ!$A$22 -> 18 | CM108: =係数マスタ!$B$22 -> #N/A | CN108: =CL108*CM108 -> #N/A | CO108: =係数マスタ!$A$22 -> 18 | CQ108: =係数マスタ!$B$22 -> #N/A | CR108: =CP108*CQ108 -> #N/A | CS108: =係数マスタ!$A$22 -> 18 | CU108: =係数マスタ!$B$22 -> #N/A | CV108: =CT108*CU108 -> #N/A | CW108: =係数マスタ!$A$22 -> 18 | CY108: =係数マスタ!$B$22 -> #N/A | CZ108: =CX108*CY108 -> #N/A
...

Sheet ③コピペ用
B2: 大会登録No. | C2: =IF(①出番表!C2="","",①出番表!C2) | E2: 開催日： | F2: =IF(①出番表!F2="","",①出番表!F2) | P2: 主任審判員署名：
B3: 大会名： | C3: =IF(①出番表!C3="","",①出番表!C3) | Q3: 公式発表時刻：
B4: 第 | C4: =IF(①出番表!C4="","",①出番表!C4) | D4: 競技 | E4: 競技名： | F4: =IF(①出番表!F4="","",①出番表!F4)
B5: 認定競技No. | C5: =IF(①出番表!C5="","",①出番表!C5) | E5: クラス： | F5: =IF(①出番表!F5="","",①出番表!F5)
A6: E： | B6: 会員番号 | C6: =IF(①出番表!C6="","",①出番表!C6) | D6: 審判名 | E6: =IF(①出番表!E6="","",①出番表!E6)
A7: H： | B7: 会員番号 | C7: =IF(①出番表!C7="","",①出番表!C7) | D7: 審判名 | E7: =IF(①出番表!E7="","",①出番表!E7)
A8: C： | B8: 会員番号 | C8: =IF(①出番表!C8="","",①出番表!C8) | D8: 審判名 | E8: =IF(①出番表!E8="","",①出番表!E8)
A9: M： | B9: 会員番号 | C9: =IF(①出番表!C9="","",①出番表!C9) | D9: 審判名 | E9: =IF(①出番表!E9="","",①出番表!E9)
A10: B： | B10: 会員番号 | C10: =IF(①出番表!C10="","",①出番表!C10) | D10: 審判名 | E10: =IF(①出番表!E10="","",①出番表!E10)
H11: 得 点 率 | AB11: 小 | AC11: 計 | AD11: 最終 | AG11: 得 点 率 | BA11: 小 | BB11: 計 | BC11: 最終 | BE11: 最終得点率 順位 | BF11: 同率判定 | BG11: 同率時の順位加算 | BH11: 最終順位
I12: E | M12: H | Q12: C | U12: M | Y12: B | AD12: 得点率 | AE12: 備考 | AH12: E | AL12: H | AP12: C | AT12: M | AX12: B | BC12: 得点率 | BD12: 備考
A13: 順位 | B13: 出番 | C13: 選手名 | D13: 会員番号 | E13: 馬匹名 | F13: 登録番号 | G13: 所 属 | H13: 技術 | I13: 芸術 | L13: 技術 | M13: 芸術 | P13: 技術 | Q13: 芸術 | T13: 技術 | U13: 芸術 | X13: 技術 | Y13: 芸術 | AB13: 技術 | AC13: 芸術 | AG13: 技術 | AH13: 芸術 | AK13: 技術 | AL13: 芸術 | AO13: 技術 | AP13: 芸術 | AS13: 技術 | AT13: 芸術 | AW13: 技術 | AX13: 芸術 | BA13: 技術 | BB13: 芸術
A14: =BH14 | B14: =②打ち込みシート!B3 -> 1 | C14: =②打ち込みシート!E3 -> 0 | D14: =②打ち込みシート!H3 -> 0 | E14: =②打ち込みシート!J3 -> 0 | F14: =②打ち込みシート!M3 -> 0 | G14: =②打ち込みシート!O3 -> 0 | H14: =IF(AG14=0,"",AG14) | I14: =IF(AH14=0,"",AH14) -> #N/A | J14: =IF(AI14=0,"",AI14) -> #N/A | K14: =IF(AJ14=0,"",AJ14) -> #N/A | L14: =IF(AK14=0,"",AK14) | M14: =IF(AL14=0,"",AL14) -> #N/A | N14: =IF(AM14=0,"",AM14) -> #N/A | O14: =IF(AN14=0,"",AN14) -> #N/A | ... AE14: =IF(BD14=0,"",BD14) | AG14: =②打ち込みシート!D34 -> 0 | AH14: =②打ち込みシート!D38 -> #N/A | AI14: =AG14+AH14 -> #N/A | AJ14: =RANK(AI14,AI$14:AI$33,0) -> #N/A | AK14: =②打ち込みシート!H34 -> 0 | AL14: =②打ち込みシート!H38 -> #N/A | AM14: =AK14+AL14 -> #N/A | AN14: =RANK(AM14,AM$14:AM$33,0) -> #N/A | AO14: =②打ち込みシート!L34 -> 0 | AP14: =②打ち込みシート!L38 -> #N/A | AQ14: =AO14+AP14 -> #N/A | AR14: =RANK(AQ14,AQ$14:AQ$33,0) -> #N/A | AS14: =②打ち込みシート!P34 -> 0 | AT14: =②打ち込みシート!P38 -> #N/A | AU14: =AS14+AT14 -> #N/A | AV14: =RANK(AU14,AU$14:AU$33,0) -> #N/A | AW14: =②打ち込みシート!T34 -> 0 | AX14: =②打ち込みシート!T38 -> #N/A | AY14: =AW14+AX14 -> #N/A | AZ14: =RANK(AY14,AY$14:AY$33,0) -> #N/A | BA14: =②打ち込みシート!$B$40 -> #DIV/0! | BB14: =②打ち込みシート!$B$41 -> #N/A | BC14: =②打ち込みシート!B42 -> #N/A | BD14: =IF(BF14=1,"芸術点:"&BB14&"点","") | BE14: =IFERROR(RANK(BC14,$BC$14:$BC$33,0),"") | BF14: =IF(AND(BE14<>"",COUNTIF($BE$14:$BE$33,BE14)>1),1,0) -> 0 | BG14: =IF(BF14=1,COUNTIFS($BE$14:$BE$33,BE14,$BB$14:$BB$33,">"&BB14),0) -> 0 | BH14: =IF(COUNT(BE14)=1,BE14+BG14,"")
A15: =BH15 | B15: =②打ち込みシート!W3 -> 2 | C15: =②打ち込みシート!Z3 -> 0 | D15: =②打ち込みシート!AC3 -> 0 | E15: =②打ち込みシート!AE3 -> 0 | F15: =②打ち込みシート!AH3 -> 0 | G15: =②打ち込みシート!AJ3 -> 0 | H15: =IF(AG15=0,"",AG15) | I15: =IF(AH15=0,"",AH15) -> #N/A | J15: =IF(AI15=0,"",AI15) -> #N/A | K15: =IF(AJ15=0,"",AJ15) -> #N/A | L15: =IF(AK15=0,"",AK15) | M15: =IF(AL15=0,"",AL15) -> #N/A | N15: =IF(AM15=0,"",AM15) -> #N/A | O15: =IF(AN15=0,"",AN15) -> #N/A | ... AE15: =IF(BD15=0,"",BD15) | AG15: =②打ち込みシート!Y34 -> 0 | AH15: =②打ち込みシート!Y38 -> #N/A | AI15: =AG15+AH15 -> #N/A | AJ15: =RANK(AI15,AI$14:AI$33,0) -> #N/A | AK15: =②打ち込みシート!AC34 -> 0 | AL15: =②打ち込みシート!AC38 -> #N/A | AM15: =AK15+AL15 -> #N/A | AN15: =RANK(AM15,AM$14:AM$33,0) -> #N/A | AO15: =②打ち込みシート!AG34 -> 0 | AP15: =②打ち込みシート!AG38 -> #N/A | AQ15: =AO15+AP15 -> #N/A | AR15: =RANK(AQ15,AQ$14:AQ$33,0) -> #N/A | AS15: =②打ち込みシート!AK34 -> 0 | AT15: =②打ち込みシート!AK38 -> #N/A | AU15: =AS15+AT15 -> #N/A | AV15: =RANK(AU15,AU$14:AU$33,0) -> #N/A | AW15: =②打ち込みシート!AO34 -> 0 | AX15: =②打ち込みシート!AO38 -> #N/A | AY15: =AW15+AX15 -> #N/A | AZ15: =RANK(AY15,AY$14:AY$33,0) -> #N/A | BA15: =②打ち込みシート!$W$40 -> #DIV/0! | BB15: =②打ち込みシート!$W$41 -> #N/A | BC15: =②打ち込みシート!W42 -> #N/A | BD15: =IF(BF15=1,"芸術点:"&BB15&"点","") | BE15: =IFERROR(RANK(BC15,$BC$14:$BC$33,0),"") | BF15: =IF(AND(BE15<>"",COUNTIF($BE$14:$BE$33,BE15)>1),1,0) -> 0 | BG15: =IF(BF15=1,COUNTIFS($BE$14:$BE$33,BE15,$BB$14:$BB$33,">"&BB15),0) -> 0 | BH15: =IF(COUNT(BE15)=1,BE15+BG15,"")
A16: =BH16 | B16: =②打ち込みシート!AR3 -> 3 | C16: =②打ち込みシート!AU3 -> 0 | D16: =②打ち込みシート!AX3 -> 0 | E16: =②打ち込みシート!AZ3 -> 0 | F16: =②打ち込みシート!BC3 -> 0 | G16: =②打ち込みシート!BE3 -> 0 | H16: =IF(AG16=0,"",AG16) | I16: =IF(AH16=0,"",AH16) -> #N/A | J16: =IF(AI16=0,"",AI16) -> #N/A | K16: =IF(AJ16=0,"",AJ16) -> #N/A | L16: =IF(AK16=0,"",AK16) | M16: =IF(AL16=0,"",AL16) -> #N/A | N16: =IF(AM16=0,"",AM16) -> #N/A | O16: =IF(AN16=0,"",AN16) -> #N/A | ... AE16: =IF(BD16=0,"",BD16) | AG16: =②打ち込みシート!AT34 -> 0 | AH16: =②打ち込みシート!AT38 -> #N/A | AI16: =AG16+AH16 -> #N/A | AJ16: =RANK(AI16,AI$14:AI$33,0) -> #N/A | AK16: =②打ち込みシート!AX34 -> 0 | AL16: =②打ち込みシート!AX38 -> #N/A | AM16: =AK16+AL16 -> #N/A | AN16: =RANK(AM16,AM$14:AM$33,0) -> #N/A | AO16: =②打ち込みシート!BB34 -> 0 | AP16: =②打ち込みシート!BB38 -> #N/A | AQ16: =AO16+AP16 -> #N/A | AR16: =RANK(AQ16,AQ$14:AQ$33,0) -> #N/A | AS16: =②打ち込みシート!BF34 -> 0 | AT16: =②打ち込みシート!BF38 -> #N/A | AU16: =AS16+AT16 -> #N/A | AV16: =RANK(AU16,AU$14:AU$33,0) -> #N/A | AW16: =②打ち込みシート!BJ34 -> 0 | AX16: =②打ち込みシート!BJ38 -> #N/A | AY16: =AW16+AX16 -> #N/A | AZ16: =RANK(AY16,AY$14:AY$33,0) -> #N/A | BA16: =②打ち込みシート!$AR$40 -> #DIV/0! | BB16: =②打ち込みシート!$AR$41 -> #N/A | BC16: =②打ち込みシート!AR42 -> #N/A | BD16: =IF(BF16=1,"芸術点:"&BB16&"点","") | BE16: =IFERROR(RANK(BC16,$BC$14:$BC$33,0),"") | BF16: =IF(AND(BE16<>"",COUNTIF($BE$14:$BE$33,BE16)>1),1,0) -> 0 | BG16: =IF(BF16=1,COUNTIFS($BE$14:$BE$33,BE16,$BB$14:$BB$33,">"&BB16),0) -> 0 | BH16: =IF(COUNT(BE16)=1,BE16+BG16,"")
A17: =BH17 | B17: =②打ち込みシート!BM3 -> 4 | C17: =②打ち込みシート!BP3 -> 0 | D17: =②打ち込みシート!BS3 -> 0 | E17: =②打ち込みシート!BU3 -> 0 | F17: =②打ち込みシート!BX3 -> 0 | G17: =②打ち込みシート!BZ3 -> 0 | H17: =IF(AG17=0,"",AG17) | I17: =IF(AH17=0,"",AH17) -> #N/A | J17: =IF(AI17=0,"",AI17) -> #N/A | K17: =IF(AJ17=0,"",AJ17) -> #N/A | L17: =IF(AK17=0,"",AK17) | M17: =IF(AL17=0,"",AL17) -> #N/A | N17: =IF(AM17=0,"",AM17) -> #N/A | O17: =IF(AN17=0,"",AN17) -> #N/A | ... AE17: =IF(BD17=0,"",BD17) | AG17: =②打ち込みシート!BO34 -> 0 | AH17: =②打ち込みシート!BO38 -> #N/A | AI17: =AG17+AH17 -> #N/A | AJ17: =RANK(AI17,AI$14:AI$33,0) -> #N/A | AK17: =②打ち込みシート!BS34 -> 0 | AL17: =②打ち込みシート!BS38 -> #N/A | AM17: =AK17+AL17 -> #N/A | AN17: =RANK(AM17,AM$14:AM$33,0) -> #N/A | AO17: =②打ち込みシート!BW34 -> 0 | AP17: =②打ち込みシート!BW38 -> #N/A | AQ17: =AO17+AP17 -> #N/A | AR17: =RANK(AQ17,AQ$14:AQ$33,0) -> #N/A | AS17: =②打ち込みシート!CA34 -> 0 | AT17: =②打ち込みシート!CA38 -> #N/A | AU17: =AS17+AT17 -> #N/A | AV17: =RANK(AU17,AU$14:AU$33,0) -> #N/A | AW17: =②打ち込みシート!CE34 -> 0 | AX17: =②打ち込みシート!CE38 -> #N/A | AY17: =AW17+AX17 -> #N/A | AZ17: =RANK(AY17,AY$14:AY$33,0) -> #N/A | BA17: =②打ち込みシート!$BM$40 -> #DIV/0! | BB17: =②打ち込みシート!$BM$41 -> #N/A | BC17: =②打ち込みシート!BM42 -> #N/A | BD17: =IF(BF17=1,"芸術点:"&BB17&"点","") | BE17: =IFERROR(RANK(BC17,$BC$14:$BC$33,0),"") | BF17: =IF(AND(BE17<>"",COUNTIF($BE$14:$BE$33,BE17)>1),1,0) -> 0 | BG17: =IF(BF17=1,COUNTIFS($BE$14:$BE$33,BE17,$BB$14:$BB$33,">"&BB17),0) -> 0 | BH17: =IF(COUNT(BE17)=1,BE17+BG17,"")
A18: =BH18 | B18: =②打ち込みシート!CH3 -> 5 | C18: =②打ち込みシート!CK3 -> 0 | D18: =②打ち込みシート!CN3 -> 0 | E18: =②打ち込みシート!CP3 -> 0 | F18: =②打ち込みシート!CS3 -> 0 | G18: =②打ち込みシート!CU3 -> 0 | H18: =IF(AG18=0,"",AG18) | I18: =IF(AH18=0,"",AH18) -> #N/A | J18: =IF(AI18=0,"",AI18) -> #N/A | K18: =IF(AJ18=0,"",AJ18) -> #N/A | L18: =IF(AK18=0,"",AK18) | M18: =IF(AL18=0,"",AL18) -> #N/A | N18: =IF(AM18=0,"",AM18) -> #N/A | O18: =IF(AN18=0,"",AN18) -> #N/A | ... AE18: =IF(BD18=0,"",BD18) | AG18: =②打ち込みシート!CJ34 -> 0 | AH18: =②打ち込みシート!CJ38 -> #N/A | AI18: =AG18+AH18 -> #N/A | AJ18: =RANK(AI18,AI$14:AI$33,0) -> #N/A | AK18: =②打ち込みシート!CN34 -> 0 | AL18: =②打ち込みシート!CN38 -> #N/A | AM18: =AK18+AL18 -> #N/A | AN18: =RANK(AM18,AM$14:AM$33,0) -> #N/A | AO18: =②打ち込みシート!CR34 -> 0 | AP18: =②打ち込みシート!CR38 -> #N/A | AQ18: =AO18+AP18 -> #N/A | AR18: =RANK(AQ18,AQ$14:AQ$33,0) -> #N/A | AS18: =②打ち込みシート!CV34 -> 0 | AT18: =②打ち込みシート!CV38 -> #N/A | AU18: =AS18+AT18 -> #N/A | AV18: =RANK(AU18,AU$14:AU$33,0) -> #N/A | AW18: =②打ち込みシート!CZ34 -> 0 | AX18: =②打ち込みシート!CZ38 -> #N/A | AY18: =AW18+AX18 -> #N/A | AZ18: =RANK(AY18,AY$14:AY$33,0) -> #N/A | BA18: =②打ち込みシート!$CH$40 -> #DIV/0! | BB18: =②打ち込みシート!$CH$41 -> #N/A | BC18: =②打ち込みシート!CH42 -> #N/A | BD18: =IF(BF18=1,"芸術点:"&BB18&"点","") | BE18: =IFERROR(RANK(BC18,$BC$14:$BC$33,0),"") | BF18: =IF(AND(BE18<>"",COUNTIF($BE$14:$BE$33,BE18)>1),1,0) -> 0 | BG18: =IF(BF18=1,COUNTIFS($BE$14:$BE$33,BE18,$BB$14:$BB$33,">"&BB18),0) -> 0 | BH18: =IF(COUNT(BE18)=1,BE18+BG18,"")
A19: =BH19 | B19: =②打ち込みシート!B44 -> 6 | C19: =②打ち込みシート!E44 -> 0 | D19: =②打ち込みシート!H44 -> 0 | E19: =②打ち込みシート!J44 -> 0 | F19: =②打ち込みシート!M44 -> 0 | G19: =②打ち込みシート!O44 -> 0 | H19: =IF(AG19=0,"",AG19) | I19: =IF(AH19=0,"",AH19) -> #N/A | J19: =IF(AI19=0,"",AI19) -> #N/A | K19: =IF(AJ19=0,"",AJ19) -> #N/A | L19: =IF(AK19=0,"",AK19) | M19: =IF(AL19=0,"",AL19) -> #N/A | N19: =IF(AM19=0,"",AM19) -> #N/A | O19: =IF(AN19=0,"",AN19) -> #N/A | ... AE19: =IF(BD19=0,"",BD19) | AG19: =②打ち込みシート!D75 -> 0 | AH19: =②打ち込みシート!D79 -> #N/A | AI19: =AG19+AH19 -> #N/A | AJ19: =RANK(AI19,AI$14:AI$33,0) -> #N/A | AK19: =②打ち込みシート!H75 -> 0 | AL19: =②打ち込みシート!H79 -> #N/A | AM19: =AK19+AL19 -> #N/A | AN19: =RANK(AM19,AM$14:AM$33,0) -> #N/A | AO19: =②打ち込みシート!L75 -> 0 | AP19: =②打ち込みシート!L79 -> #N/A | AQ19: =AO19+AP19 -> #N/A | AR19: =RANK(AQ19,AQ$14:AQ$33,0) -> #N/A | AS19: =②打ち込みシート!P75 -> 0 | AT19: =②打ち込みシート!P79 -> #N/A | AU19: =AS19+AT19 -> #N/A | AV19: =RANK(AU19,AU$14:AU$33,0) -> #N/A | AW19: =②打ち込みシート!T75 -> 0 | AX19: =②打ち込みシート!T79 -> #N/A | AY19: =AW19+AX19 -> #N/A | AZ19: =RANK(AY19,AY$14:AY$33,0) -> #N/A | BA19: =②打ち込みシート!$B$81 -> #DIV/0! | BB19: =②打ち込みシート!$B$82 -> #N/A | BC19: =②打ち込みシート!B83 -> #N/A | BD19: =IF(BF19=1,"芸術点:"&BB19&"点","") | BE19: =IFERROR(RANK(BC19,$BC$14:$BC$33,0),"") | BF19: =IF(AND(BE19<>"",COUNTIF($BE$14:$BE$33,BE19)>1),1,0) -> 0 | BG19: =IF(BF19=1,COUNTIFS($BE$14:$BE$33,BE19,$BB$14:$BB$33,">"&BB19),0) -> 0 | BH19: =IF(COUNT(BE19)=1,BE19+BG19,"")
A20: =BH20 | B20: =②打ち込みシート!W44 -> 7 | C20: =②打ち込みシート!Z44 -> 0 | D20: =②打ち込みシート!AC44 -> 0 | E20: =②打ち込みシート!AE44 -> 0 | F20: =②打ち込みシート!AH44 -> 0 | G20: =②打ち込みシート!AJ44 -> 0 | H20: =IF(AG20=0,"",AG20) | I20: =IF(AH20=0,"",AH20) -> #N/A | J20: =IF(AI20=0,"",AI20) -> #N/A | K20: =IF(AJ20=0,"",AJ20) -> #N/A | L20: =IF(AK20=0,"",AK20) | M20: =IF(AL20=0,"",AL20) -> #N/A | N20: =IF(AM20=0,"",AM20) -> #N/A | O20: =IF(AN20=0,"",AN20) -> #N/A | ... AE20: =IF(BD20=0,"",BD20) | AG20: =②打ち込みシート!Y75 -> 0 | AH20: =②打ち込みシート!Y79 -> #N/A | AI20: =AG20+AH20 -> #N/A | AJ20: =RANK(AI20,AI$14:AI$33,0) -> #N/A | AK20: =②打ち込みシート!AC75 -> 0 | AL20: =②打ち込みシート!AC79 -> #N/A | AM20: =AK20+AL20 -> #N/A | AN20: =RANK(AM20,AM$14:AM$33,0) -> #N/A | AO20: =②打ち込みシート!AG75 -> 0 | AP20: =②打ち込みシート!AG79 -> #N/A | AQ20: =AO20+AP20 -> #N/A | AR20: =RANK(AQ20,AQ$14:AQ$33,0) -> #N/A | AS20: =②打ち込みシート!AK75 -> 0 | AT20: =②打ち込みシート!AK79 -> #N/A | AU20: =AS20+AT20 -> #N/A | AV20: =RANK(AU20,AU$14:AU$33,0) -> #N/A | AW20: =②打ち込みシート!AO75 -> 0 | AX20: =②打ち込みシート!AO79 -> #N/A | AY20: =AW20+AX20 -> #N/A | AZ20: =RANK(AY20,AY$14:AY$33,0) -> #N/A | BA20: =②打ち込みシート!$W$81 -> #DIV/0! | BB20: =②打ち込みシート!$W$82 -> #N/A | BC20: =②打ち込みシート!W83 -> #N/A | BD20: =IF(BF20=1,"芸術点:"&BB20&"点","") | BE20: =IFERROR(RANK(BC20,$BC$14:$BC$33,0),"") | BF20: =IF(AND(BE20<>"",COUNTIF($BE$14:$BE$33,BE20)>1),1,0) -> 0 | BG20: =IF(BF20=1,COUNTIFS($BE$14:$BE$33,BE20,$BB$14:$BB$33,">"&BB20),0) -> 0 | BH20: =IF(COUNT(BE20)=1,BE20+BG20,"")
A21: =BH21 | B21: =②打ち込みシート!AR44 -> 8 | C21: =②打ち込みシート!AU44 -> 0 | D21: =②打ち込みシート!AX44 -> 0 | E21: =②打ち込みシート!AZ44 -> 0 | F21: =②打ち込みシート!BC44 -> 0 | G21: =②打ち込みシート!BE44 -> 0 | H21: =IF(AG21=0,"",AG21) | I21: =IF(AH21=0,"",AH21) -> #N/A | J21: =IF(AI21=0,"",AI21) -> #N/A | K21: =IF(AJ21=0,"",AJ21) -> #N/A | L21: =IF(AK21=0,"",AK21) | M21: =IF(AL21=0,"",AL21) -> #N/A | N21: =IF(AM21=0,"",AM21) -> #N/A | O21: =IF(AN21=0,"",AN21) -> #N/A | ... AE21: =IF(BD21=0,"",BD21) | AG21: =②打ち込みシート!AT75 -> 0 | AH21: =②打ち込みシート!AT79 -> #N/A | AI21: =AG21+AH21 -> #N/A | AJ21: =RANK(AI21,AI$14:AI$33,0) -> #N/A | AK21: =②打ち込みシート!AX75 -> 0 | AL21: =②打ち込みシート!AX79 -> #N/A | AM21: =AK21+AL21 -> #N/A | AN21: =RANK(AM21,AM$14:AM$33,0) -> #N/A | AO21: =②打ち込みシート!BB75 -> 0 | AP21: =②打ち込みシート!BB79 -> #N/A | AQ21: =AO21+AP21 -> #N/A | AR21: =RANK(AQ21,AQ$14:AQ$33,0) -> #N/A | AS21: =②打ち込みシート!BF75 -> 0 | AT21: =②打ち込みシート!BF79 -> #N/A | AU21: =AS21+AT21 -> #N/A | AV21: =RANK(AU21,AU$14:AU$33,0) -> #N/A | AW21: =②打ち込みシート!BJ75 -> 0 | AX21: =②打ち込みシート!BJ79 -> #N/A | AY21: =AW21+AX21 -> #N/A | AZ21: =RANK(AY21,AY$14:AY$33,0) -> #N/A | BA21: =②打ち込みシート!$AR$81 -> #DIV/0! | BB21: =②打ち込みシート!$AR$82 -> #N/A | BC21: =②打ち込みシート!AR83 -> #N/A | BD21: =IF(BF21=1,"芸術点:"&BB21&"点","") | BE21: =IFERROR(RANK(BC21,$BC$14:$BC$33,0),"") | BF21: =IF(AND(BE21<>"",COUNTIF($BE$14:$BE$33,BE21)>1),1,0) -> 0 | BG21: =IF(BF21=1,COUNTIFS($BE$14:$BE$33,BE21,$BB$14:$BB$33,">"&BB21),0) -> 0 | BH21: =IF(COUNT(BE21)=1,BE21+BG21,"")
A22: =BH22 | B22: =②打ち込みシート!BM44 -> 9 | C22: =②打ち込みシート!BP44 -> 0 | D22: =②打ち込みシート!BS44 -> 0 | E22: =②打ち込みシート!BU44 -> 0 | F22: =②打ち込みシート!BX44 -> 0 | G22: =②打ち込みシート!BZ44 -> 0 | H22: =IF(AG22=0,"",AG22) | I22: =IF(AH22=0,"",AH22) -> #N/A | J22: =IF(AI22=0,"",AI22) -> #N/A | K22: =IF(AJ22=0,"",AJ22) -> #N/A | L22: =IF(AK22=0,"",AK22) | M22: =IF(AL22=0,"",AL22) -> #N/A | N22: =IF(AM22=0,"",AM22) -> #N/A | O22: =IF(AN22=0,"",AN22) -> #N/A | ... AE22: =IF(BD22=0,"",BD22) | AG22: =②打ち込みシート!BO75 -> 0 | AH22: =②打ち込みシート!BO79 -> #N/A | AI22: =AG22+AH22 -> #N/A | AJ22: =RANK(AI22,AI$14:AI$33,0) -> #N/A | AK22: =②打ち込みシート!BS75 -> 0 | AL22: =②打ち込みシート!BS79 -> #N/A | AM22: =AK22+AL22 -> #N/A | AN22: =RANK(AM22,AM$14:AM$33,0) -> #N/A | AO22: =②打ち込みシート!BW75 -> 0 | AP22: =②打ち込みシート!BW79 -> #N/A | AQ22: =AO22+AP22 -> #N/A | AR22: =RANK(AQ22,AQ$14:AQ$33,0) -> #N/A | AS22: =②打ち込みシート!CA75 -> 0 | AT22: =②打ち込みシート!CA79 -> #N/A | AU22: =AS22+AT22 -> #N/A | AV22: =RANK(AU22,AU$14:AU$33,0) -> #N/A | AW22: =②打ち込みシート!CE75 -> 0 | AX22: =②打ち込みシート!CE79 -> #N/A | AY22: =AW22+AX22 -> #N/A | AZ22: =RANK(AY22,AY$14:AY$33,0) -> #N/A | BA22: =②打ち込みシート!$BM$81 -> #DIV/0! | BB22: =②打ち込みシート!$BM$82 -> #N/A | BC22: =②打ち込みシート!BM83 -> #N/A | BD22: =IF(BF22=1,"芸術点:"&BB22&"点","") | BE22: =IFERROR(RANK(BC22,$BC$14:$BC$33,0),"") | BF22: =IF(AND(BE22<>"",COUNTIF($BE$14:$BE$33,BE22)>1),1,0) -> 0 | BG22: =IF(BF22=1,COUNTIFS($BE$14:$BE$33,BE22,$BB$14:$BB$33,">"&BB22),0) -> 0 | BH22: =IF(COUNT(BE22)=1,BE22+BG22,"")
A23: =BH23 | B23: =②打ち込みシート!CH44 -> 10 | C23: =②打ち込みシート!CK44 -> 0 | D23: =②打ち込みシート!CN44 -> 0 | E23: =②打ち込みシート!CP44 -> 0 | F23: =②打ち込みシート!CS44 -> 0 | G23: =②打ち込みシート!CU44 -> 0 | H23: =IF(AG23=0,"",AG23) | I23: =IF(AH23=0,"",AH23) -> #N/A | J23: =IF(AI23=0,"",AI23) -> #N/A | K23: =IF(AJ23=0,"",AJ23) -> #N/A | L23: =IF(AK23=0,"",AK23) | M23: =IF(AL23=0,"",AL23) -> #N/A | N23: =IF(AM23=0,"",AM23) -> #N/A | O23: =IF(AN23=0,"",AN23) -> #N/A | ... AE23: =IF(BD23=0,"",BD23) | AG23: =②打ち込みシート!CJ75 -> 0 | AH23: =②打ち込みシート!CJ79 -> #N/A | AI23: =AG23+AH23 -> #N/A | AJ23: =RANK(AI23,AI$14:AI$33,0) -> #N/A | AK23: =②打ち込みシート!CN75 -> 0 | AL23: =②打ち込みシート!CN79 -> #N/A | AM23: =AK23+AL23 -> #N/A | AN23: =RANK(AM23,AM$14:AM$33,0) -> #N/A | AO23: =②打ち込みシート!CR75 -> 0 | AP23: =②打ち込みシート!CR79 -> #N/A | AQ23: =AO23+AP23 -> #N/A | AR23: =RANK(AQ23,AQ$14:AQ$33,0) -> #N/A | AS23: =②打ち込みシート!CV75 -> 0 | AT23: =②打ち込みシート!CV79 -> #N/A | AU23: =AS23+AT23 -> #N/A | AV23: =RANK(AU23,AU$14:AU$33,0) -> #N/A | AW23: =②打ち込みシート!CZ75 -> 0 | AX23: =②打ち込みシート!CZ79 -> #N/A | AY23: =AW23+AX23 -> #N/A | AZ23: =RANK(AY23,AY$14:AY$33,0) -> #N/A | BA23: =②打ち込みシート!$CH$81 -> #DIV/0! | BB23: =②打ち込みシート!$CH$82 -> #N/A | BC23: =②打ち込みシート!CH83 -> #N/A | BD23: =IF(BF23=1,"芸術点:"&BB23&"点","") | BE23: =IFERROR(RANK(BC23,$BC$14:$BC$33,0),"") | BF23: =IF(AND(BE23<>"",COUNTIF($BE$14:$BE$33,BE23)>1),1,0) -> 0 | BG23: =IF(BF23=1,COUNTIFS($BE$14:$BE$33,BE23,$BB$14:$BB$33,">"&BB23),0) -> 0 | BH23: =IF(COUNT(BE23)=1,BE23+BG23,"")
A24: =BH24 | B24: =②打ち込みシート!B85 -> 11 | C24: =②打ち込みシート!E85 -> 0 | D24: =②打ち込みシート!H85 -> 0 | E24: =②打ち込みシート!J85 -> 0 | F24: =②打ち込みシート!M85 -> 0 | G24: =②打ち込みシート!O85 -> 0 | H24: =IF(AG24=0,"",AG24) | I24: =IF(AH24=0,"",AH24) -> #N/A | J24: =IF(AI24=0,"",AI24) -> #N/A | K24: =IF(AJ24=0,"",AJ24) -> #N/A | L24: =IF(AK24=0,"",AK24) | M24: =IF(AL24=0,"",AL24) -> #N/A | N24: =IF(AM24=0,"",AM24) -> #N/A | O24: =IF(AN24=0,"",AN24) -> #N/A | ... AE24: =IF(BD24=0,"",BD24) | AG24: =②打ち込みシート!D116 -> 0 | AH24: =②打ち込みシート!D120 -> #N/A | AI24: =AG24+AH24 -> #N/A | AJ24: =RANK(AI24,AI$14:AI$33,0) -> #N/A | AK24: =②打ち込みシート!H116 -> 0 | AL24: =②打ち込みシート!H120 -> #N/A | AM24: =AK24+AL24 -> #N/A | AN24: =RANK(AM24,AM$14:AM$33,0) -> #N/A | AO24: =②打ち込みシート!L116 -> 0 | AP24: =②打ち込みシート!L120 -> #N/A | AQ24: =AO24+AP24 -> #N/A | AR24: =RANK(AQ24,AQ$14:AQ$33,0) -> #N/A | AS24: =②打ち込みシート!P116 -> 0 | AT24: =②打ち込みシート!P120 -> #N/A | AU24: =AS24+AT24 -> #N/A | AV24: =RANK(AU24,AU$14:AU$33,0) -> #N/A | AW24: =②打ち込みシート!T116 -> 0 | AX24: =②打ち込みシート!T120 -> #N/A | AY24: =AW24+AX24 -> #N/A | AZ24: =RANK(AY24,AY$14:AY$33,0) -> #N/A | BA24: =②打ち込みシート!$B$122 -> #DIV/0! | BB24: =②打ち込みシート!$B$123 -> #N/A | BC24: =②打ち込みシート!B124 -> #N/A | BD24: =IF(BF24=1,"芸術点:"&BB24&"点","") | BE24: =IFERROR(RANK(BC24,$BC$14:$BC$33,0),"") | BF24: =IF(AND(BE24<>"",COUNTIF($BE$14:$BE$33,BE24)>1),1,0) -> 0 | BG24: =IF(BF24=1,COUNTIFS($BE$14:$BE$33,BE24,$BB$14:$BB$33,">"&BB24),0) -> 0 | BH24: =IF(COUNT(BE24)=1,BE24+BG24,"")
A25: =BH25 | B25: =②打ち込みシート!W85 -> 12 | C25: =②打ち込みシート!Z85 -> 0 | D25: =②打ち込みシート!AC85 -> 0 | E25: =②打ち込みシート!AE85 -> 0 | F25: =②打ち込みシート!AH85 -> 0 | G25: =②打ち込みシート!AJ85 -> 0 | H25: =IF(AG25=0,"",AG25) | I25: =IF(AH25=0,"",AH25) -> #N/A | J25: =IF(AI25=0,"",AI25) -> #N/A | K25: =IF(AJ25=0,"",AJ25) -> #N/A | L25: =IF(AK25=0,"",AK25) | M25: =IF(AL25=0,"",AL25) -> #N/A | N25: =IF(AM25=0,"",AM25) -> #N/A | O25: =IF(AN25=0,"",AN25) -> #N/A | ... AE25: =IF(BD25=0,"",BD25) | AG25: =②打ち込みシート!Y116 -> 0 | AH25: =②打ち込みシート!Y120 -> #N/A | AI25: =AG25+AH25 -> #N/A | AJ25: =RANK(AI25,AI$14:AI$33,0) -> #N/A | AK25: =②打ち込みシート!AC116 -> 0 | AL25: =②打ち込みシート!AC120 -> #N/A | AM25: =AK25+AL25 -> #N/A | AN25: =RANK(AM25,AM$14:AM$33,0) -> #N/A | AO25: =②打ち込みシート!AG116 -> 0 | AP25: =②打ち込みシート!AG120 -> #N/A | AQ25: =AO25+AP25 -> #N/A | AR25: =RANK(AQ25,AQ$14:AQ$33,0) -> #N/A | AS25: =②打ち込みシート!AK116 -> 0 | AT25: =②打ち込みシート!AK120 -> #N/A | AU25: =AS25+AT25 -> #N/A | AV25: =RANK(AU25,AU$14:AU$33,0) -> #N/A | AW25: =②打ち込みシート!AO116 -> 0 | AX25: =②打ち込みシート!AO120 -> #N/A | AY25: =AW25+AX25 -> #N/A | AZ25: =RANK(AY25,AY$14:AY$33,0) -> #N/A | BA25: =②打ち込みシート!$W$122 -> #DIV/0! | BB25: =②打ち込みシート!$W$123 -> #N/A | BC25: =②打ち込みシート!W124 -> #N/A | BD25: =IF(BF25=1,"芸術点:"&BB25&"点","") | BE25: =IFERROR(RANK(BC25,$BC$14:$BC$33,0),"") | BF25: =IF(AND(BE25<>"",COUNTIF($BE$14:$BE$33,BE25)>1),1,0) -> 0 | BG25: =IF(BF25=1,COUNTIFS($BE$14:$BE$33,BE25,$BB$14:$BB$33,">"&BB25),0) -> 0 | BH25: =IF(COUNT(BE25)=1,BE25+BG25,"")
A26: =BH26 | B26: =②打ち込みシート!AR85 -> 13 | C26: =②打ち込みシート!AU85 -> 0 | D26: =②打ち込みシート!AX85 -> 0 | E26: =②打ち込みシート!AZ85 -> 0 | F26: =②打ち込みシート!BC85 -> 0 | G26: =②打ち込みシート!BE85 -> 0 | H26: =IF(AG26=0,"",AG26) | I26: =IF(AH26=0,"",AH26) -> #N/A | J26: =IF(AI26=0,"",AI26) -> #N/A | K26: =IF(AJ26=0,"",AJ26) -> #N/A | L26: =IF(AK26=0,"",AK26) | M26: =IF(AL26=0,"",AL26) -> #N/A | N26: =IF(AM26=0,"",AM26) -> #N/A | O26: =IF(AN26=0,"",AN26) -> #N/A | ... AE26: =IF(BD26=0,"",BD26) | AG26: =②打ち込みシート!AT116 -> 0 | AH26: =②打ち込みシート!AT120 -> #N/A | AI26: =AG26+AH26 -> #N/A | AJ26: =RANK(AI26,AI$14:AI$33,0) -> #N/A | AK26: =②打ち込みシート!AX116 -> 0 | AL26: =②打ち込みシート!AX120 -> #N/A | AM26: =AK26+AL26 -> #N/A | AN26: =RANK(AM26,AM$14:AM$33,0) -> #N/A | AO26: =②打ち込みシート!BB116 -> 0 | AP26: =②打ち込みシート!BB120 -> #N/A | AQ26: =AO26+AP26 -> #N/A | AR26: =RANK(AQ26,AQ$14:AQ$33,0) -> #N/A | AS26: =②打ち込みシート!BF116 -> 0 | AT26: =②打ち込みシート!BF120 -> #N/A | AU26: =AS26+AT26 -> #N/A | AV26: =RANK(AU26,AU$14:AU$33,0) -> #N/A | AW26: =②打ち込みシート!BJ116 -> 0 | AX26: =②打ち込みシート!BJ120 -> #N/A | AY26: =AW26+AX26 -> #N/A | AZ26: =RANK(AY26,AY$14:AY$33,0) -> #N/A | BA26: =②打ち込みシート!$AR$122 -> #DIV/0! | BB26: =②打ち込みシート!$AR$123 -> #N/A | BC26: =②打ち込みシート!AR124 -> #N/A | BD26: =IF(BF26=1,"芸術点:"&BB26&"点","") | BE26: =IFERROR(RANK(BC26,$BC$14:$BC$33,0),"") | BF26: =IF(AND(BE26<>"",COUNTIF($BE$14:$BE$33,BE26)>1),1,0) -> 0 | BG26: =IF(BF26=1,COUNTIFS($BE$14:$BE$33,BE26,$BB$14:$BB$33,">"&BB26),0) -> 0 | BH26: =IF(COUNT(BE26)=1,BE26+BG26,"")
A27: =BH27 | B27: =②打ち込みシート!BM85 -> 14 | C27: =②打ち込みシート!BP85 -> 0 | D27: =②打ち込みシート!BS85 -> 0 | E27: =②打ち込みシート!BU85 -> 0 | F27: =②打ち込みシート!BX85 -> 0 | G27: =②打ち込みシート!BZ85 -> 0 | H27: =IF(AG27=0,"",AG27) | I27: =IF(AH27=0,"",AH27) -> #N/A | J27: =IF(AI27=0,"",AI27) -> #N/A | K27: =IF(AJ27=0,"",AJ27) -> #N/A | L27: =IF(AK27=0,"",AK27) | M27: =IF(AL27=0,"",AL27) -> #N/A | N27: =IF(AM27=0,"",AM27) -> #N/A | O27: =IF(AN27=0,"",AN27) -> #N/A | ... AE27: =IF(BD27=0,"",BD27) | AG27: =②打ち込みシート!BO116 -> 0 | AH27: =②打ち込みシート!BO120 -> #N/A | AI27: =AG27+AH27 -> #N/A | AJ27: =RANK(AI27,AI$14:AI$33,0) -> #N/A | AK27: =②打ち込みシート!BS116 -> 0 | AL27: =②打ち込みシート!BS120 -> #N/A | AM27: =AK27+AL27 -> #N/A | AN27: =RANK(AM27,AM$14:AM$33,0) -> #N/A | AO27: =②打ち込みシート!BW116 -> 0 | AP27: =②打ち込みシート!BW120 -> #N/A | AQ27: =AO27+AP27 -> #N/A | AR27: =RANK(AQ27,AQ$14:AQ$33,0) -> #N/A | AS27: =②打ち込みシート!CA116 -> 0 | AT27: =②打ち込みシート!CA120 -> #N/A | AU27: =AS27+AT27 -> #N/A | AV27: =RANK(AU27,AU$14:AU$33,0) -> #N/A | AW27: =②打ち込みシート!CE116 -> 0 | AX27: =②打ち込みシート!CE120 -> #N/A | AY27: =AW27+AX27 -> #N/A | AZ27: =RANK(AY27,AY$14:AY$33,0) -> #N/A | BA27: =②打ち込みシート!$BM$122 -> #DIV/0! | BB27: =②打ち込みシート!$BM$123 -> #N/A | BC27: =②打ち込みシート!BM124 -> #N/A | BD27: =IF(BF27=1,"芸術点:"&BB27&"点","") | BE27: =IFERROR(RANK(BC27,$BC$14:$BC$33,0),"") | BF27: =IF(AND(BE27<>"",COUNTIF($BE$14:$BE$33,BE27)>1),1,0) -> 0 | BG27: =IF(BF27=1,COUNTIFS($BE$14:$BE$33,BE27,$BB$14:$BB$33,">"&BB27),0) -> 0 | BH27: =IF(COUNT(BE27)=1,BE27+BG27,"")
A28: =BH28 | B28: =②打ち込みシート!CH85 -> 15 | C28: =②打ち込みシート!CK85 -> 0 | D28: =②打ち込みシート!CN85 -> 0 | E28: =②打ち込みシート!CP85 -> 0 | F28: =②打ち込みシート!CS85 -> 0 | G28: =②打ち込みシート!CU85 -> 0 | H28: =IF(AG28=0,"",AG28) | I28: =IF(AH28=0,"",AH28) -> #N/A | J28: =IF(AI28=0,"",AI28) -> #N/A | K28: =IF(AJ28=0,"",AJ28) -> #N/A | L28: =IF(AK28=0,"",AK28) | M28: =IF(AL28=0,"",AL28) -> #N/A | N28: =IF(AM28=0,"",AM28) -> #N/A | O28: =IF(AN28=0,"",AN28) -> #N/A | ... AE28: =IF(BD28=0,"",BD28) | AG28: =②打ち込みシート!CJ116 -> 0 | AH28: =②打ち込みシート!CJ120 -> #N/A | AI28: =AG28+AH28 -> #N/A | AJ28: =RANK(AI28,AI$14:AI$33,0) -> #N/A | AK28: =②打ち込みシート!CN116 -> 0 | AL28: =②打ち込みシート!CN120 -> #N/A | AM28: =AK28+AL28 -> #N/A | AN28: =RANK(AM28,AM$14:AM$33,0) -> #N/A | AO28: =②打ち込みシート!CR116 -> 0 | AP28: =②打ち込みシート!CR120 -> #N/A | AQ28: =AO28+AP28 -> #N/A | AR28: =RANK(AQ28,AQ$14:AQ$33,0) -> #N/A | AS28: =②打ち込みシート!CV116 -> 0 | AT28: =②打ち込みシート!CV120 -> #N/A | AU28: =AS28+AT28 -> #N/A | AV28: =RANK(AU28,AU$14:AU$33,0) -> #N/A | AW28: =②打ち込みシート!CZ116 -> 0 | AX28: =②打ち込みシート!CZ120 -> #N/A | AY28: =AW28+AX28 -> #N/A | AZ28: =RANK(AY28,AY$14:AY$33,0) -> #N/A | BA28: =②打ち込みシート!$CH$122 -> #DIV/0! | BB28: =②打ち込みシート!$CH$123 -> #N/A | BC28: =②打ち込みシート!CH124 -> #N/A | BD28: =IF(BF28=1,"芸術点:"&BB28&"点","") | BE28: =IFERROR(RANK(BC28,$BC$14:$BC$33,0),"") | BF28: =IF(AND(BE28<>"",COUNTIF($BE$14:$BE$33,BE28)>1),1,0) -> 0 | BG28: =IF(BF28=1,COUNTIFS($BE$14:$BE$33,BE28,$BB$14:$BB$33,">"&BB28),0) -> 0 | BH28: =IF(COUNT(BE28)=1,BE28+BG28,"")
A29: =BH29 | B29: =②打ち込みシート!B126 -> 16 | C29: =②打ち込みシート!E126 -> 0 | D29: =②打ち込みシート!H126 -> 0 | E29: =②打ち込みシート!J126 -> 0 | F29: =②打ち込みシート!M126 -> 0 | G29: =②打ち込みシート!O126 -> 0 | H29: =IF(AG29=0,"",AG29) | I29: =IF(AH29=0,"",AH29) -> #N/A | J29: =IF(AI29=0,"",AI29) -> #N/A | K29: =IF(AJ29=0,"",AJ29) -> #N/A | L29: =IF(AK29=0,"",AK29) | M29: =IF(AL29=0,"",AL29) -> #N/A | N29: =IF(AM29=0,"",AM29) -> #N/A | O29: =IF(AN29=0,"",AN29) -> #N/A | ... AE29: =IF(BD29=0,"",BD29) | AG29: =②打ち込みシート!D157 -> 0 | AH29: =②打ち込みシート!D161 -> #N/A | AI29: =AG29+AH29 -> #N/A | AJ29: =RANK(AI29,AI$14:AI$33,0) -> #N/A | AK29: =②打ち込みシート!H157 -> 0 | AL29: =②打ち込みシート!H161 -> #N/A | AM29: =AK29+AL29 -> #N/A | AN29: =RANK(AM29,AM$14:AM$33,0) -> #N/A | AO29: =②打ち込みシート!L157 -> 0 | AP29: =②打ち込みシート!L161 -> #N/A | AQ29: =AO29+AP29 -> #N/A | AR29: =RANK(AQ29,AQ$14:AQ$33,0) -> #N/A | AS29: =②打ち込みシート!P157 -> 0 | AT29: =②打ち込みシート!P161 -> #N/A | AU29: =AS29+AT29 -> #N/A | AV29: =RANK(AU29,AU$14:AU$33,0) -> #N/A | AW29: =②打ち込みシート!T157 -> 0 | AX29: =②打ち込みシート!T161 -> #N/A | AY29: =AW29+AX29 -> #N/A | AZ29: =RANK(AY29,AY$14:AY$33,0) -> #N/A | BA29: =②打ち込みシート!$B$163 -> #DIV/0! | BB29: =②打ち込みシート!$B$164 -> #N/A | BC29: =②打ち込みシート!B165 -> #N/A | BD29: =IF(BF29=1,"芸術点:"&BB29&"点","") | BE29: =IFERROR(RANK(BC29,$BC$14:$BC$33,0),"") | BF29: =IF(AND(BE29<>"",COUNTIF($BE$14:$BE$33,BE29)>1),1,0) -> 0 | BG29: =IF(BF29=1,COUNTIFS($BE$14:$BE$33,BE29,$BB$14:$BB$33,">"&BB29),0) -> 0 | BH29: =IF(COUNT(BE29)=1,BE29+BG29,"")
A30: =BH30 | B30: =②打ち込みシート!W126 -> 17 | C30: =②打ち込みシート!Z126 -> 0 | D30: =②打ち込みシート!AC126 -> 0 | E30: =②打ち込みシート!AE126 -> 0 | F30: =②打ち込みシート!AH126 -> 0 | G30: =②打ち込みシート!AJ126 -> 0 | H30: =IF(AG30=0,"",AG30) | I30: =IF(AH30=0,"",AH30) -> #N/A | J30: =IF(AI30=0,"",AI30) -> #N/A | K30: =IF(AJ30=0,"",AJ30) -> #N/A | L30: =IF(AK30=0,"",AK30) | M30: =IF(AL30=0,"",AL30) -> #N/A | N30: =IF(AM30=0,"",AM30) -> #N/A | O30: =IF(AN30=0,"",AN30) -> #N/A | ... AE30: =IF(BD30=0,"",BD30) | AG30: =②打ち込みシート!Y157 -> 0 | AH30: =②打ち込みシート!Y161 -> #N/A | AI30: =AG30+AH30 -> #N/A | AJ30: =RANK(AI30,AI$14:AI$33,0) -> #N/A | AK30: =②打ち込みシート!AC157 -> 0 | AL30: =②打ち込みシート!AC161 -> #N/A | AM30: =AK30+AL30 -> #N/A | AN30: =RANK(AM30,AM$14:AM$33,0) -> #N/A | AO30: =②打ち込みシート!AG157 -> 0 | AP30: =②打ち込みシート!AG161 -> #N/A | AQ30: =AO30+AP30 -> #N/A | AR30: =RANK(AQ30,AQ$14:AQ$33,0) -> #N/A | AS30: =②打ち込みシート!AK157 -> 0 | AT30: =②打ち込みシート!AK161 -> #N/A | AU30: =AS30+AT30 -> #N/A | AV30: =RANK(AU30,AU$14:AU$33,0) -> #N/A | AW30: =②打ち込みシート!AO157 -> 0 | AX30: =②打ち込みシート!AO161 -> #N/A | AY30: =AW30+AX30 -> #N/A | AZ30: =RANK(AY30,AY$14:AY$33,0) -> #N/A | BA30: =②打ち込みシート!$W$163 -> #DIV/0! | BB30: =②打ち込みシート!$W$164 -> #N/A | BC30: =②打ち込みシート!W165 -> #N/A | BD30: =IF(BF30=1,"芸術点:"&BB30&"点","") | BE30: =IFERROR(RANK(BC30,$BC$14:$BC$33,0),"") | BF30: =IF(AND(BE30<>"",COUNTIF($BE$14:$BE$33,BE30)>1),1,0) -> 0 | BG30: =IF(BF30=1,COUNTIFS($BE$14:$BE$33,BE30,$BB$14:$BB$33,">"&BB30),0) -> 0 | BH30: =IF(COUNT(BE30)=1,BE30+BG30,"")
A31: =BH31 | B31: =②打ち込みシート!AR126 -> 18 | C31: =②打ち込みシート!AU126 -> 0 | D31: =②打ち込みシート!AX126 -> 0 | E31: =②打ち込みシート!AZ126 -> 0 | F31: =②打ち込みシート!BC126 -> 0 | G31: =②打ち込みシート!BE126 -> 0 | H31: =IF(AG31=0,"",AG31) | I31: =IF(AH31=0,"",AH31) -> #N/A | J31: =IF(AI31=0,"",AI31) -> #N/A | K31: =IF(AJ31=0,"",AJ31) -> #N/A | L31: =IF(AK31=0,"",AK31) | M31: =IF(AL31=0,"",AL31) -> #N/A | N31: =IF(AM31=0,"",AM31) -> #N/A | O31: =IF(AN31=0,"",AN31) -> #N/A | ... AE31: =IF(BD31=0,"",BD31) | AG31: =②打ち込みシート!AT157 -> 0 | AH31: =②打ち込みシート!AT161 -> #N/A | AI31: =AG31+AH31 -> #N/A | AJ31: =RANK(AI31,AI$14:AI$33,0) -> #N/A | AK31: =②打ち込みシート!AX157 -> 0 | AL31: =②打ち込みシート!AX161 -> #N/A | AM31: =AK31+AL31 -> #N/A | AN31: =RANK(AM31,AM$14:AM$33,0) -> #N/A | AO31: =②打ち込みシート!BB157 -> 0 | AP31: =②打ち込みシート!BB161 -> #N/A | AQ31: =AO31+AP31 -> #N/A | AR31: =RANK(AQ31,AQ$14:AQ$33,0) -> #N/A | AS31: =②打ち込みシート!BF157 -> 0 | AT31: =②打ち込みシート!BF161 -> #N/A | AU31: =AS31+AT31 -> #N/A | AV31: =RANK(AU31,AU$14:AU$33,0) -> #N/A | AW31: =②打ち込みシート!BJ157 -> 0 | AX31: =②打ち込みシート!BJ161 -> #N/A | AY31: =AW31+AX31 -> #N/A | AZ31: =RANK(AY31,AY$14:AY$33,0) -> #N/A | BA31: =②打ち込みシート!$AR$163 -> #DIV/0! | BB31: =②打ち込みシート!$AR$164 -> #N/A | BC31: =②打ち込みシート!AR165 -> #N/A | BD31: =IF(BF31=1,"芸術点:"&BB31&"点","") | BE31: =IFERROR(RANK(BC31,$BC$14:$BC$33,0),"") | BF31: =IF(AND(BE31<>"",COUNTIF($BE$14:$BE$33,BE31)>1),1,0) -> 0 | BG31: =IF(BF31=1,COUNTIFS($BE$14:$BE$33,BE31,$BB$14:$BB$33,">"&BB31),0) -> 0 | BH31: =IF(COUNT(BE31)=1,BE31+BG31,"")
A32: =BH32 | B32: =②打ち込みシート!BM126 -> 19 | C32: =②打ち込みシート!BP126 -> 0 | D32: =②打ち込みシート!BS126 -> 0 | E32: =②打ち込みシート!BU126 -> 0 | F32: =②打ち込みシート!BX126 -> 0 | G32: =②打ち込みシート!BZ126 -> 0 | H32: =IF(AG32=0,"",AG32) | I32: =IF(AH32=0,"",AH32) -> #N/A | J32: =IF(AI32=0,"",AI32) -> #N/A | K32: =IF(AJ32=0,"",AJ32) -> #N/A | L32: =IF(AK32=0,"",AK32) | M32: =IF(AL32=0,"",AL32) -> #N/A | N32: =IF(AM32=0,"",AM32) -> #N/A | O32: =IF(AN32=0,"",AN32) -> #N/A | ... AE32: =IF(BD32=0,"",BD32) | AG32: =②打ち込みシート!BO157 -> 0 | AH32: =②打ち込みシート!BO161 -> #N/A | AI32: =AG32+AH32 -> #N/A | AJ32: =RANK(AI32,AI$14:AI$33,0) -> #N/A | AK32: =②打ち込みシート!BS157 -> 0 | AL32: =②打ち込みシート!BS161 -> #N/A | AM32: =AK32+AL32 -> #N/A | AN32: =RANK(AM32,AM$14:AM$33,0) -> #N/A | AO32: =②打ち込みシート!BW157 -> 0 | AP32: =②打ち込みシート!BW161 -> #N/A | AQ32: =AO32+AP32 -> #N/A | AR32: =RANK(AQ32,AQ$14:AQ$33,0) -> #N/A | AS32: =②打ち込みシート!CA157 -> 0 | AT32: =②打ち込みシート!CA161 -> #N/A | AU32: =AS32+AT32 -> #N/A | AV32: =RANK(AU32,AU$14:AU$33,0) -> #N/A | AW32: =②打ち込みシート!CE157 -> 0 | AX32: =②打ち込みシート!CE161 -> #N/A | AY32: =AW32+AX32 -> #N/A | AZ32: =RANK(AY32,AY$14:AY$33,0) -> #N/A | BA32: =②打ち込みシート!$BM$163 -> #DIV/0! | BB32: =②打ち込みシート!$BM$164 -> #N/A | BC32: =②打ち込みシート!BM165 -> #N/A | BD32: =IF(BF32=1,"芸術点:"&BB32&"点","") | BE32: =IFERROR(RANK(BC32,$BC$14:$BC$33,0),"") | BF32: =IF(AND(BE32<>"",COUNTIF($BE$14:$BE$33,BE32)>1),1,0) -> 0 | BG32: =IF(BF32=1,COUNTIFS($BE$14:$BE$33,BE32,$BB$14:$BB$33,">"&BB32),0) -> 0 | BH32: =IF(COUNT(BE32)=1,BE32+BG32,"")
A33: =BH33 | B33: =②打ち込みシート!CH126 -> 20 | C33: =②打ち込みシート!CK126 -> 0 | D33: =②打ち込みシート!CN126 -> 0 | E33: =②打ち込みシート!CP126 -> 0 | F33: =②打ち込みシート!CS126 -> 0 | G33: =②打ち込みシート!CU126 -> 0 | H33: =IF(AG33=0,"",AG33) | I33: =IF(AH33=0,"",AH33) -> #N/A | J33: =IF(AI33=0,"",AI33) -> #N/A | K33: =IF(AJ33=0,"",AJ33) -> #N/A | L33: =IF(AK33=0,"",AK33) | M33: =IF(AL33=0,"",AL33) -> #N/A | N33: =IF(AM33=0,"",AM33) -> #N/A | O33: =IF(AN33=0,"",AN33) -> #N/A | ... AE33: =IF(BD33=0,"",BD33) | AG33: =②打ち込みシート!CJ157 -> 0 | AH33: =②打ち込みシート!CJ161 -> #N/A | AI33: =AG33+AH33 -> #N/A | AJ33: =RANK(AI33,AI$14:AI$33,0) -> #N/A | AK33: =②打ち込みシート!CN157 -> 0 | AL33: =②打ち込みシート!CN161 -> #N/A | AM33: =AK33+AL33 -> #N/A | AN33: =RANK(AM33,AM$14:AM$33,0) -> #N/A | AO33: =②打ち込みシート!CR157 -> 0 | AP33: =②打ち込みシート!CR161 -> #N/A | AQ33: =AO33+AP33 -> #N/A | AR33: =RANK(AQ33,AQ$14:AQ$33,0) -> #N/A | AS33: =②打ち込みシート!CV157 -> 0 | AT33: =②打ち込みシート!CV161 -> #N/A | AU33: =AS33+AT33 -> #N/A | AV33: =RANK(AU33,AU$14:AU$33,0) -> #N/A | AW33: =②打ち込みシート!CZ157 -> 0 | AX33: =②打ち込みシート!CZ161 -> #N/A | AY33: =AW33+AX33 -> #N/A | AZ33: =RANK(AY33,AY$14:AY$33,0) -> #N/A | BA33: =②打ち込みシート!$CH$163 -> #DIV/0! | BB33: =②打ち込みシート!$CH$164 -> #N/A | BC33: =②打ち込みシート!CH165 -> #N/A | BD33: =IF(BF33=1,"芸術点:"&BB33&"点","") | BE33: =IFERROR(RANK(BC33,$BC$14:$BC$33,0),"") | BF33: =IF(AND(BE33<>"",COUNTIF($BE$14:$BE$33,BE33)>1),1,0) -> 0 | BG33: =IF(BF33=1,COUNTIFS($BE$14:$BE$33,BE33,$BB$14:$BB$33,">"&BB33),0) -> 0 | BH33: =IF(COUNT(BE33)=1,BE33+BG33,"")

Sheet ④公表用
B2: 大会登録No. | E2: 開催日： | P2: 主任審判員署名：
B3: 大会名： | Q3: 公式発表時刻：
B4: 第 | D4: 競技 | E4: 競技名：
B5: 認定競技No. | E5: クラス：
A6: E： | B6: 会員番号 | D6: 審判名
A7: H： | B7: 会員番号 | D7: 審判名
A8: C： | B8: 会員番号 | D8: 審判名
A9: M： | B9: 会員番号 | D9: 審判名
A10: B： | B10: 会員番号 | D10: 審判名
H11: 得 点 率 | AB11: 小 | AC11: 計 | AD11: 最終
I12: E | M12: H | Q12: C | U12: M | Y12: B | AD12: 得点率 | AE12: 備考
A13: 順位 | B13: 出番 | C13: 選手名 | D13: 会員番号 | E13: 馬匹名 | F13: 登録番号 | G13: 所 属 | H13: 技術 | I13: 芸術 | L13: 技術 | M13: 芸術 | P13: 技術 | Q13: 芸術 | T13: 技術 | U13: 芸術 | X13: 技術 | Y13: 芸術 | AB13: 技術 | AC13: 芸術

Sheet ☆印刷用個票
A1: 課目 | C1: =②打ち込みシート!B1 -> 0 | L1: 日付 | M1: =②打ち込みシート!W1 -> 0
B3: 出番 | D3: =②打ち込みシート!B3 -> 1 | I3: 出番 | K3: =②打ち込みシート!W3 -> 2 | P3: 出番 | R3: =②打ち込みシート!AR3 -> 3 | W3: 出番 | Y3: =②打ち込みシート!BM3 -> 4 | AD3: 出番 | AF3: =②打ち込みシート!CH3 -> 5
B4: 選手名 | D4: =②打ち込みシート!E3 -> 0 | I4: 選手名 | K4: =②打ち込みシート!Z3 -> 0 | P4: 選手名 | R4: =②打ち込みシート!AU3 -> 0 | W4: 選手名 | Y4: =②打ち込みシート!BP3 -> 0 | AD4: 選手名 | AF4: =②打ち込みシート!CK3 -> 0
B5: 馬匹 | D5: =②打ち込みシート!J3 -> 0 | I5: 馬匹 | K5: =②打ち込みシート!AE3 -> 0 | P5: 馬匹 | R5: =②打ち込みシート!AZ3 -> 0 | W5: 馬匹 | Y5: =②打ち込みシート!BU3 -> 0 | AD5: 馬匹 | AF5: =②打ち込みシート!CP3 -> 0
B6: 所属 | D6: =②打ち込みシート!O3 -> 0 | I6: 所属 | K6: =②打ち込みシート!AJ3 -> 0 | P6: 所属 | R6: =②打ち込みシート!BE3 -> 0 | W6: 所属 | Y6: =②打ち込みシート!BZ3 -> 0 | AD6: 所属 | AF6: =②打ち込みシート!CU3 -> 0
B7: 項目 | C7: E | D7: H | E7: C | F7: M | G7: B | I7: 項目 | J7: E | K7: H | L7: C | M7: M | N7: B | P7: 項目 | Q7: E | R7: H | S7: C | T7: M | U7: B | W7: 項目 | X7: E | Y7: H | Z7: C | AA7: M | AB7: B | AD7: 項目 | AE7: E | AF7: H | AG7: C | AH7: M | AI7: B
B8: =IF(OR(係数マスタ!$B$1=係数マスタ!$F$3,係数マスタ!$B$1=係数マスタ!$J$3),係数マスタ!$D4,係数マスタ!$E4) -> 1 | C8: =②打ち込みシート!D6 | D8: =②打ち込みシート!H6 | E8: =②打ち込みシート!L6 | F8: =②打ち込みシート!P6 | G8: =②打ち込みシート!T6 | I8: =IF(OR(係数マスタ!$B$1=係数マスタ!$F$3,係数マスタ!$B$1=係数マスタ!$J$3),係数マスタ!$D4,係数マスタ!$E4) -> 1 | J8: =②打ち込みシート!Y6 | K8: =②打ち込みシート!AC6 | L8: =②打ち込みシート!AG6 | M8: =②打ち込みシート!AK6 | N8: =②打ち込みシート!AO6 | P8: =IF(OR(係数マスタ!$B$1=係数マスタ!$F$3,係数マスタ!$B$1=係数マスタ!$J$3),係数マスタ!$D4,係数マスタ!$E4) -> 1 | Q8: =②打ち込みシート!AT6 | R8: =②打ち込みシート!AX6 | S8: =②打ち込みシート!BB6 | T8: =②打ち込みシート!BF6 | U8: =②打ち込みシート!BJ6 | W8: =IF(OR(係数マスタ!$B$1=係数マスタ!$F$3,係数マスタ!$B$1=係数マスタ!$J$3),係数マスタ!$D4,係数マスタ!$E4) -> 1 | X8: =②打ち込みシート!BO6 | Y8: =②打ち込みシート!BS6 | Z8: =②打ち込みシート!BW6 | AA8: =②打ち込みシート!CA6 | AB8: =②打ち込みシート!CE6 | AD8: =IF(OR(係数マスタ!$B$1=係数マスタ!$F$3,係数マスタ!$B$1=係数マスタ!$J$3),係数マスタ!$D4,係数マスタ!$E4) -> 1 | AE8: =②打ち込みシート!CJ6 | AF8: =②打ち込みシート!CN6 | AG8: =②打ち込みシート!CR6 | AH8: =②打ち込みシート!CV6 | AI8: =②打ち込みシート!CZ6
B9: =IF(OR(係数マスタ!$B$1=係数マスタ!$F$3,係数マスタ!$B$1=係数マスタ!$J$3),係数マスタ!$D5,係数マスタ!$E5) -> 2 | C9: =②打ち込みシート!D7 | D9: =②打ち込みシート!H7 | E9: =②打ち込みシート!L7 | F9: =②打ち込みシート!P7 | G9: =②打ち込みシート!T7 | I9: =IF(OR(係数マスタ!$B$1=係数マスタ!$F$3,係数マスタ!$B$1=係数マスタ!$J$3),係数マスタ!$D5,係数マスタ!$E5) -> 2 | J9: =②打ち込みシート!Y7 | K9: =②打ち込みシート!AC7 | L9: =②打ち込みシート!AG7 | M9: =②打ち込みシート!AK7 | N9: =②打ち込みシート!AO7 | P9: =IF(OR(係数マスタ!$B$1=係数マスタ!$F$3,係数マスタ!$B$1=係数マスタ!$J$3),係数マスタ!$D5,係数マスタ!$E5) -> 2 | Q9: =②打ち込みシート!AT7 | R9: =②打ち込みシート!AX7 | S9: =②打ち込みシート!BB7 | T9: =②打ち込みシート!BF7 | U9: =②打ち込みシート!BJ7 | W9: =IF(OR(係数マスタ!$B$1=係数マスタ!$F$3,係数マスタ!$B$1=係数マスタ!$J$3),係数マスタ!$D5,係数マスタ!$E5) -> 2 | X9: =②打ち込みシート!BO7 | Y9: =②打ち込みシート!BS7 | Z9: =②打ち込みシート!BW7 | AA9: =②打ち込みシート!CA7 | AB9: =②打ち込みシート!CE7 | AD9: =IF(OR(係数マスタ!$B$1=係数マスタ!$F$3,係数マスタ!$B$1=係数マスタ!$J$3),係数マスタ!$D5,係数マスタ!$E5) -> 2 | AE9: =②打ち込みシート!CJ7 | AF9: =②打ち込みシート!CN7 | AG9: =②打ち込みシート!CR7 | AH9: =②打ち込みシート!CV7 | AI9: =②打ち込みシート!CZ7
B10: =IF(OR(係数マスタ!$B$1=係数マスタ!$F$3,係数マスタ!$B$1=係数マスタ!$J$3),係数マスタ!$D6,係数マスタ!$E6) -> 3 | C10: =②打ち込みシート!D8 | D10: =②打ち込みシート!H8 | E10: =②打ち込みシート!L8 | F10: =②打ち込みシート!P8 | G10: =②打ち込みシート!T8 | I10: =IF(OR(係数マスタ!$B$1=係数マスタ!$F$3,係数マスタ!$B$1=係数マスタ!$J$3),係数マスタ!$D6,係数マスタ!$E6) -> 3 | J10: =②打ち込みシート!Y8 | K10: =②打ち込みシート!AC8 | L10: =②打ち込みシート!AG8 | M10: =②打ち込みシート!AK8 | N10: =②打ち込みシート!AO8 | P10: =IF(OR(係数マスタ!$B$1=係数マスタ!$F$3,係数マスタ!$B$1=係数マスタ!$J$3),係数マスタ!$D6,係数マスタ!$E6) -> 3 | Q10: =②打ち込みシート!AT8 | R10: =②打ち込みシート!AX8 | S10: =②打ち込みシート!BB8 | T10: =②打ち込みシート!BF8 | U10: =②打ち込みシート!BJ8 | W10: =IF(OR(係数マスタ!$B$1=係数マスタ!$F$3,係数マスタ!$B$1=係数マスタ!$J$3),係数マスタ!$D6,係数マスタ!$E6) -> 3 | X10: =②打ち込みシート!BO8 | Y10: =②打ち込みシート!BS8 | Z10: =②打ち込みシート!BW8 | AA10: =②打ち込みシート!CA8 | AB10: =②打ち込みシート!CE8 | AD10: =IF(OR(係数マスタ!$B$1=係数マスタ!$F$3,係数マスタ!$B$1=係数マスタ!$J$3),係数マスタ!$D6,係数マスタ!$E6) -> 3 | AE10: =②打ち込みシート!CJ8 | AF10: =②打ち込みシート!CN8 | AG10: =②打ち込みシート!CR8 | AH10: =②打ち込みシート!CV8 | AI10: =②打ち込みシート!CZ8
B11: =IF(OR(係数マスタ!$B$1=係数マスタ!$F$3,係数マスタ!$B$1=係数マスタ!$J$3),係数マスタ!$D7,係数マスタ!$E7) -> 4 | C11: =②打ち込みシート!D9 | D11: =②打ち込みシート!H9 | E11: =②打ち込みシート!L9 | F11: =②打ち込みシート!P9 | G11: =②打ち込みシート!T9 | I11: =IF(OR(係数マスタ!$B$1=係数マスタ!$F$3,係数マスタ!$B$1=係数マスタ!$J$3),係数マスタ!$D7,係数マスタ!$E7) -> 4 | J11: =②打ち込みシート!Y9 | K11: =②打ち込みシート!AC9 | L11: =②打ち込みシート!AG9 | M11: =②打ち込みシート!AK9 | N11: =②打ち込みシート!AO9 | P11: =IF(OR(係数マスタ!$B$1=係数マスタ!$F$3,係数マスタ!$B$1=係数マスタ!$J$3),係数マスタ!$D7,係数マスタ!$E7) -> 4 | Q11: =②打ち込みシート!AT9 | R11: =②打ち込みシート!AX9 | S11: =②打ち込みシート!BB9 | T11: =②打ち込みシート!BF9 | U11: =②打ち込みシート!BJ9 | W11: =IF(OR(係数マスタ!$B$1=係数マスタ!$F$3,係数マスタ!$B$1=係数マスタ!$J$3),係数マスタ!$D7,係数マスタ!$E7) -> 4 | X11: =②打ち込みシート!BO9 | Y11: =②打ち込みシート!BS9 | Z11: =②打ち込みシート!BW9 | AA11: =②打ち込みシート!CA9 | AB11: =②打ち込みシート!CE9 | AD11: =IF(OR(係数マスタ!$B$1=係数マスタ!$F$3,係数マスタ!$B$1=係数マスタ!$J$3),係数マスタ!$D7,係数マスタ!$E7) -> 4 | AE11: =②打ち込みシート!CJ9 | AF11: =②打ち込みシート!CN9 | AG11: =②打ち込みシート!CR9 | AH11: =②打ち込みシート!CV9 | AI11: =②打ち込みシート!CZ9
B12: =IF(OR(係数マスタ!$B$1=係数マスタ!$F$3,係数マスタ!$B$1=係数マスタ!$J$3),係数マスタ!$D8,係数マスタ!$E8) -> 5 | C12: =②打ち込みシート!D10 | D12: =②打ち込みシート!H10 | E12: =②打ち込みシート!L10 | F12: =②打ち込みシート!P10 | G12: =②打ち込みシート!T10 | I12: =IF(OR(係数マスタ!$B$1=係数マスタ!$F$3,係数マスタ!$B$1=係数マスタ!$J$3),係数マスタ!$D8,係数マスタ!$E8) -> 5 | J12: =②打ち込みシート!Y10 | K12: =②打ち込みシート!AC10 | L12: =②打ち込みシート!AG10 | M12: =②打ち込みシート!AK10 | N12: =②打ち込みシート!AO10 | P12: =IF(OR(係数マスタ!$B$1=係数マスタ!$F$3,係数マスタ!$B$1=係数マスタ!$J$3),係数マスタ!$D8,係数マスタ!$E8) -> 5 | Q12: =②打ち込みシート!AT10 | R12: =②打ち込みシート!AX10 | S12: =②打ち込みシート!BB10 | T12: =②打ち込みシート!BF10 | U12: =②打ち込みシート!BJ10 | W12: =IF(OR(係数マスタ!$B$1=係数マスタ!$F$3,係数マスタ!$B$1=係数マスタ!$J$3),係数マスタ!$D8,係数マスタ!$E8) -> 5 | X12: =②打ち込みシート!BO10 | Y12: =②打ち込みシート!BS10 | Z12: =②打ち込みシート!BW10 | AA12: =②打ち込みシート!CA10 | AB12: =②打ち込みシート!CE10 | AD12: =IF(OR(係数マスタ!$B$1=係数マスタ!$F$3,係数マスタ!$B$1=係数マスタ!$J$3),係数マスタ!$D8,係数マスタ!$E8) -> 5 | AE12: =②打ち込みシート!CJ10 | AF12: =②打ち込みシート!CN10 | AG12: =②打ち込みシート!CR10 | AH12: =②打ち込みシート!CV10 | AI12: =②打ち込みシート!CZ10
B13: =IF(OR(係数マスタ!$B$1=係数マスタ!$F$3,係数マスタ!$B$1=係数マスタ!$J$3),係数マスタ!$D9,係数マスタ!$E9) -> 6 | C13: =②打ち込みシート!D11 | D13: =②打ち込みシート!H11 | E13: =②打ち込みシート!L11 | F13: =②打ち込みシート!P11 | G13: =②打ち込みシート!T11 | I13: =IF(OR(係数マスタ!$B$1=係数マスタ!$F$3,係数マスタ!$B$1=係数マスタ!$J$3),係数マスタ!$D9,係数マスタ!$E9) -> 6 | J13: =②打ち込みシート!Y11 | K13: =②打ち込みシート!AC11 | L13: =②打ち込みシート!AG11 | M13: =②打ち込みシート!AK11 | N13: =②打ち込みシート!AO11 | P13: =IF(OR(係数マスタ!$B$1=係数マスタ!$F$3,係数マスタ!$B$1=係数マスタ!$J$3),係数マスタ!$D9,係数マスタ!$E9) -> 6 | Q13: =②打ち込みシート!AT11 | R13: =②打ち込みシート!AX11 | S13: =②打ち込みシート!BB11 | T13: =②打ち込みシート!BF11 | U13: =②打ち込みシート!BJ11 | W13: =IF(OR(係数マスタ!$B$1=係数マスタ!$F$3,係数マスタ!$B$1=係数マスタ!$J$3),係数マスタ!$D9,係数マスタ!$E9) -> 6 | X13: =②打ち込みシート!BO11 | Y13: =②打ち込みシート!BS11 | Z13: =②打ち込みシート!BW11 | AA13: =②打ち込みシート!CA11 | AB13: =②打ち込みシート!CE11 | AD13: =IF(OR(係数マスタ!$B$1=係数マスタ!$F$3,係数マスタ!$B$1=係数マスタ!$J$3),係数マスタ!$D9,係数マスタ!$E9) -> 6 | AE13: =②打ち込みシート!CJ11 | AF13: =②打ち込みシート!CN11 | AG13: =②打ち込みシート!CR11 | AH13: =②打ち込みシート!CV11 | AI13: =②打ち込みシート!CZ11
