Workbook

Sheet ①出番表
B2: 大会登録No. | E2: 開催日： | P2: 主任審判員署名：
B3: 大会名： | Q3: 公式発表時刻：
B4: 第 | D4: 競技 | E4: 競技名：
B5: 認定競技No. | E5: クラス：
A6: E： | B6: 会員番号 | D6: 審判名
A7: H： | B7: 会員番号 | D7: 審判名
A8: C： | B8: 会員番号 | D8: 審判名
A9: M： | B9: 会員番号 | D9: 審判名
A10: B： | B10: 会員番号 | D10: 審判名
H11: 得 点 率 | AB11: 小 | AC11: 計 | AD11: 最終
I12: E | M12: H | Q12: C | U12: M | Y12: B | AD12: 得点率 | AE12: 備考
A13: 順位 | B13: 出番 | C13: 選手名 | D13: 会員番号 | E13: 馬匹名 | F13: 登録番号 | G13: 所 属 | H13: 技術 | I13: 芸術 | L13: 技術 | M13: 芸術 | P13: 技術 | Q13: 芸術 | T13: 技術 | U13: 芸術 | X13: 技術 | Y13: 芸術 | AB13: 技術 | AC13: 芸術
B14: 1
B15: 2
B16: 3
B17: 4
B18: 5
B19: 6
B20: 7
B21: 8
B22: 9
B23: 10
B24: 11
B25: 12
... B33: 20

Sheet ②打ち込みシート
A1: 課目 | B1: =①出番表!F4 -> 0 | V1: 日付 | W1: =①出番表!F2 -> 0 | AA1: 審判 | AB1: =COUNTA(①出番表!E6:E10) -> 0
A3: 出番 | B3: =①出番表!$B14 -> 1 | D3: 選手 | E3: =①出番表!$C14 -> 0 | H3: =①出番表!$D14 -> 0 | I3: 馬 | J3: =①出番表!$E14 -> 0 | M3: =①出番表!$F14 -> 0 | N3: 所属 | O3: =①出番表!$G14 -> 0 | S3: 強制処理 | V3: 出番 | W3: =①出番表!$B15 -> 2 | Y3: 選手 | Z3: =①出番表!$C15 -> 0 | AC3: =①出番表!$D15 -> 0 | AD3: 馬 | AE3: =①出番表!$E15 -> 0 | AH3: =①出番表!$F15 -> 0 | AI3: 所属 | AJ3: =①出番表!$G15 -> 0 | AN3: 強制処理 | AQ3: 出番 | AR3: =①出番表!$B16 -> 3 | AT3: 選手 | AU3: =①出番表!$C16 -> 0 | AX3: =①出番表!$D16 -> 0 | AY3: 馬 | AZ3: =①出番表!$E16 -> 0 | BC3: =①出番表!$F16 -> 0 | BD3: 所属 | BE3: =①出番表!$G16 -> 0 | BI3: 強制処理 | BL3: 出番 | BM3: =①出番表!$B17 -> 4 | BO3: 選手 | BP3: =①出番表!$C17 -> 0 | BS3: =①出番表!$D17 -> 0 | BT3: 馬 | BU3: =①出番表!$E17 -> 0 | BX3: =①出番表!$F17 -> 0 | BY3: 所属 | BZ3: =①出番表!$G17 -> 0 | CD3: 強制処理 | CG3: 出番 | CH3: =①出番表!$B18 -> 5 | CJ3: 選手 | CK3: =①出番表!$C18 -> 0 | CN3: =①出番表!$D18 -> 0 | CO3: 馬 | CP3: =①出番表!$E18 -> 0 | CS3: =①出番表!$F18 -> 0 | CT3: 所属 | CU3: =①出番表!$G18 -> 0 | CY3: 強制処理
A4: E | E4: H | I4: C | M4: M | Q4: B | V4: E | Z4: H | AD4: C | AH4: M | AL4: B | AQ4: E | AU4: H | AY4: C | BC4: M | BG4: B | BL4: E | BP4: H | BT4: C | BX4: M | CB4: B | CG4: E | CK4: H | CO4: C | CS4: M | CW4: B
A5: 項目 | B5: 入力 | C5: 係数 | D5: 得点 | E5: 項目 | F5: 入力 | G5: 係数 | H5: 得点 | I5: 項目 | J5: 入力 | K5: 係数 | L5: 得点 | M5: 項目 | N5: 入力 | O5: 係数 | P5: 得点 | Q5: 項目 | R5: 入力 | S5: 係数 | T5: 得点 | V5: 項目 | W5: 入力 | X5: 係数 | Y5: 得点 | Z5: 項目 | AA5: 入力 | AB5: 係数 | AC5: 得点 | AD5: 項目 | AE5: 入力 | AF5: 係数 | AG5: 得点 | AH5: 項目 | AI5: 入力 | AJ5: 係数 | AK5: 得点 | AL5: 項目 | AM5: 入力 | AN5: 係数 | AO5: 得点 | AQ5: 項目 | AR5: 入力 | AS5: 係数 | AT5: 得点 | AU5: 項目 | AV5: 入力 | AW5: 係数 | AX5: 得点 | AY5: 項目 | AZ5: 入力 | BA5: 係数 | BB5: 得点 | BC5: 項目 | BD5: 入力 | BE5: 係数 | BF5: 得点 | BG5: 項目 | BH5: 入力 | BI5: 係数 | BJ5: 得点 | BL5: 項目 | BM5: 入力 | BN5: 係数 | BO5: 得点 | BP5: 項目 | BQ5: 入力 | BR5: 係数 | BS5: 得点 | BT5: 項目 | BU5: 入力 | BV5: 係数 | BW5: 得点 | BX5: 項目 | BY5: 入力 | BZ5: 係数 | CA5: 得点 | CB5: 項目 | CC5: 入力 | CD5: 係数 | CE5: 得点 | CG5: 項目 | CH5: 入力 | CI5: 係数 | CJ5: 得点 | CK5: 項目 | CL5: 入力 | CM5: 係数 | CN5: 得点 | CO5: 項目 | CP5: 入力 | CQ5: 係数 | CR5: 得点 | CS5: 項目 | CT5: 入力 | CU5: 係数 | CV5: 得点 | CW5: 項目 | CX5: 入力 | CY5: 係数 | CZ5: 得点
A6: =係数マスタ!$A$4 -> 1 | C6: =係数マスタ!$B$4 -> #N/A | D6: =IFERROR(B6*C6,"") | E6: =係数マスタ!$A$4 -> 1 | G6: =係数マスタ!$B$4 -> #N/A | H6: =IFERROR(F6*G6,"") | I6: =係数マスタ!$A$4 -> 1 | K6: =係数マスタ!$B$4 -> #N/A | L6: =IFERROR(J6*K6,"") | M6: =係数マスタ!$A$4 -> 1 | O6: =係数マスタ!$B$4 -> #N/A | P6: =IFERROR(N6*O6,"") | Q6: =係数マスタ!$A$4 -> 1 | S6: =係数マスタ!$B$4 -> #N/A | T6: =IFERROR(R6*S6,"") | V6: =係数マスタ!$A$4 -> 1 | X6: =係数マスタ!$B$4 -> #N/A | Y6: =IFERROR(W6*X6,"") | Z6: =係数マスタ!$A$4 -> 1 | AB6: =係数マスタ!$B$4 -> #N/A | AC6: =IFERROR(AA6*AB6,"") | AD6: =係数マスタ!$A$4 -> 1 | AF6: =係数マスタ!$B$4 -> #N/A | AG6: =IFERROR(AE6*AF6,"") | AH6: =係数マスタ!$A$4 -> 1 | AJ6: =係数マスタ!$B$4 -> #N/A | AK6: =IFERROR(AI6*AJ6,"") | AL6: =係数マスタ!$A$4 -> 1 | AN6: =係数マスタ!$B$4 -> #N/A | AO6: =IFERROR(AM6*AN6,"") | AQ6: =係数マスタ!$A$4 -> 1 | AS6: =係数マスタ!$B$4 -> #N/A | AT6: =IFERROR(AR6*AS6,"") | AU6: =係数マスタ!$A$4 -> 1 | AW6: =係数マスタ!$B$4 -> #N/A | AX6: =IFERROR(AV6*AW6,"") | AY6: =係数マスタ!$A$4 -> 1 | BA6: =係数マスタ!$B$4 -> #N/A | BB6: =IFERROR(AZ6*BA6,"") | BC6: =係数マスタ!$A$4 -> 1 | BE6: =係数マスタ!$B$4 -> #N/A | BF6: =IFERROR(BD6*BE6,"") | BG6: =係数マスタ!$A$4 -> 1 | BI6: =係数マスタ!$B$4 -> #N/A | BJ6: =IFERROR(BH6*BI6,"") | BL6: =係数マスタ!$A$4 -> 1 | BN6: =係数マスタ!$B$4 -> #N/A | BO6: =IFERROR(BM6*BN6,"") | BP6: =係数マスタ!$A$4 -> 1 | BR6: =係数マスタ!$B$4 -> #N/A | BS6: =IFERROR(BQ6*BR6,"") | BT6: =係数マスタ!$A$4 -> 1 | BV6: =係数マスタ!$B$4 -> #N/A | BW6: =IFERROR(BU6*BV6,"") | BX6: =係数マスタ!$A$4 -> 1 | BZ6: =係数マスタ!$B$4 -> #N/A | CA6: =IFERROR(BY6*BZ6,"") | CB6: =係数マスタ!$A$4 -> 1 | CD6: =係数マスタ!$B$4 -> #N/A | CE6: =IFERROR(CC6*CD6,"") | CG6: =係数マスタ!$A$4 -> 1 | CI6: =係数マスタ!$B$4 -> #N/A | CJ6: =IFERROR(CH6*CI6,"") | CK6: =係数マスタ!$A$4 -> 1 | CM6: =係数マスタ!$B$4 -> #N/A | CN6: =IFERROR(CL6*CM6,"") | CO6: =係数マスタ!$A$4 -> 1 | CQ6: =係数マスタ!$B$4 -> #N/A | CR6: =IFERROR(CP6*CQ6,"") | CS6: =係数マスタ!$A$4 -> 1 | CU6: =係数マスタ!$B$4 -> #N/A | CV6: =IFERROR(CT6*CU6,"") | CW6: =係数マスタ!$A$4 -> 1 | CY6: =係数マスタ!$B$4 -> #N/A | CZ6: =IFERROR(CX6*CY6,"")
A7: =係数マスタ!$A$5 -> 2 | C7: =係数マスタ!$B$5 -> #N/A | D7: =IFERROR(B7*C7,"") | E7: =係数マスタ!$A$5 -> 2 | G7: =係数マスタ!$B$5 -> #N/A | H7: =IFERROR(F7*G7,"") | I7: =係数マスタ!$A$5 -> 2 | K7: =係数マスタ!$B$5 -> #N/A | L7: =IFERROR(J7*K7,"") | M7: =係数マスタ!$A$5 -> 2 | O7: =係数マスタ!$B$5 -> #N/A | P7: =IFERROR(N7*O7,"") | Q7: =係数マスタ!$A$5 -> 2 | S7: =係数マスタ!$B$5 -> #N/A | T7: =IFERROR(R7*S7,"") | V7: =係数マスタ!$A$5 -> 2 | X7: =係数マスタ!$B$5 -> #N/A | Y7: =IFERROR(W7*X7,"") | Z7: =係数マスタ!$A$5 -> 2 | AB7: =係数マスタ!$B$5 -> #N/A | AC7: =IFERROR(AA7*AB7,"") | AD7: =係数マスタ!$A$5 -> 2 | AF7: =係数マスタ!$B$5 -> #N/A | AG7: =IFERROR(AE7*AF7,"") | AH7: =係数マスタ!$A$5 -> 2 | AJ7: =係数マスタ!$B$5 -> #N/A | AK7: =IFERROR(AI7*AJ7,"") | AL7: =係数マスタ!$A$5 -> 2 | AN7: =係数マスタ!$B$5 -> #N/A | AO7: =IFERROR(AM7*AN7,"") | AQ7: =係数マスタ!$A$5 -> 2 | AS7: =係数マスタ!$B$5 -> #N/A | AT7: =IFERROR(AR7*AS7,"") | AU7: =係数マスタ!$A$5 -> 2 | AW7: =係数マスタ!$B$5 -> #N/A | AX7: =IFERROR(AV7*AW7,"") | AY7: =係数マスタ!$A$5 -> 2 | BA7: =係数マスタ!$B$5 -> #N/A | BB7: =IFERROR(AZ7*BA7,"") | BC7: =係数マスタ!$A$5 -> 2 | BE7: =係数マスタ!$B$5 -> #N/A | BF7: =IFERROR(BD7*BE7,"") | BG7: =係数マスタ!$A$5 -> 2 | BI7: =係数マスタ!$B$5 -> #N/A | BJ7: =IFERROR(BH7*BI7,"") | BL7: =係数マスタ!$A$5 -> 2 | BN7: =係数マスタ!$B$5 -> #N/A | BO7: =IFERROR(BM7*BN7,"") | BP7: =係数マスタ!$A$5 -> 2 | BR7: =係数マスタ!$B$5 -> #N/A | BS7: =IFERROR(BQ7*BR7,"") | BT7: =係数マスタ!$A$5 -> 2 | BV7: =係数マスタ!$B$5 -> #N/A | BW7: =IFERROR(BU7*BV7,"") | BX7: =係数マスタ!$A$5 -> 2 | BZ7: =係数マスタ!$B$5 -> #N/A | CA7: =IFERROR(BY7*BZ7,"") | CB7: =係数マスタ!$A$5 -> 2 | CD7: =係数マスタ!$B$5 -> #N/A | CE7: =IFERROR(CC7*CD7,"") | CG7: =係数マスタ!$A$5 -> 2 | CI7: =係数マスタ!$B$5 -> #N/A | CJ7: =IFERROR(CH7*CI7,"") | CK7: =係数マスタ!$A$5 -> 2 | CM7: =係数マスタ!$B$5 -> #N/A | CN7: =IFERROR(CL7*CM7,"") | CO7: =係数マスタ!$A$5 -> 2 | CQ7: =係数マスタ!$B$5 -> #N/A | CR7: =IFERROR(CP7*CQ7,"") | CS7: =係数マスタ!$A$5 -> 2 | CU7: =係数マスタ!$B$5 -> #N/A | CV7: =IFERROR(CT7*CU7,"") | CW7: =係数マスタ!$A$5 -> 2 | CY7: =係数マスタ!$B$5 -> #N/A | CZ7: =IFERROR(CX7*CY7,"")
A8: =係数マスタ!$A$6 -> 3 | C8: =係数マスタ!$B$6 -> #N/A | D8: =IFERROR(B8*C8,"") | E8: =係数マスタ!$A$6 -> 3 | G8: =係数マスタ!$B$6 -> #N/A | H8: =IFERROR(F8*G8,"") | I8: =係数マスタ!$A$6 -> 3 | K8: =係数マスタ!$B$6 -> #N/A | L8: =IFERROR(J8*K8,"") | M8: =係数マスタ!$A$6 -> 3 | O8: =係数マスタ!$B$6 -> #N/A | P8: =IFERROR(N8*O8,"") | Q8: =係数マスタ!$A$6 -> 3 | S8: =係数マスタ!$B$6 -> #N/A | T8: =IFERROR(R8*S8,"") | V8: =係数マスタ!$A$6 -> 3 | X8: =係数マスタ!$B$6 -> #N/A | Y8: =IFERROR(W8*X8,"") | Z8: =係数マスタ!$A$6 -> 3 | AB8: =係数マスタ!$B$6 -> #N/A | AC8: =IFERROR(AA8*AB8,"") | AD8: =係数マスタ!$A$6 -> 3 | AF8: =係数マスタ!$B$6 -> #N/A | AG8: =IFERROR(AE8*AF8,"") | AH8: =係数マスタ!$A$6 -> 3 | AJ8: =係数マスタ!$B$6 -> #N/A | AK8: =IFERROR(AI8*AJ8,"") | AL8: =係数マスタ!$A$6 -> 3 | AN8: =係数マスタ!$B$6 -> #N/A | AO8: =IFERROR(AM8*AN8,"") | AQ8: =係数マスタ!$A$6 -> 3 | AS8: =係数マスタ!$B$6 -> #N/A | AT8: =IFERROR(AR8*AS8,"") | AU8: =係数マスタ!$A$6 -> 3 | AW8: =係数マスタ!$B$6 -> #N/A | AX8: =IFERROR(AV8*AW8,"") | AY8: =係数マスタ!$A$6 -> 3 | BA8: =係数マスタ!$B$6 -> #N/A | BB8: =IFERROR(AZ8*BA8,"") | BC8: =係数マスタ!$A$6 -> 3 | BE8: =係数マスタ!$B$6 -> #N/A | BF8: =IFERROR(BD8*BE8,"") | BG8: =係数マスタ!$A$6 -> 3 | BI8: =係数マスタ!$B$6 -> #N/A | BJ8: =IFERROR(BH8*BI8,"") | BL8: =係数マスタ!$A$6 -> 3 | BN8: =係数マスタ!$B$6 -> #N/A | BO8: =IFERROR(BM8*BN8,"") | BP8: =係数マスタ!$A$6 -> 3 | BR8: =係数マスタ!$B$6 -> #N/A | BS8: =IFERROR(BQ8*BR8,"") | BT8: =係数マスタ!$A$6 -> 3 | BV8: =係数マスタ!$B$6 -> #N/A | BW8: =IFERROR(BU8*BV8,"") | BX8: =係数マスタ!$A$6 -> 3 | BZ8: =係数マスタ!$B$6 -> #N/A | CA8: =IFERROR(BY8*BZ8,"") | CB8: =係数マスタ!$A$6 -> 3 | CD8: =係数マスタ!$B$6 -> #N/A | CE8: =IFERROR(CC8*CD8,"") | CG8: =係数マスタ!$A$6 -> 3 | CI8: =係数マスタ!$B$6 -> #N/A | CJ8: =IFERROR(CH8*CI8,"") | CK8: =係数マスタ!$A$6 -> 3 | CM8: =係数マスタ!$B$6 -> #N/A | CN8: =IFERROR(CL8*CM8,"") | CO8: =係数マスタ!$A$6 -> 3 | CQ8: =係数マスタ!$B$6 -> #N/A | CR8: =IFERROR(CP8*CQ8,"") | CS8: =係数マスタ!$A$6 -> 3 | CU8: =係数マスタ!$B$6 -> #N/A | CV8: =IFERROR(CT8*CU8,"") | CW8: =係数マスタ!$A$6 -> 3 | CY8: =係数マスタ!$B$6 -> #N/A | CZ8: =IFERROR(CX8*CY8,"")
A9: =係数マスタ!$A$7 -> 4 | C9: =係数マスタ!$B$7 -> #N/A | D9: =IFERROR(B9*C9,"") | E9: =係数マスタ!$A$7 -> 4 | G9: =係数マスタ!$B$7 -> #N/A | H9: =IFERROR(F9*G9,"") | I9: =係数マスタ!$A$7 -> 4 | K9: =係数マスタ!$B$7 -> #N/A | L9: =IFERROR(J9*K9,"") | M9: =係数マスタ!$A$7 -> 4 | O9: =係数マスタ!$B$7 -> #N/A | P9: =IFERROR(N9*O9,"") | Q9: =係数マスタ!$A$7 -> 4 | S9: =係数マスタ!$B$7 -> #N/A | T9: =IFERROR(R9*S9,"") | V9: =係数マスタ!$A$7 -> 4 | X9: =係数マスタ!$B$7 -> #N/A | Y9: =IFERROR(W9*X9,"") | Z9: =係数マスタ!$A$7 -> 4 | AB9: =係数マスタ!$B$7 -> #N/A | AC9: =IFERROR(AA9*AB9,"") | AD9: =係数マスタ!$A$7 -> 4 | AF9: =係数マスタ!$B$7 -> #N/A | AG9: =IFERROR(AE9*AF9,"") | AH9: =係数マスタ!$A$7 -> 4 | AJ9: =係数マスタ!$B$7 -> #N/A | AK9: =IFERROR(AI9*AJ9,"") | AL9: =係数マスタ!$A$7 -> 4 | AN9: =係数マスタ!$B$7 -> #N/A | AO9: =IFERROR(AM9*AN9,"") | AQ9: =係数マスタ!$A$7 -> 4 | AS9: =係数マスタ!$B$7 -> #N/A | AT9: =IFERROR(AR9*AS9,"") | AU9: =係数マスタ!$A$7 -> 4 | AW9: =係数マスタ!$B$7 -> #N/A | AX9: =IFERROR(AV9*AW9,"") | AY9: =係数マスタ!$A$7 -> 4 | BA9: =係数マスタ!$B$7 -> #N/A | BB9: =IFERROR(AZ9*BA9,"") | BC9: =係数マスタ!$A$7 -> 4 | BE9: =係数マスタ!$B$7 -> #N/A | BF9: =IFERROR(BD9*BE9,"") | BG9: =係数マスタ!$A$7 -> 4 | BI9: =係数マスタ!$B$7 -> #N/A | BJ9: =IFERROR(BH9*BI9,"") | BL9: =係数マスタ!$A$7 -> 4 | BN9: =係数マスタ!$B$7 -> #N/A | BO9: =IFERROR(BM9*BN9,"") | BP9: =係数マスタ!$A$7 -> 4 | BR9: =係数マスタ!$B$7 -> #N/A | BS9: =IFERROR(BQ9*BR9,"") | BT9: =係数マスタ!$A$7 -> 4 | BV9: =係数マスタ!$B$7 -> #N/A | BW9: =IFERROR(BU9*BV9,"") | BX9: =係数マスタ!$A$7 -> 4 | BZ9: =係数マスタ!$B$7 -> #N/A | CA9: =IFERROR(BY9*BZ9,"") | CB9: =係数マスタ!$A$7 -> 4 | CD9: =係数マスタ!$B$7 -> #N/A | CE9: =IFERROR(CC9*CD9,"") | CG9: =係数マスタ!$A$7 -> 4 | CI9: =係数マスタ!$B$7 -> #N/A | CJ9: =IFERROR(CH9*CI9,"") | CK9: =係数マスタ!$A$7 -> 4 | CM9: =係数マスタ!$B$7 -> #N/A | CN9: =IFERROR(CL9*CM9,"") | CO9: =係数マスタ!$A$7 -> 4 | CQ9: =係数マスタ!$B$7 -> #N/A | CR9: =IFERROR(CP9*CQ9,"") | CS9: =係数マスタ!$A$7 -> 4 | CU9: =係数マスタ!$B$7 -> #N/A | CV9: =IFERROR(CT9*CU9,"") | CW9: =係数マスタ!$A$7 -> 4 | CY9: =係数マスタ!$B$7 -> #N/A | CZ9: =IFERROR(CX9*CY9,"")
A10: =係数マスタ!$A$8 -> 5 | C10: =係数マスタ!$B$8 -> #N/A | D10: =IFERROR(B10*C10,"") | E10: =係数マスタ!$A$8 -> 5 | G10: =係数マスタ!$B$8 -> #N/A | H10: =IFERROR(F10*G10,"") | I10: =係数マスタ!$A$8 -> 5 | K10: =係数マスタ!$B$8 -> #N/A | L10: =IFERROR(J10*K10,"") | M10: =係数マスタ!$A$8 -> 5 | O10: =係数マスタ!$B$8 -> #N/A | P10: =IFERROR(N10*O10,"") | Q10: =係数マスタ!$A$8 -> 5 | S10: =係数マスタ!$B$8 -> #N/A | T10: =IFERROR(R10*S10,"") | V10: =係数マスタ!$A$8 -> 5 | X10: =係数マスタ!$B$8 -> #N/A | Y10: =IFERROR(W10*X10,"") | Z10: =係数マスタ!$A$8 -> 5 | AB10: =係数マスタ!$B$8 -> #N/A | AC10: =IFERROR(AA10*AB10,"") | AD10: =係数マスタ!$A$8 -> 5 | AF10: =係数マスタ!$B$8 -> #N/A | AG10: =IFERROR(AE10*AF10,"") | AH10: =係数マスタ!$A$8 -> 5 | AJ10: =係数マスタ!$B$8 -> #N/A | AK10: =IFERROR(AI10*AJ10,"") | AL10: =係数マスタ!$A$8 -> 5 | AN10: =係数マスタ!$B$8 -> #N/A | AO10: =IFERROR(AM10*AN10,"") | AQ10: =係数マスタ!$A$8 -> 5 | AS10: =係数マスタ!$B$8 -> #N/A | AT10: =IFERROR(AR10*AS10,"") | AU10: =係数マスタ!$A$8 -> 5 | AW10: =係数マスタ!$B$8 -> #N/A | AX10: =IFERROR(AV10*AW10,"") | AY10: =係数マスタ!$A$8 -> 5 | BA10: =係数マスタ!$B$8 -> #N/A | BB10: =IFERROR(AZ10*BA10,"") | BC10: =係数マスタ!$A$8 -> 5 | BE10: =係数マスタ!$B$8 -> #N/A | BF10: =IFERROR(BD10*BE10,"") | BG10: =係数マスタ!$A$8 -> 5 | BI10: =係数マスタ!$B$8 -> #N/A | BJ10: =IFERROR(BH10*BI10,"") | BL10: =係数マスタ!$A$8 -> 5 | BN10: =係数マスタ!$B$8 -> #N/A | BO10: =IFERROR(BM10*BN10,"") | BP10: =係数マスタ!$A$8 -> 5 | BR10: =係数マスタ!$B$8 -> #N/A | BS10: =IFERROR(BQ10*BR10,"") | BT10: =係数マスタ!$A$8 -> 5 | BV10: =係数マスタ!$B$8 -> #N/A | BW10: =IFERROR(BU10*BV10,"") | BX10: =係数マスタ!$A$8 -> 5 | BZ10: =係数マスタ!$B$8 -> #N/A | CA10: =IFERROR(BY10*BZ10,"") | CB10: =係数マスタ!$A$8 -> 5 | CD10: =係数マスタ!$B$8 -> #N/A | CE10: =IFERROR(CC10*CD10,"") | CG10: =係数マスタ!$A$8 -> 5 | CI10: =係数マスタ!$B$8 -> #N/A | CJ10: =IFERROR(CH10*CI10,"") | CK10: =係数マスタ!$A$8 -> 5 | CM10: =係数マスタ!$B$8 -> #N/A | CN10: =IFERROR(CL10*CM10,"") | CO10: =係数マスタ!$A$8 -> 5 | CQ10: =係数マスタ!$B$8 -> #N/A | CR10: =IFERROR(CP10*CQ10,"") | CS10: =係数マスタ!$A$8 -> 5 | CU10: =係数マスタ!$B$8 -> #N/A | CV10: =IFERROR(CT10*CU10,"") | CW10: =係数マスタ!$A$8 -> 5 | CY10: =係数マスタ!$B$8 -> #N/A | CZ10: =IFERROR(CX10*CY10,"")
A11: =係数マスタ!$A$9 -> 6 | C11: =係数マスタ!$B$9 -> #N/A | D11: =IFERROR(B11*C11,"") | E11: =係数マスタ!$A$9 -> 6 | G11: =係数マスタ!$B$9 -> #N/A | H11: =IFERROR(F11*G11,"") | I11: =係数マスタ!$A$9 -> 6 | K11: =係数マスタ!$B$9 -> #N/A | L11: =IFERROR(J11*K11,"") | M11: =係数マスタ!$A$9 -> 6 | O11: =係数マスタ!$B$9 -> #N/A | P11: =IFERROR(N11*O11,"") | Q11: =係数マスタ!$A$9 -> 6 | S11: =係数マスタ!$B$9 -> #N/A | T11: =IFERROR(R11*S11,"") | V11: =係数マスタ!$A$9 -> 6 | X11: =係数マスタ!$B$9 -> #N/A | Y11: =IFERROR(W11*X11,"") | Z11: =係数マスタ!$A$9 -> 6 | AB11: =係数マスタ!$B$9 -> #N/A | AC11: =IFERROR(AA11*AB11,"") | AD11: =係数マスタ!$A$9 -> 6 | AF11: =係数マスタ!$B$9 -> #N/A | AG11: =IFERROR(AE11*AF11,"") | AH11: =係数マスタ!$A$9 -> 6 | AJ11: =係数マスタ!$B$9 -> #N/A | AK11: =IFERROR(AI11*AJ11,"") | AL11: =係数マスタ!$A$9 -> 6 | AN11: =係数マスタ!$B$9 -> #N/A | AO11: =IFERROR(AM11*AN11,"") | AQ11: =係数マスタ!$A$9 -> 6 | AS11: =係数マスタ!$B$9 -> #N/A | AT11: =IFERROR(AR11*AS11,"") | AU11: =係数マスタ!$A$9 -> 6 | AW11: =係数マスタ!$B$9 -> #N/A | AX11: =IFERROR(AV11*AW11,"") | AY11: =係数マスタ!$A$9 -> 6 | BA11: =係数マスタ!$B$9 -> #N/A | BB11: =IFERROR(AZ11*BA11,"") | BC11: =係数マスタ!$A$9 -> 6 | BE11: =係数マスタ!$B$9 -> #N/A | BF11: =IFERROR(BD11*BE11,"") | BG11: =係数マスタ!$A$9 -> 6 | BI11: =係数マスタ!$B$9 -> #N/A | BJ11: =IFERROR(BH11*BI11,"") | BL11: =係数マスタ!$A$9 -> 6 | BN11: =係数マスタ!$B$9 -> #N/A | BO11: =IFERROR(BM11*BN11,"") | BP11: =係数マスタ!$A$9 -> 6 | BR11: =係数マスタ!$B$9 -> #N/A | BS11: =IFERROR(BQ11*BR11,"") | BT11: =係数マスタ!$A$9 -> 6 | BV11: =係数マスタ!$B$9 -> #N/A | BW11: =IFERROR(BU11*BV11,"") | BX11: =係数マスタ!$A$9 -> 6 | BZ11: =係数マスタ!$B$9 -> #N/A | CA11: =IFERROR(BY11*BZ11,"") | CB11: =係数マスタ!$A$9 -> 6 | CD11: =係数マスタ!$B$9 -> #N/A | CE11: =IFERROR(CC11*CD11,"") | CG11: =係数マスタ!$A$9 -> 6 | CI11: =係数マスタ!$B$9 -> #N/A | CJ11: =IFERROR(CH11*CI11,"") | CK11: =係数マスタ!$A$9 -> 6 | CM11: =係数マスタ!$B$9 -> #N/A | CN11: =IFERROR(CL11*CM11,"") | CO11: =係数マスタ!$A$9 -> 6 | CQ11: =係数マスタ!$B$9 -> #N/A | CR11: =IFERROR(CP11*CQ11,"") | CS11: =係数マスタ!$A$9 -> 6 | CU11: =係数マスタ!$B$9 -> #N/A | CV11: =IFERROR(CT11*CU11,"") | CW11: =係数マスタ!$A$9 -> 6 | CY11: =係数マスタ!$B$9 -> #N/A | CZ11: =IFERROR(CX11*CY11,"")
A12: =係数マスタ!$A$10 -> 7 | C12: =係数マスタ!$B$10 -> #N/A | D12: =IFERROR(B12*C12,"") | E12: =係数マスタ!$A$10 -> 7 | G12: =係数マスタ!$B$10 -> #N/A | H12: =IFERROR(F12*G12,"") | I12: =係数マスタ!$A$10 -> 7 | K12: =係数マスタ!$B$10 -> #N/A | L12: =IFERROR(J12*K12,"") | M12: =係数マスタ!$A$10 -> 7 | O12: =係数マスタ!$B$10 -> #N/A | P12: =IFERROR(N12*O12,"") | Q12: =係数マスタ!$A$10 -> 7 | S12: =係数マスタ!$B$10 -> #N/A | T12: =IFERROR(R12*S12,"") | V12: =係数マスタ!$A$10 -> 7 | X12: =係数マスタ!$B$10 -> #N/A | Y12: =IFERROR(W12*X12,"") | Z12: =係数マスタ!$A$10 -> 7 | AB12: =係数マスタ!$B$10 -> #N/A | AC12: =IFERROR(AA12*AB12,"") | AD12: =係数マスタ!$A$10 -> 7 | AF12: =係数マスタ!$B$10 -> #N/A | AG12: =IFERROR(AE12*AF12,"") | AH12: =係数マスタ!$A$10 -> 7 | AJ12: =係数マスタ!$B$10 -> #N/A | AK12: =IFERROR(AI12*AJ12,"") | AL12: =係数マスタ!$A$10 -> 7 | AN12: =係数マスタ!$B$10 -> #N/A | AO12: =IFERROR(AM12*AN12,"") | AQ12: =係数マスタ!$A$10 -> 7 | AS12: =係数マスタ!$B$10 -> #N/A | AT12: =IFERROR(AR12*AS12,"") | AU12: =係数マスタ!$A$10 -> 7 | AW12: =係数マスタ!$B$10 -> #N/A | AX12: =IFERROR(AV12*AW12,"") | AY12: =係数マスタ!$A$10 -> 7 | BA12: =係数マスタ!$B$10 -> #N/A | BB12: =IFERROR(AZ12*BA12,"") | BC12: =係数マスタ!$A$10 -> 7 | BE12: =係数マスタ!$B$10 -> #N/A | BF12: =IFERROR(BD12*BE12,"") | BG12: =係数マスタ!$A$10 -> 7 | BI12: =係数マスタ!$B$10 -> #N/A | BJ12: =IFERROR(BH12*BI12,"") | BL12: =係数マスタ!$A$10 -> 7 | BN12: =係数マスタ!$B$10 -> #N/A | BO12: =IFERROR(BM12*BN12,"") | BP12: =係数マスタ!$A$10 -> 7 | BR12: =係数マスタ!$B$10 -> #N/A | BS12: =IFERROR(BQ12*BR12,"") | BT12: =係数マスタ!$A$10 -> 7 | BV12: =係数マスタ!$B$10 -> #N/A | BW12: =IFERROR(BU12*BV12,"") | BX12: =係数マスタ!$A$10 -> 7 | BZ12: =係数マスタ!$B$10 -> #N/A | CA12: =IFERROR(BY12*BZ12,"") | CB12: =係数マスタ!$A$10 -> 7 | CD12: =係数マスタ!$B$10 -> #N/A | CE12: =IFERROR(CC12*CD12,"") | CG12: =係数マスタ!$A$10 -> 7 | CI12: =係数マスタ!$B$10 -> #N/A | CJ12: =IFERROR(CH12*CI12,"") | CK12: =係数マスタ!$A$10 -> 7 | CM12: =係数マスタ!$B$10 -> #N/A | CN12: =IFERROR(CL12*CM12,"") | CO12: =係数マスタ!$A$10 -> 7 | CQ12: =係数マスタ!$B$10 -> #N/A | CR12: =IFERROR(CP12*CQ12,"") | CS12: =係数マスタ!$A$10 -> 7 | CU12: =係数マスタ!$B$10 -> #N/A | CV12: =IFERROR(CT12*CU12,"") | CW12: =係数マスタ!$A$10 -> 7 | CY12: =係数マスタ!$B$10 -> #N/A | CZ12: =IFERROR(CX12*CY12,"")
A13: =係数マスタ!$A$11 -> 8 | C13: =係数マスタ!$B$11 -> #N/A | D13: =IFERROR(B13*C13,"") | E13: =係数マスタ!$A$11 -> 8 | G13: =係数マスタ!$B$11 -> #N/A | H13: =IFERROR(F13*G13,"") | I13: =係数マスタ!$A$11 -> 8 | K13: =係数マスタ!$B$11 -> #N/A | L13: =IFERROR(J13*K13,"") | M13: =係数マスタ!$A$11 -> 8 | O13: =係数マスタ!$B$11 -> #N/A | P13: =IFERROR(N13*O13,"") | Q13: =係数マスタ!$A$11 -> 8 | S13: =係数マスタ!$B$11 -> #N/A | T13: =IFERROR(R13*S13,"") | V13: =係数マスタ!$A$11 -> 8 | X13: =係数マスタ!$B$11 -> #N/A | Y13: =IFERROR(W13*X13,"") | Z13: =係数マスタ!$A$11 -> 8 | AB13: =係数マスタ!$B$11 -> #N/A | AC13: =IFERROR(AA13*AB13,"") | AD13: =係数マスタ!$A$11 -> 8 | AF13: =係数マスタ!$B$11 -> #N/A | AG13: =IFERROR(AE13*AF13,"") | AH13: =係数マスタ!$A$11 -> 8 | AJ13: =係数マスタ!$B$11 -> #N/A | AK13: =IFERROR(AI13*AJ13,"") | AL13: =係数マスタ!$A$11 -> 8 | AN13: =係数マスタ!$B$11 -> #N/A | AO13: =IFERROR(AM13*AN13,"") | AQ13: =係数マスタ!$A$11 -> 8 | AS13: =係数マスタ!$B$11 -> #N/A | AT13: =IFERROR(AR13*AS13,"") | AU13: =係数マスタ!$A$11 -> 8 | AW13: =係数マスタ!$B$11 -> #N/A | AX13: =IFERROR(AV13*AW13,"") | AY13: =係数マスタ!$A$11 -> 8 | BA13: =係数マスタ!$B$11 -> #N/A | BB13: =IFERROR(AZ13*BA13,"") | BC13: =係数マスタ!$A$11 -> 8 | BE13: =係数マスタ!$B$11 -> #N/A | BF13: =IFERROR(BD13*BE13,"") | BG13: =係数マスタ!$A$11 -> 8 | BI13: =係数マスタ!$B$11 -> #N/A | BJ13: =IFERROR(BH13*BI13,"") | BL13: =係数マスタ!$A$11 -> 8 | BN13: =係数マスタ!$B$11 -> #N/A | BO13: =IFERROR(BM13*BN13,"") | BP13: =係数マスタ!$A$11 -> 8 | BR13: =係数マスタ!$B$11 -> #N/A | BS13: =IFERROR(BQ13*BR13,"") | BT13: =係数マスタ!$A$11 -> 8 | BV13: =係数マスタ!$B$11 -> #N/A | BW13: =IFERROR(BU13*BV13,"") | BX13: =係数マスタ!$A$11 -> 8 | BZ13: =係数マスタ!$B$11 -> #N/A | CA13: =IFERROR(BY13*BZ13,"") | CB13: =係数マスタ!$A$11 -> 8 | CD13: =係数マスタ!$B$11 -> #N/A | CE13: =IFERROR(CC13*CD13,"") | CG13: =係数マスタ!$A$11 -> 8 | CI13: =係数マスタ!$B$11 -> #N/A | CJ13: =IFERROR(CH13*CI13,"") | CK13: =係数マスタ!$A$11 -> 8 | CM13: =係数マスタ!$B$11 -> #N/A | CN13: =IFERROR(CL13*CM13,"") | CO13: =係数マスタ!$A$11 -> 8 | CQ13: =係数マスタ!$B$11 -> #N/A | CR13: =IFERROR(CP13*CQ13,"") | CS13: =係数マスタ!$A$11 -> 8 | CU13: =係数マスタ!$B$11 -> #N/A | CV13: =IFERROR(CT13*CU13,"") | CW13: =係数マスタ!$A$11 -> 8 | CY13: =係数マスタ!$B$11 -> #N/A | CZ13: =IFERROR(CX13*CY13,"")
A14: =係数マスタ!$A$12 -> 9 | C14: =係数マスタ!$B$12 -> #N/A | D14: =IFERROR(B14*C14,"") | E14: =係数マスタ!$A$12 -> 9 | G14: =係数マスタ!$B$12 -> #N/A | H14: =IFERROR(F14*G14,"") | I14: =係数マスタ!$A$12 -> 9 | K14: =係数マスタ!$B$12 -> #N/A | L14: =IFERROR(J14*K14,"") | M14: =係数マスタ!$A$12 -> 9 | O14: =係数マスタ!$B$12 -> #N/A | P14: =IFERROR(N14*O14,"") | Q14: =係数マスタ!$A$12 -> 9 | S14: =係数マスタ!$B$12 -> #N/A | T14: =IFERROR(R14*S14,"") | V14: =係数マスタ!$A$12 -> 9 | X14: =係数マスタ!$B$12 -> #N/A | Y14: =IFERROR(W14*X14,"") | Z14: =係数マスタ!$A$12 -> 9 | AB14: =係数マスタ!$B$12 -> #N/A | AC14: =IFERROR(AA14*AB14,"") | AD14: =係数マスタ!$A$12 -> 9 | AF14: =係数マスタ!$B$12 -> #N/A | AG14: =IFERROR(AE14*AF14,"") | AH14: =係数マスタ!$A$12 -> 9 | AJ14: =係数マスタ!$B$12 -> #N/A | AK14: =IFERROR(AI14*AJ14,"") | AL14: =係数マスタ!$A$12 -> 9 | AN14: =係数マスタ!$B$12 -> #N/A | AO14: =IFERROR(AM14*AN14,"") | AQ14: =係数マスタ!$A$12 -> 9 | AS14: =係数マスタ!$B$12 -> #N/A | AT14: =IFERROR(AR14*AS14,"") | AU14: =係数マスタ!$A$12 -> 9 | AW14: =係数マスタ!$B$12 -> #N/A | AX14: =IFERROR(AV14*AW14,"") | AY14: =係数マスタ!$A$12 -> 9 | BA14: =係数マスタ!$B$12 -> #N/A | BB14: =IFERROR(AZ14*BA14,"") | BC14: =係数マスタ!$A$12 -> 9 | BE14: =係数マスタ!$B$12 -> #N/A | BF14: =IFERROR(BD14*BE14,"") | BG14: =係数マスタ!$A$12 -> 9 | BI14: =係数マスタ!$B$12 -> #N/A | BJ14: =IFERROR(BH14*BI14,"") | BL14: =係数マスタ!$A$12 -> 9 | BN14: =係数マスタ!$B$12 -> #N/A | BO14: =IFERROR(BM14*BN14,"") | BP14: =係数マスタ!$A$12 -> 9 | BR14: =係数マスタ!$B$12 -> #N/A | BS14: =IFERROR(BQ14*BR14,"") | BT14: =係数マスタ!$A$12 -> 9 | BV14: =係数マスタ!$B$12 -> #N/A | BW14: =IFERROR(BU14*BV14,"") | BX14: =係数マスタ!$A$12 -> 9 | BZ14: =係数マスタ!$B$12 -> #N/A | CA14: =IFERROR(BY14*BZ14,"") | CB14: =係数マスタ!$A$12 -> 9 | CD14: =係数マスタ!$B$12 -> #N/A | CE14: =IFERROR(CC14*CD14,"") | CG14: =係数マスタ!$A$12 -> 9 | CI14: =係数マスタ!$B$12 -> #N/A | CJ14: =IFERROR(CH14*CI14,"") | CK14: =係数マスタ!$A$12 -> 9 | CM14: =係数マスタ!$B$12 -> #N/A | CN14: =IFERROR(CL14*CM14,"") | CO14: =係数マスタ!$A$12 -> 9 | CQ14: =係数マスタ!$B$12 -> #N/A | CR14: =IFERROR(CP14*CQ14,"") | CS14: =係数マスタ!$A$12 -> 9 | CU14: =係数マスタ!$B$12 -> #N/A | CV14: =IFERROR(CT14*CU14,"") | CW14: =係数マスタ!$A$12 -> 9 | CY14: =係数マスタ!$B$12 -> #N/A | CZ14: =IFERROR(CX14*CY14,"")
A15: =係数マスタ!$A$13 -> 10 | C15: =係数マスタ!$B$13 -> #N/A | D15: =IFERROR(B15*C15,"") | E15: =係数マスタ!$A$13 -> 10 | G15: =係数マスタ!$B$13 -> #N/A | H15: =IFERROR(F15*G15,"") | I15: =係数マスタ!$A$13 -> 10 | K15: =係数マスタ!$B$13 -> #N/A | L15: =IFERROR(J15*K15,"") | M15: =係数マスタ!$A$13 -> 10 | O15: =係数マスタ!$B$13 -> #N/A | P15: =IFERROR(N15*O15,"") | Q15: =係数マスタ!$A$13 -> 10 | S15: =係数マスタ!$B$13 -> #N/A | T15: =IFERROR(R15*S15,"") | V15: =係数マスタ!$A$13 -> 10 | X15: =係数マスタ!$B$13 -> #N/A | Y15: =IFERROR(W15*X15,"") | Z15: =係数マスタ!$A$13 -> 10 | AB15: =係数マスタ!$B$13 -> #N/A | AC15: =IFERROR(AA15*AB15,"") | AD15: =係数マスタ!$A$13 -> 10 | AF15: =係数マスタ!$B$13 -> #N/A | AG15: =IFERROR(AE15*AF15,"") | AH15: =係数マスタ!$A$13 -> 10 | AJ15: =係数マスタ!$B$13 -> #N/A | AK15: =IFERROR(AI15*AJ15,"") | AL15: =係数マスタ!$A$13 -> 10 | AN15: =係数マスタ!$B$13 -> #N/A | AO15: =IFERROR(AM15*AN15,"") | AQ15: =係数マスタ!$A$13 -> 10 | AS15: =係数マスタ!$B$13 -> #N/A | AT15: =IFERROR(AR15*AS15,"") | AU15: =係数マスタ!$A$13 -> 10 | AW15: =係数マスタ!$B$13 -> #N/A | AX15: =IFERROR(AV15*AW15,"") | AY15: =係数マスタ!$A$13 -> 10 | BA15: =係数マスタ!$B$13 -> #N/A | BB15: =IFERROR(AZ15*BA15,"") | BC15: =係数マスタ!$A$13 -> 10 | BE15: =係数マスタ!$B$13 -> #N/A | BF15: =IFERROR(BD15*BE15,"") | BG15: =係数マスタ!$A$13 -> 10 | BI15: =係数マスタ!$B$13 -> #N/A | BJ15: =IFERROR(BH15*BI15,"") | BL15: =係数マスタ!$A$13 -> 10 | BN15: =係数マスタ!$B$13 -> #N/A | BO15: =IFERROR(BM15*BN15,"") | BP15: =係数マスタ!$A$13 -> 10 | BR15: =係数マスタ!$B$13 -> #N/A | BS15: =IFERROR(BQ15*BR15,"") | BT15: =係数マスタ!$A$13 -> 10 | BV15: =係数マスタ!$B$13 -> #N/A | BW15: =IFERROR(BU15*BV15,"") | BX15: =係数マスタ!$A$13 -> 10 | BZ15: =係数マスタ!$B$13 -> #N/A | CA15: =IFERROR(BY15*BZ15,"") | CB15: =係数マスタ!$A$13 -> 10 | CD15: =係数マスタ!$B$13 -> #N/A | CE15: =IFERROR(CC15*CD15,"") | CG15: =係数マスタ!$A$13 -> 10 | CI15: =係数マスタ!$B$13 -> #N/A | CJ15: =IFERROR(CH15*CI15,"") | CK15: =係数マスタ!$A$13 -> 10 | CM15: =係数マスタ!$B$13 -> #N/A | CN15: =IFERROR(CL15*CM15,"") | CO15: =係数マスタ!$A$13 -> 10 | CQ15: =係数マスタ!$B$13 -> #N/A | CR15: =IFERROR(CP15*CQ15,"") | CS15: =係数マスタ!$A$13 -> 10 | CU15: =係数マスタ!$B$13 -> #N/A | CV15: =IFERROR(CT15*CU15,"") | CW15: =係数マスタ!$A$13 -> 10 | CY15: =係数マスタ!$B$13 -> #N/A | CZ15: =IFERROR(CX15*CY15,"")
A16: =係数マスタ!$A$14 -> 11 | C16: =係数マスタ!$B$14 -> #N/A | D16: =IFERROR(B16*C16,"") | E16: =係数マスタ!$A$14 -> 11 | G16: =係数マスタ!$B$14 -> #N/A | H16: =IFERROR(F16*G16,"") | I16: =係数マスタ!$A$14 -> 11 | K16: =係数マスタ!$B$14 -> #N/A | L16: =IFERROR(J16*K16,"") | M16: =係数マスタ!$A$14 -> 11 | O16: =係数マスタ!$B$14 -> #N/A | P16: =IFERROR(N16*O16,"") | Q16: =係数マスタ!$A$14 -> 11 | S16: =係数マスタ!$B$14 -> #N/A | T16: =IFERROR(R16*S16,"") | V16: =係数マスタ!$A$14 -> 11 | X16: =係数マスタ!$B$14 -> #N/A | Y16: =IFERROR(W16*X16,"") | Z16: =係数マスタ!$A$14 -> 11 | AB16: =係数マスタ!$B$14 -> #N/A | AC16: =IFERROR(AA16*AB16,"") | AD16: =係数マスタ!$A$14 -> 11 | AF16: =係数マスタ!$B$14 -> #N/A | AG16: =IFERROR(AE16*AF16,"") | AH16: =係数マスタ!$A$14 -> 11 | AJ16: =係数マスタ!$B$14 -> #N/A | AK16: =IFERROR(AI16*AJ16,"") | AL16: =係数マスタ!$A$14 -> 11 | AN16: =係数マスタ!$B$14 -> #N/A | AO16: =IFERROR(AM16*AN16,"") | AQ16: =係数マスタ!$A$14 -> 11 | AS16: =係数マスタ!$B$14 -> #N/A | AT16: =IFERROR(AR16*AS16,"") | AU16: =係数マスタ!$A$14 -> 11 | AW16: =係数マスタ!$B$14 -> #N/A | AX16: =IFERROR(AV16*AW16,"") | AY16: =係数マスタ!$A$14 -> 11 | BA16: =係数マスタ!$B$14 -> #N/A | BB16: =IFERROR(AZ16*BA16,"") | BC16: =係数マスタ!$A$14 -> 11 | BE16: =係数マスタ!$B$14 -> #N/A | BF16: =IFERROR(BD16*BE16,"") | BG16: =係数マスタ!$A$14 -> 11 | BI16: =係数マスタ!$B$14 -> #N/A | BJ16: =IFERROR(BH16*BI16,"") | BL16: =係数マスタ!$A$14 -> 11 | BN16: =係数マスタ!$B$14 -> #N/A | BO16: =IFERROR(BM16*BN16,"") | BP16: =係数マスタ!$A$14 -> 11 | BR16: =係数マスタ!$B$14 -> #N/A | BS16: =IFERROR(BQ16*BR16,"") | BT16: =係数マスタ!$A$14 -> 11 | BV16: =係数マスタ!$B$14 -> #N/A | BW16: =IFERROR(BU16*BV16,"") | BX16: =係数マスタ!$A$14 -> 11 | BZ16: =係数マスタ!$B$14 -> #N/A | CA16: =IFERROR(BY16*BZ16,"") | CB16: =係数マスタ!$A$14 -> 11 | CD16: =係数マスタ!$B$14 -> #N/A | CE16: =IFERROR(CC16*CD16,"") | CG16: =係数マスタ!$A$14 -> 11 | CI16: =係数マスタ!$B$14 -> #N/A | CJ16: =IFERROR(CH16*CI16,"") | CK16: =係数マスタ!$A$14 -> 11 | CM16: =係数マスタ!$B$14 -> #N/A | CN16: =IFERROR(CL16*CM16,"") | CO16: =係数マスタ!$A$14 -> 11 | CQ16: =係数マスタ!$B$14 -> #N/A | CR16: =IFERROR(CP16*CQ16,"") | CS16: =係数マスタ!$A$14 -> 11 | CU16: =係数マスタ!$B$14 -> #N/A | CV16: =IFERROR(CT16*CU16,"") | CW16: =係数マスタ!$A$14 -> 11 | CY16: =係数マスタ!$B$14 -> #N/A | CZ16: =IFERROR(CX16*CY16,"")
A17: =係数マスタ!$A$15 -> 12 | C17: =係数マスタ!$B$15 -> #N/A | D17: =IFERROR(B17*C17,"") | E17: =係数マスタ!$A$15 -> 12 | G17: =係数マスタ!$B$15 -> #N/A | H17: =IFERROR(F17*G17,"") | I17: =係数マスタ!$A$15 -> 12 | K17: =係数マスタ!$B$15 -> #N/A | L17: =IFERROR(J17*K17,"") | M17: =係数マスタ!$A$15 -> 12 | O17: =係数マスタ!$B$15 -> #N/A | P17: =IFERROR(N17*O17,"") | Q17: =係数マスタ!$A$15 -> 12 | S17: =係数マスタ!$B$15 -> #N/A | T17: =IFERROR(R17*S17,"") | V17: =係数マスタ!$A$15 -> 12 | X17: =係数マスタ!$B$15 -> #N/A | Y17: =IFERROR(W17*X17,"") | Z17: =係数マスタ!$A$15 -> 12 | AB17: =係数マスタ!$B$15 -> #N/A | AC17: =IFERROR(AA17*AB17,"") | AD17: =係数マスタ!$A$15 -> 12 | AF17: =係数マスタ!$B$15 -> #N/A | AG17: =IFERROR(AE17*AF17,"") | AH17: =係数マスタ!$A$15 -> 12 | AJ17: =係数マスタ!$B$15 -> #N/A | AK17: =IFERROR(AI17*AJ17,"") | AL17: =係数マスタ!$A$15 -> 12 | AN17: =係数マスタ!$B$15 -> #N/A | AO17: =IFERROR(AM17*AN17,"") | AQ17: =係数マスタ!$A$15 -> 12 | AS17: =係数マスタ!$B$15 -> #N/A | AT17: =IFERROR(AR17*AS17,"") | AU17: =係数マスタ!$A$15 -> 12 | AW17: =係数マスタ!$B$15 -> #N/A | AX17: =IFERROR(AV17*AW17,"") | AY17: =係数マスタ!$A$15 -> 12 | BA17: =係数マスタ!$B$15 -> #N/A | BB17: =IFERROR(AZ17*BA17,"") | BC17: =係数マスタ!$A$15 -> 12 | BE17: =係数マスタ!$B$15 -> #N/A | BF17: =IFERROR(BD17*BE17,"") | BG17: =係数マスタ!$A$15 -> 12 | BI17: =係数マスタ!$B$15 -> #N/A | BJ17: =IFERROR(BH17*BI17,"") | BL17: =係数マスタ!$A$15 -> 12 | BN17: =係数マスタ!$B$15 -> #N/A | BO17: =IFERROR(BM17*BN17,"") | BP17: =係数マスタ!$A$15 -> 12 | BR17: =係数マスタ!$B$15 -> #N/A | BS17: =IFERROR(BQ17*BR17,"") | BT17: =係数マスタ!$A$15 -> 12 | BV17: =係数マスタ!$B$15 -> #N/A | BW17: =IFERROR(BU17*BV17,"") | BX17: =係数マスタ!$A$15 -> 12 | BZ17: =係数マスタ!$B$15 -> #N/A | CA17: =IFERROR(BY17*BZ17,"") | CB17: =係数マスタ!$A$15 -> 12 | CD17: =係数マスタ!$B$15 -> #N/A | CE17: =IFERROR(CC17*CD17,"") | CG17: =係数マスタ!$A$15 -> 12 | CI17: =係数マスタ!$B$15 -> #N/A | CJ17: =IFERROR(CH17*CI17,"") | CK17: =係数マスタ!$A$15 -> 12 | CM17: =係数マスタ!$B$15 -> #N/A | CN17: =IFERROR(CL17*CM17,"") | CO17: =係数マスタ!$A$15 -> 12 | CQ17: =係数マスタ!$B$15 -> #N/A | CR17: =IFERROR(CP17*CQ17,"") | CS17: =係数マスタ!$A$15 -> 12 | CU17: =係数マスタ!$B$15 -> #N/A | CV17: =IFERROR(CT17*CU17,"") | CW17: =係数マスタ!$A$15 -> 12 | CY17: =係数マスタ!$B$15 -> #N/A | CZ17: =IFERROR(CX17*CY17,"")
A18: =係数マスタ!$A$16 -> 13 | C18: =係数マスタ!$B$16 -> #N/A | D18: =IFERROR(B18*C18,"") | E18: =係数マスタ!$A$16 -> 13 | G18: =係数マスタ!$B$16 -> #N/A | H18: =IFERROR(F18*G18,"") | I18: =係数マスタ!$A$16 -> 13 | K18: =係数マスタ!$B$16 -> #N/A | L18: =IFERROR(J18*K18,"") | M18: =係数マスタ!$A$16 -> 13 | O18: =係数マスタ!$B$16 -> #N/A | P18: =IFERROR(N18*O18,"") | Q18: =係数マスタ!$A$16 -> 13 | S18: =係数マスタ!$B$16 -> #N/A | T18: =IFERROR(R18*S18,"") | V18: =係数マスタ!$A$16 -> 13 | X18: =係数マスタ!$B$16 -> #N/A | Y18: =IFERROR(W18*X18,"") | Z18: =係数マスタ!$A$16 -> 13 | AB18: =係数マスタ!$B$16 -> #N/A | AC18: =IFERROR(AA18*AB18,"") | AD18: =係数マスタ!$A$16 -> 13 | AF18: =係数マスタ!$B$16 -> #N/A | AG18: =IFERROR(AE18*AF18,"") | AH18: =係数マスタ!$A$16 -> 13 | AJ18: =係数マスタ!$B$16 -> #N/A | AK18: =IFERROR(AI18*AJ18,"") | AL18: =係数マスタ!$A$16 -> 13 | AN18: =係数マスタ!$B$16 -> #N/A | AO18: =IFERROR(AM18*AN18,"") | AQ18: =係数マスタ!$A$16 -> 13 | AS18: =係数マスタ!$B$16 -> #N/A | AT18: =IFERROR(AR18*AS18,"") | AU18: =係数マスタ!$A$16 -> 13 | AW18: =係数マスタ!$B$16 -> #N/A | AX18: =IFERROR(AV18*AW18,"") | AY18: =係数マスタ!$A$16 -> 13 | BA18: =係数マスタ!$B$16 -> #N/A | BB18: =IFERROR(AZ18*BA18,"") | BC18: =係数マスタ!$A$16 -> 13 | BE18: =係数マスタ!$B$16 -> #N/A | BF18: =IFERROR(BD18*BE18,"") | BG18: =係数マスタ!$A$16 -> 13 | BI18: =係数マスタ!$B$16 -> #N/A | BJ18: =IFERROR(BH18*BI18,"") | BL18: =係数マスタ!$A$16 -> 13 | BN18: =係数マスタ!$B$16 -> #N/A | BO18: =IFERROR(BM18*BN18,"") | BP18: =係数マスタ!$A$16 -> 13 | BR18: =係数マスタ!$B$16 -> #N/A | BS18: =IFERROR(BQ18*BR18,"") | BT18: =係数マスタ!$A$16 -> 13 | BV18: =係数マスタ!$B$16 -> #N/A | BW18: =IFERROR(BU18*BV18,"") | BX18: =係数マスタ!$A$16 -> 13 | BZ18: =係数マスタ!$B$16 -> #N/A | CA18: =IFERROR(BY18*BZ18,"") | CB18: =係数マスタ!$A$16 -> 13 | CD18: =係数マスタ!$B$16 -> #N/A | CE18: =IFERROR(CC18*CD18,"") | CG18: =係数マスタ!$A$16 -> 13 | CI18: =係数マスタ!$B$16 -> #N/A | CJ18: =IFERROR(CH18*CI18,"") | CK18: =係数マスタ!$A$16 -> 13 | CM18: =係数マスタ!$B$16 -> #N/A | CN18: =IFERROR(CL18*CM18,"") | CO18: =係数マスタ!$A$16 -> 13 | CQ18: =係数マスタ!$B$16 -> #N/A | CR18: =IFERROR(CP18*CQ18,"") | CS18: =係数マスタ!$A$16 -> 13 | CU18: =係数マスタ!$B$16 -> #N/A | CV18: =IFERROR(CT18*CU18,"") | CW18: =係数マスタ!$A$16 -> 13 | CY18: =係数マスタ!$B$16 -> #N/A | CZ18: =IFERROR(CX18*CY18,"")
A19: =係数マスタ!$A$17 -> 14 | C19: =係数マスタ!$B$17 -> #N/A | D19: =IFERROR(B19*C19,"") | E19: =係数マスタ!$A$17 -> 14 | G19: =係数マスタ!$B$17 -> #N/A | H19: =IFERROR(F19*G19,"") | I19: =係数マスタ!$A$17 -> 14 | K19: =係数マスタ!$B$17 -> #N/A | L19: =IFERROR(J19*K19,"") | M19: =係数マスタ!$A$17 -> 14 | O19: =係数マスタ!$B$17 -> #N/A | P19: =IFERROR(N19*O19,"") | Q19: =係数マスタ!$A$17 -> 14 | S19: =係数マスタ!$B$17 -> #N/A | T19: =IFERROR(R19*S19,"") | V19: =係数マスタ!$A$17 -> 14 | X19: =係数マスタ!$B$17 -> #N/A | Y19: =IFERROR(W19*X19,"") | Z19: =係数マスタ!$A$17 -> 14 | AB19: =係数マスタ!$B$17 -> #N/A | AC19: =IFERROR(AA19*AB19,"") | AD19: =係数マスタ!$A$17 -> 14 | AF19: =係数マスタ!$B$17 -> #N/A | AG19: =IFERROR(AE19*AF19,"") | AH19: =係数マスタ!$A$17 -> 14 | AJ19: =係数マスタ!$B$17 -> #N/A | AK19: =IFERROR(AI19*AJ19,"") | AL19: =係数マスタ!$A$17 -> 14 | AN19: =係数マスタ!$B$17 -> #N/A | AO19: =IFERROR(AM19*AN19,"") | AQ19: =係数マスタ!$A$17 -> 14 | AS19: =係数マスタ!$B$17 -> #N/A | AT19: =IFERROR(AR19*AS19,"") | AU19: =係数マスタ!$A$17 -> 14 | AW19: =係数マスタ!$B$17 -> #N/A | AX19: =IFERROR(AV19*AW19,"") | AY19: =係数マスタ!$A$17 -> 14 | BA19: =係数マスタ!$B$17 -> #N/A | BB19: =IFERROR(AZ19*BA19,"") | BC19: =係数マスタ!$A$17 -> 14 | BE19: =係数マスタ!$B$17 -> #N/A | BF19: =IFERROR(BD19*BE19,"") | BG19: =係数マスタ!$A$17 -> 14 | BI19: =係数マスタ!$B$17 -> #N/A | BJ19: =IFERROR(BH19*BI19,"") | BL19: =係数マスタ!$A$17 -> 14 | BN19: =係数マスタ!$B$17 -> #N/A | BO19: =IFERROR(BM19*BN19,"") | BP19: =係数マスタ!$A$17 -> 14 | BR19: =係数マスタ!$B$17 -> #N/A | BS19: =IFERROR(BQ19*BR19,"") | BT19: =係数マスタ!$A$17 -> 14 | BV19: =係数マスタ!$B$17 -> #N/A | BW19: =IFERROR(BU19*BV19,"") | BX19: =係数マスタ!$A$17 -> 14 | BZ19: =係数マスタ!$B$17 -> #N/A | CA19: =IFERROR(BY19*BZ19,"") | CB19: =係数マスタ!$A$17 -> 14 | CD19: =係数マスタ!$B$17 -> #N/A | CE19: =IFERROR(CC19*CD19,"") | CG19: =係数マスタ!$A$17 -> 14 | CI19: =係数マスタ!$B$17 -> #N/A | CJ19: =IFERROR(CH19*CI19,"") | CK19: =係数マスタ!$A$17 -> 14 | CM19: =係数マスタ!$B$17 -> #N/A | CN19: =IFERROR(CL19*CM19,"") | CO19: =係数マスタ!$A$17 -> 14 | CQ19: =係数マスタ!$B$17 -> #N/A | CR19: =IFERROR(CP19*CQ19,"") | CS19: =係数マスタ!$A$17 -> 14 | CU19: =係数マスタ!$B$17 -> #N/A | CV19: =IFERROR(CT19*CU19,"") | CW19: =係数マスタ!$A$17 -> 14 | CY19: =係数マスタ!$B$17 -> #N/A | CZ19: =IFERROR(CX19*CY19,"")
A20: =係数マスタ!$A$18 -> 15 | C20: =係数マスタ!$B$18 -> #N/A | D20: =IFERROR(B20*C20,"") | E20: =係数マスタ!$A$18 -> 15 | G20: =係数マスタ!$B$18 -> #N/A | H20: =IFERROR(F20*G20,"") | I20: =係数マスタ!$A$18 -> 15 | K20: =係数マスタ!$B$18 -> #N/A | L20: =IFERROR(J20*K20,"") | M20: =係数マスタ!$A$18 -> 15 | O20: =係数マスタ!$B$18 -> #N/A | P20: =IFERROR(N20*O20,"") | Q20: =係数マスタ!$A$18 -> 15 | S20: =係数マスタ!$B$18 -> #N/A | T20: =IFERROR(R20*S20,"") | V20: =係数マスタ!$A$18 -> 15 | X20: =係数マスタ!$B$18 -> #N/A | Y20: =IFERROR(W20*X20,"") | Z20: =係数マスタ!$A$18 -> 15 | AB20: =係数マスタ!$B$18 -> #N/A | AC20: =IFERROR(AA20*AB20,"") | AD20: =係数マスタ!$A$18 -> 15 | AF20: =係数マスタ!$B$18 -> #N/A | AG20: =IFERROR(AE20*AF20,"") | AH20: =係数マスタ!$A$18 -> 15 | AJ20: =係数マスタ!$B$18 -> #N/A | AK20: =IFERROR(AI20*AJ20,"") | AL20: =係数マスタ!$A$18 -> 15 | AN20: =係数マスタ!$B$18 -> #N/A | AO20: =IFERROR(AM20*AN20,"") | AQ20: =係数マスタ!$A$18 -> 15 | AS20: =係数マスタ!$B$18 -> #N/A | AT20: =IFERROR(AR20*AS20,"") | AU20: =係数マスタ!$A$18 -> 15 | AW20: =係数マスタ!$B$18 -> #N/A | AX20: =IFERROR(AV20*AW20,"") | AY20: =係数マスタ!$A$18 -> 15 | BA20: =係数マスタ!$B$18 -> #N/A | BB20: =IFERROR(AZ20*BA20,"") | BC20: =係数マスタ!$A$18 -> 15 | BE20: =係数マスタ!$B$18 -> #N/A | BF20: =IFERROR(BD20*BE20,"") | BG20: =係数マスタ!$A$18 -> 15 | BI20: =係数マスタ!$B$18 -> #N/A | BJ20: =IFERROR(BH20*BI20,"") | BL20: =係数マスタ!$A$18 -> 15 | BN20: =係数マスタ!$B$18 -> #N/A | BO20: =IFERROR(BM20*BN20,"") | BP20: =係数マスタ!$A$18 -> 15 | BR20: =係数マスタ!$B$18 -> #N/A | BS20: =IFERROR(BQ20*BR20,"") | BT20: =係数マスタ!$A$18 -> 15 | BV20: =係数マスタ!$B$18 -> #N/A | BW20: =IFERROR(BU20*BV20,"") | BX20: =係数マスタ!$A$18 -> 15 | BZ20: =係数マスタ!$B$18 -> #N/A | CA20: =IFERROR(BY20*BZ20,"") | CB20: =係数マスタ!$A$18 -> 15 | CD20: =係数マスタ!$B$18 -> #N/A | CE20: =IFERROR(CC20*CD20,"") | CG20: =係数マスタ!$A$18 -> 15 | CI20: =係数マスタ!$B$18 -> #N/A | CJ20: =IFERROR(CH20*CI20,"") | CK20: =係数マスタ!$A$18 -> 15 | CM20: =係数マスタ!$B$18 -> #N/A | CN20: =IFERROR(CL20*CM20,"") | CO20: =係数マスタ!$A$18 -> 15 | CQ20: =係数マスタ!$B$18 -> #N/A | CR20: =IFERROR(CP20*CQ20,"") | CS20: =係数マスタ!$A$18 -> 15 | CU20: =係数マスタ!$B$18 -> #N/A | CV20: =IFERROR(CT20*CU20,"") | CW20: =係数マスタ!$A$18 -> 15 | CY20: =係数マスタ!$B$18 -> #N/A | CZ20: =IFERROR(CX20*CY20,"")
A21: =係数マスタ!$A$19 | C21: =係数マスタ!$B$19 -> #VALUE! | D21: =IFERROR(B21*C21,"") | E21: =係数マスタ!$A$19 | G21: =係数マスタ!$B$19 -> #VALUE! | H21: =IFERROR(F21*G21,"") | I21: =係数マスタ!$A$19 | K21: =係数マスタ!$B$19 -> #VALUE! | L21: =IFERROR(J21*K21,"") | M21: =係数マスタ!$A$19 | O21: =係数マスタ!$B$19 -> #VALUE! | P21: =IFERROR(N21*O21,"") | Q21: =係数マスタ!$A$19 | S21: =係数マスタ!$B$19 -> #VALUE! | T21: =IFERROR(R21*S21,"") | V21: =係数マスタ!$A$19 | X21: =係数マスタ!$B$19 -> #VALUE! | Y21: =IFERROR(W21*X21,"") | Z21: =係数マスタ!$A$19 | AB21: =係数マスタ!$B$19 -> #VALUE! | AC21: =IFERROR(AA21*AB21,"") | AD21: =係数マスタ!$A$19 | AF21: =係数マスタ!$B$19 -> #VALUE! | AG21: =IFERROR(AE21*AF21,"") | AH21: =係数マスタ!$A$19 | AJ21: =係数マスタ!$B$19 -> #VALUE! | AK21: =IFERROR(AI21*AJ21,"") | AL21: =係数マスタ!$A$19 | AN21: =係数マスタ!$B$19 -> #VALUE! | AO21: =IFERROR(AM21*AN21,"") | AQ21: =係数マスタ!$A$19 | AS21: =係数マスタ!$B$19 -> #VALUE! | AT21: =IFERROR(AR21*AS21,"") | AU21: =係数マスタ!$A$19 | AW21: =係数マスタ!$B$19 -> #VALUE! | AX21: =IFERROR(AV21*AW21,"") | AY21: =係数マスタ!$A$19 | BA21: =係数マスタ!$B$19 -> #VALUE! | BB21: =IFERROR(AZ21*BA21,"") | BC21: =係数マスタ!$A$19 | BE21: =係数マスタ!$B$19 -> #VALUE! | BF21: =IFERROR(BD21*BE21,"") | BG21: =係数マスタ!$A$19 | BI21: =係数マスタ!$B$19 -> #VALUE! | BJ21: =IFERROR(BH21*BI21,"") | BL21: =係数マスタ!$A$19 | BN21: =係数マスタ!$B$19 -> #VALUE! | BO21: =IFERROR(BM21*BN21,"") | BP21: =係数マスタ!$A$19 | BR21: =係数マスタ!$B$19 -> #VALUE! | BS21: =IFERROR(BQ21*BR21,"") | BT21: =係数マスタ!$A$19 | BV21: =係数マスタ!$B$19 -> #VALUE! | BW21: =IFERROR(BU21*BV21,"") | BX21: =係数マスタ!$A$19 | BZ21: =係数マスタ!$B$19 -> #VALUE! | CA21: =IFERROR(BY21*BZ21,"") | CB21: =係数マスタ!$A$19 | CD21: =係数マスタ!$B$19 -> #VALUE! | CE21: =IFERROR(CC21*CD21,"") | CG21: =係数マスタ!$A$19 | CI21: =係数マスタ!$B$19 -> #VALUE! | CJ21: =IFERROR(CH21*CI21,"") | CK21: =係数マスタ!$A$19 | CM21: =係数マスタ!$B$19 -> #VALUE! | CN21: =IFERROR(CL21*CM21,"") | CO21: =係数マスタ!$A$19 | CQ21: =係数マスタ!$B$19 -> #VALUE! | CR21: =IFERROR(CP21*CQ21,"") | CS21: =係数マスタ!$A$19 | CU21: =係数マスタ!$B$19 -> #VALUE! | CV21: =IFERROR(CT21*CU21,"") | CW21: =係数マスタ!$A$19 | CY21: =係数マスタ!$B$19 -> #VALUE! | CZ21: =IFERROR(CX21*CY21,"")
A22: 技術性の得点 | D22: =SUM(D6:D21) -> 0 | E22: 技術性の得点 | H22: =SUM(H6:H21) -> 0 | I22: 技術性の得点 | L22: =SUM(L6:L21) -> 0 | M22: 技術性の得点 | P22: =SUM(P6:P21) -> 0 | Q22: 技術性の得点 | T22: =SUM(T6:T21) -> 0 | V22: 技術性の得点 | Y22: =SUM(Y6:Y21) -> 0 | Z22: 技術性の得点 | AC22: =SUM(AC6:AC21) -> 0 | AD22: 技術性の得点 | AG22: =SUM(AG6:AG21) -> 0 | AH22: 技術性の得点 | AK22: =SUM(AK6:AK21) -> 0 | AL22: 技術性の得点 | AO22: =SUM(AO6:AO21) -> 0 | AQ22: 技術性の得点 | AT22: =SUM(AT6:AT21) -> 0 | AU22: 技術性の得点 | AX22: =SUM(AX6:AX21) -> 0 | AY22: 技術性の得点 | BB22: =SUM(BB6:BB21) -> 0 | BC22: 技術性の得点 | BF22: =SUM(BF6:BF21) -> 0 | BG22: 技術性の得点 | BJ22: =SUM(BJ6:BJ21) -> 0 | BL22: 技術性の得点 | BO22: =SUM(BO6:BO21) -> 0 | BP22: 技術性の得点 | BS22: =SUM(BS6:BS21) -> 0 | BT22: 技術性の得点 | BW22: =SUM(BW6:BW21) -> 0 | BX22: 技術性の得点 | CA22: =SUM(CA6:CA21) -> 0 | CB22: 技術性の得点 | CE22: =SUM(CE6:CE21) -> 0 | CG22: 技術性の得点 | CJ22: =SUM(CJ6:CJ21) -> 0 | CK22: 技術性の得点 | CN22: =SUM(CN6:CN21) -> 0 | CO22: 技術性の得点 | CR22: =SUM(CR6:CR21) -> 0 | CS22: 技術性の得点 | CV22: =SUM(CV6:CV21) -> 0 | CW22: 技術性の得点 | CZ22: =SUM(CZ6:CZ21) -> 0
A24: =係数マスタ!$A$20 -> 16 | C24: =係数マスタ!$B$20 -> #N/A | D24: =B24*C24 -> #N/A | E24: =係数マスタ!$A$20 -> 16 | G24: =係数マスタ!$B$20 -> #N/A | H24: =F24*G24 -> #N/A | I24: =係数マスタ!$A$20 -> 16 | K24: =係数マスタ!$B$20 -> #N/A | L24: =J24*K24 -> #N/A | M24: =係数マスタ!$A$20 -> 16 | O24: =係数マスタ!$B$20 -> #N/A | P24: =N24*O24 -> #N/A | Q24: =係数マスタ!$A$20 -> 16 | S24: =係数マスタ!$B$20 -> #N/A | T24: =R24*S24 -> #N/A | V24: =係数マスタ!$A$20 -> 16 | X24: =係数マスタ!$B$20 -> #N/A | Y24: =W24*X24 -> #N/A | Z24: =係数マスタ!$A$20 -> 16 | AB24: =係数マスタ!$B$20 -> #N/A | AC24: =AA24*AB24 -> #N/A | AD24: =係数マスタ!$A$20 -> 16 | AF24: =係数マスタ!$B$20 -> #N/A | AG24: =AE24*AF24 -> #N/A | AH24: =係数マスタ!$A$20 -> 16 | AJ24: =係数マスタ!$B$20 -> #N/A | AK24: =AI24*AJ24 -> #N/A | AL24: =係数マスタ!$A$20 -> 16 | AN24: =係数マスタ!$B$20 -> #N/A | AO24: =AM24*AN24 -> #N/A | AQ24: =係数マスタ!$A$20 -> 16 | AS24: =係数マスタ!$B$20 -> #N/A | AT24: =AR24*AS24 -> #N/A | AU24: =係数マスタ!$A$20 -> 16 | AW24: =係数マスタ!$B$20 -> #N/A | AX24: =AV24*AW24 -> #N/A | AY24: =係数マスタ!$A$20 -> 16 | BA24: =係数マスタ!$B$20 -> #N/A | BB24: =AZ24*BA24 -> #N/A | BC24: =係数マスタ!$A$20 -> 16 | BE24: =係数マスタ!$B$20 -> #N/A | BF24: =BD24*BE24 -> #N/A | BG24: =係数マスタ!$A$20 -> 16 | BI24: =係数マスタ!$B$20 -> #N/A | BJ24: =BH24*BI24 -> #N/A | BL24: =係数マスタ!$A$20 -> 16 | BN24: =係数マスタ!$B$20 -> #N/A | BO24: =BM24*BN24 -> #N/A | BP24: =係数マスタ!$A$20 -> 16 | BR24: =係数マスタ!$B$20 -> #N/A | BS24: =BQ24*BR24 -> #N/A | BT24: =係数マスタ!$A$20 -> 16 | BV24: =係数マスタ!$B$20 -> #N/A | BW24: =BU24*BV24 -> #N/A | BX24: =係数マスタ!$A$20 -> 16 | BZ24: =係数マスタ!$B$20 -> #N/A | CA24: =BY24*BZ24 -> #N/A | CB24: =係数マスタ!$A$20 -> 16 | CD24: =係数マスタ!$B$20 -> #N/A | CE24: =CC24*CD24 -> #N/A | CG24: =係数マスタ!$A$20 -> 16 | CI24: =係数マスタ!$B$20 -> #N/A | CJ24: =CH24*CI24 -> #N/A | CK24: =係数マスタ!$A$20 -> 16 | CM24: =係数マスタ!$B$20 -> #N/A | CN24: =CL24*CM24 -> #N/A | CO24: =係数マスタ!$A$20 -> 16 | CQ24: =係数マスタ!$B$20 -> #N/A | CR24: =CP24*CQ24 -> #N/A | CS24: =係数マスタ!$A$20 -> 16 | CU24: =係数マスタ!$B$20 -> #N/A | CV24: =CT24*CU24 -> #N/A | CW24: =係数マスタ!$A$20 -> 16 | CY24: =係数マスタ!$B$20 -> #N/A | CZ24: =CX24*CY24 -> #N/A
A25: =係数マスタ!$A$21 -> 17 | C25: =係数マスタ!$B$21 -> #N/A | D25: =B25*C25 -> #N/A | E25: =係数マスタ!$A$21 -> 17 | G25: =係数マスタ!$B$21 -> #N/A | H25: =F25*G25 -> #N/A | I25: =係数マスタ!$A$21 -> 17 | K25: =係数マスタ!$B$21 -> #N/A | L25: =J25*K25 -> #N/A | M25: =係数マスタ!$A$21 -> 17 | O25: =係数マスタ!$B$21 -> #N/A | P25: =N25*O25 -> #N/A | Q25: =係数マスタ!$A$21 -> 17 | S25: =係数マスタ!$B$21 -> #N/A | T25: =R25*S25 -> #N/A | V25: =係数マスタ!$A$21 -> 17 | X25: =係数マスタ!$B$21 -> #N/A | Y25: =W25*X25 -> #N/A | Z25: =係数マスタ!$A$21 -> 17 | AB25: =係数マスタ!$B$21 -> #N/A | AC25: =AA25*AB25 -> #N/A | AD25: =係数マスタ!$A$21 -> 17 | AF25: =係数マスタ!$B$21 -> #N/A | AG25: =AE25*AF25 -> #N/A | AH25: =係数マスタ!$A$21 -> 17 | AJ25: =係数マスタ!$B$21 -> #N/A | AK25: =AI25*AJ25 -> #N/A | AL25: =係数マスタ!$A$21 -> 17 | AN25: =係数マスタ!$B$21 -> #N/A | AO25: =AM25*AN25 -> #N/A | AQ25: =係数マスタ!$A$21 -> 17 | AS25: =係数マスタ!$B$21 -> #N/A | AT25: =AR25*AS25 -> #N/A | AU25: =係数マスタ!$A$21 -> 17 | AW25: =係数マスタ!$B$21 -> #N/A | AX25: =AV25*AW25 -> #N/A | AY25: =係数マスタ!$A$21 -> 17 | BA25: =係数マスタ!$B$21 -> #N/A | BB25: =AZ25*BA25 -> #N/A | BC25: =係数マスタ!$A$21 -> 17 | BE25: =係数マスタ!$B$21 -> #N/A | BF25: =BD25*BE25 -> #N/A | BG25: =係数マスタ!$A$21 -> 17 | BI25: =係数マスタ!$B$21 -> #N/A | BJ25: =BH25*BI25 -> #N/A | BL25: =係数マスタ!$A$21 -> 17 | BN25: =係数マスタ!$B$21 -> #N/A | BO25: =BM25*BN25 -> #N/A | BP25: =係数マスタ!$A$21 -> 17 | BR25: =係数マスタ!$B$21 -> #N/A | BS25: =BQ25*BR25 -> #N/A | BT25: =係数マスタ!$A$21 -> 17 | BV25: =係数マスタ!$B$21 -> #N/A | BW25: =BU25*BV25 -> #N/A | BX25: =係数マスタ!$A$21 -> 17 | BZ25: =係数マスタ!$B$21 -> #N/A | CA25: =BY25*BZ25 -> #N/A | CB25: =係数マスタ!$A$21 -> 17 | CD25: =係数マスタ!$B$21 -> #N/A | CE25: =CC25*CD25 -> #N/A | CG25: =係数マスタ!$A$21 -> 17 | CI25: =係数マスタ!$B$21 -> #N/A | CJ25: =CH25*CI25 -> #N/A | CK25: =係数マスタ!$A$21 -> 17 | CM25: =係数マスタ!$B$21 -> #N/A | CN25: =CL25*CM25 -> #N/A | CO25: =係数マスタ!$A$21 -> 17 | CQ25: =係数マスタ!$B$21 -> #N/A | CR25: =CP25*CQ25 -> #N/A | CS25: =係数マスタ!$A$21 -> 17 | CU25: =係数マスタ!$B$21 -> #N/A | CV25: =CT25*CU25 -> #N/A | CW25: =係数マスタ!$A$21 -> 17 | CY25: =係数マスタ!$B$21 -> #N/A | CZ25: =CX25*CY25 -> #N/A
A26: =係数マスタ!$A$22 -> 18 | C26: =係数マスタ!$B$22 -> #N/A | D26: =B26*C26 -> #N/A | E26: =係数マスタ!$A$22 -> 18 | G26: =係数マスタ!$B$22 -> #N/A | H26: =F26*G26 -> #N/A | I26: =係数マスタ!$A$22 -> 18 | K26: =係数マスタ!$B$22 -> #N/A | L26: =J26*K26 -> #N/A | M26: =係数マスタ!$A$22 -> 18 | O26: =係数マスタ!$B$22 -> #N/A | P26: =N26*O26 -> #N/A | Q26: =係数マスタ!$A$22 -> 18 | S26: =係数マスタ!$B$22 -> #N/A | T26: =R26*S26 -> #N/A | V26: =係数マスタ!$A$22 -> 18 | X26: =係数マスタ!$B$22 -> #N/A | Y26: =W26*X26 -> #N/A | Z26: =係数マスタ!$A$22 -> 18 | AB26: =係数マスタ!$B$22 -> #N/A | AC26: =AA26*AB26 -> #N/A | AD26: =係数マスタ!$A$22 -> 18 | AF26: =係数マスタ!$B$22 -> #N/A | AG26: =AE26*AF26 -> #N/A | AH26: =係数マスタ!$A$22 -> 18 | AJ26: =係数マスタ!$B$22 -> #N/A | AK26: =AI26*AJ26 -> #N/A | AL26: =係数マスタ!$A$22 -> 18 | AN26: =係数マスタ!$B$22 -> #N/A | AO26: =AM26*AN26 -> #N/A | AQ26: =係数マスタ!$A$22 -> 18 | AS26: =係数マスタ!$B$22 -> #N/A | AT26: =AR26*AS26 -> #N/A | AU26: =係数マスタ!$A$22 -> 18 | AW26: =係数マスタ!$B$22 -> #N/A | AX26: =AV26*AW26 -> #N/A | AY26: =係数マスタ!$A$22 -> 18 | BA26: =係数マスタ!$B$22 -> #N/A | BB26: =AZ26*BA26 -> #N/A | BC26: =係数マスタ!$A$22 -> 18 | BE26: =係数マスタ!$B$22 -> #N/A | BF26: =BD26*BE26 -> #N/A | BG26: =係数マスタ!$A$22 -> 18 | BI26: =係数マスタ!$B$22 -> #N/A | BJ26: =BH26*BI26 -> #N/A | BL26: =係数マスタ!$A$22 -> 18 | BN26: =係数マスタ!$B$22 -> #N/A | BO26: =BM26*BN26 -> #N/A | BP26: =係数マスタ!$A$22 -> 18 | BR26: =係数マスタ!$B$22 -> #N/A | BS26: =BQ26*BR26 -> #N/A | BT26: =係数マスタ!$A$22 -> 18 | BV26: =係数マスタ!$B$22 -> #N/A | BW26: =BU26*BV26 -> #N/A | BX26: =係数マスタ!$A$22 -> 18 | BZ26: =係数マスタ!$B$22 -> #N/A | CA26: =BY26*BZ26 -> #N/A | CB26: =係数マスタ!$A$22 -> 18 | CD26: =係数マスタ!$B$22 -> #N/A | CE26: =CC26*CD26 -> #N/A | CG26: =係数マスタ!$A$22 -> 18 | CI26: =係数マスタ!$B$22 -> #N/A | CJ26: =CH26*CI26 -> #N/A | CK26: =係数マスタ!$A$22 -> 18 | CM26: =係数マスタ!$B$22 -> #N/A | CN26: =CL26*CM26 -> #N/A | CO26: =係数マスタ!$A$22 -> 18 | CQ26: =係数マスタ!$B$22 -> #N/A | CR26: =CP26*CQ26 -> #N/A | CS26: =係数マスタ!$A$22 -> 18 | CU26: =係数マスタ!$B$22 -> #N/A | CV26: =CT26*CU26 -> #N/A | CW26: =係数マスタ!$A$22 -> 18 | CY26: =係数マスタ!$B$22 -> #N/A | CZ26: =CX26*CY26 -> #N/A
A27: =係数マスタ!$A$23 -> 19 | C27: =係数マスタ!$B$23 -> #N/A | D27: =B27*C27 -> #N/A | E27: =係数マスタ!$A$23 -> 19 | G27: =係数マスタ!$B$23 -> #N/A | H27: =F27*G27 -> #N/A | I27: =係数マスタ!$A$23 -> 19 | K27: =係数マスタ!$B$23 -> #N/A | L27: =J27*K27 -> #N/A | M27: =係数マスタ!$A$23 -> 19 | O27: =係数マスタ!$B$23 -> #N/A | P27: =N27*O27 -> #N/A | Q27: =係数マスタ!$A$23 -> 19 | S27: =係数マスタ!$B$23 -> #N/A | T27: =R27*S27 -> #N/A | V27: =係数マスタ!$A$23 -> 19 | X27: =係数マスタ!$B$23 -> #N/A | Y27: =W27*X27 -> #N/A | Z27: =係数マスタ!$A$23 -> 19 | AB27: =係数マスタ!$B$23 -> #N/A | AC27: =AA27*AB27 -> #N/A | AD27: =係数マスタ!$A$23 -> 19 | AF27: =係数マスタ!$B$23 -> #N/A | AG27: =AE27*AF27 -> #N/A | AH27: =係数マスタ!$A$23 -> 19 | AJ27: =係数マスタ!$B$23 -> #N/A | AK27: =AI27*AJ27 -> #N/A | AL27: =係数マスタ!$A$23 -> 19 | AN27: =係数マスタ!$B$23 -> #N/A | AO27: =AM27*AN27 -> #N/A | AQ27: =係数マスタ!$A$23 -> 19 | AS27: =係数マスタ!$B$23 -> #N/A | AT27: =AR27*AS27 -> #N/A | AU27: =係数マスタ!$A$23 -> 19 | AW27: =係数マスタ!$B$23 -> #N/A | AX27: =AV27*AW27 -> #N/A | AY27: =係数マスタ!$A$23 -> 19 | BA27: =係数マスタ!$B$23 -> #N/A | BB27: =AZ27*BA27 -> #N/A | BC27: =係数マスタ!$A$23 -> 19 | BE27: =係数マスタ!$B$23 -> #N/A | BF27: =BD27*BE27 -> #N/A | BG27: =係数マスタ!$A$23 -> 19 | BI27: =係数マスタ!$B$23 -> #N/A | BJ27: =BH27*BI27 -> #N/A | BL27: =係数マスタ!$A$23 -> 19 | BN27: =係数マスタ!$B$23 -> #N/A | BO27: =BM27*BN27 -> #N/A | BP27: =係数マスタ!$A$23 -> 19 | BR27: =係数マスタ!$B$23 -> #N/A | BS27: =BQ27*BR27 -> #N/A | BT27: =係数マスタ!$A$23 -> 19 | BV27: =係数マスタ!$B$23 -> #N/A | BW27: =BU27*BV27 -> #N/A | BX27: =係数マスタ!$A$23 -> 19 | BZ27: =係数マスタ!$B$23 -> #N/A | CA27: =BY27*BZ27 -> #N/A | CB27: =係数マスタ!$A$23 -> 19 | CD27: =係数マスタ!$B$23 -> #N/A | CE27: =CC27*CD27 -> #N/A | CG27: =係数マスタ!$A$23 -> 19 | CI27: =係数マスタ!$B$23 -> #N/A | CJ27: =CH27*CI27 -> #N/A | CK27: =係数マスタ!$A$23 -> 19 | CM27: =係数マスタ!$B$23 -> #N/A | CN27: =CL27*CM27 -> #N/A | CO27: =係数マスタ!$A$23 -> 19 | CQ27: =係数マスタ!$B$23 -> #N/A | CR27: =CP27*CQ27 -> #N/A | CS27: =係数マスタ!$A$23 -> 19 | CU27: =係数マスタ!$B$23 -> #N/A | CV27: =CT27*CU27 -> #N/A | CW27: =係数マスタ!$A$23 -> 19 | CY27: =係数マスタ!$B$23 -> #N/A | CZ27: =CX27*CY27 -> #N/A
A28: =係数マスタ!$A$24 -> 20 | C28: =係数マスタ!$B$24 -> #N/A | D28: =B28*C28 -> #N/A | E28: =係数マスタ!$A$24 -> 20 | G28: =係数マスタ!$B$24 -> #N/A | H28: =F28*G28 -> #N/A | I28: =係数マスタ!$A$24 -> 20 | K28: =係数マスタ!$B$24 -> #N/A | L28: =J28*K28 -> #N/A | M28: =係数マスタ!$A$24 -> 20 | O28: =係数マスタ!$B$24 -> #N/A | P28: =N28*O28 -> #N/A | Q28: =係数マスタ!$A$24 -> 20 | S28: =係数マスタ!$B$24 -> #N/A | T28: =R28*S28 -> #N/A | V28: =係数マスタ!$A$24 -> 20 | X28: =係数マスタ!$B$24 -> #N/A | Y28: =W28*X28 -> #N/A | Z28: =係数マスタ!$A$24 -> 20 | AB28: =係数マスタ!$B$24 -> #N/A | AC28: =AA28*AB28 -> #N/A | AD28: =係数マスタ!$A$24 -> 20 | AF28: =係数マスタ!$B$24 -> #N/A | AG28: =AE28*AF28 -> #N/A | AH28: =係数マスタ!$A$24 -> 20 | AJ28: =係数マスタ!$B$24 -> #N/A | AK28: =AI28*AJ28 -> #N/A | AL28: =係数マスタ!$A$24 -> 20 | AN28: =係数マスタ!$B$24 -> #N/A | AO28: =AM28*AN28 -> #N/A | AQ28: =係数マスタ!$A$24 -> 20 | AS28: =係数マスタ!$B$24 -> #N/A | AT28: =AR28*AS28 -> #N/A | AU28: =係数マスタ!$A$24 -> 20 | AW28: =係数マスタ!$B$24 -> #N/A | AX28: =AV28*AW28 -> #N/A | AY28: =係数マスタ!$A$24 -> 20 | BA28: =係数マスタ!$B$24 -> #N/A | BB28: =AZ28*BA28 -> #N/A | BC28: =係数マスタ!$A$24 -> 20 | BE28: =係数マスタ!$B$24 -> #N/A | BF28: =BD28*BE28 -> #N/A | BG28: =係数マスタ!$A$24 -> 20 | BI28: =係数マスタ!$B$24 -> #N/A | BJ28: =BH28*BI28 -> #N/A | BL28: =係数マスタ!$A$24 -> 20 | BN28: =係数マスタ!$B$24 -> #N/A | BO28: =BM28*BN28 -> #N/A | BP28: =係数マスタ!$A$24 -> 20 | BR28: =係数マスタ!$B$24 -> #N/A | BS28: =BQ28*BR28 -> #N/A | BT28: =係数マスタ!$A$24 -> 20 | BV28: =係数マスタ!$B$24 -> #N/A | BW28: =BU28*BV28 -> #N/A | BX28: =係数マスタ!$A$24 -> 20 | BZ28: =係数マスタ!$B$24 -> #N/A | CA28: =BY28*BZ28 -> #N/A | CB28: =係数マスタ!$A$24 -> 20 | CD28: =係数マスタ!$B$24 -> #N/A | CE28: =CC28*CD28 -> #N/A | CG28: =係数マスタ!$A$24 -> 20 | CI28: =係数マスタ!$B$24 -> #N/A | CJ28: =CH28*CI28 -> #N/A | CK28: =係数マスタ!$A$24 -> 20 | CM28: =係数マスタ!$B$24 -> #N/A | CN28: =CL28*CM28 -> #N/A | CO28: =係数マスタ!$A$24 -> 20 | CQ28: =係数マスタ!$B$24 -> #N/A | CR28: =CP28*CQ28 -> #N/A | CS28: =係数マスタ!$A$24 -> 20 | CU28: =係数マスタ!$B$24 -> #N/A | CV28: =CT28*CU28 -> #N/A | CW28: =係数マスタ!$A$24 -> 20 | CY28: =係数マスタ!$B$24 -> #N/A | CZ28: =CX28*CY28 -> #N/A
A29: 芸術性の得点 | D29: =SUM(D24:D28) -> #N/A | E29: 芸術性の得点 | H29: =SUM(H24:H28) -> #N/A | I29: 芸術性の得点 | L29: =SUM(L24:L28) -> #N/A | M29: 芸術性の得点 | P29: =SUM(P24:P28) -> #N/A | Q29: 芸術性の得点 | T29: =SUM(T24:T28) -> #N/A | V29: 芸術性の得点 | Y29: =SUM(Y24:Y28) -> #N/A | Z29: 芸術性の得点 | AC29: =SUM(AC24:AC28) -> #N/A | AD29: 芸術性の得点 | AG29: =SUM(AG24:AG28) -> #N/A | AH29: 芸術性の得点 | AK29: =SUM(AK24:AK28) -> #N/A | AL29: 芸術性の得点 | AO29: =SUM(AO24:AO28) -> #N/A | AQ29: 芸術性の得点 | AT29: =SUM(AT24:AT28) -> #N/A | AU29: 芸術性の得点 | AX29: =SUM(AX24:AX28) -> #N/A | AY29: 芸術性の得点 | BB29: =SUM(BB24:BB28) -> #N/A | BC29: 芸術性の得点 | BF29: =SUM(BF24:BF28) -> #N/A | BG29: 芸術性の得点 | BJ29: =SUM(BJ24:BJ28) -> #N/A | BL29: 芸術性の得点 | BO29: =SUM(BO24:BO28) -> #N/A | BP29: 芸術性の得点 | BS29: =SUM(BS24:BS28) -> #N/A | BT29: 芸術性の得点 | BW29: =SUM(BW24:BW28) -> #N/A | BX29: 芸術性の得点 | CA29: =SUM(CA24:CA28) -> #N/A | CB29: 芸術性の得点 | CE29: =SUM(CE24:CE28) -> #N/A | CG29: 芸術性の得点 | CJ29: =SUM(CJ24:CJ28) -> #N/A | CK29: 芸術性の得点 | CN29: =SUM(CN24:CN28) -> #N/A | CO29: 芸術性の得点 | CR29: =SUM(CR24:CR28) -> #N/A | CS29: 芸術性の得点 | CV29: =SUM(CV24:CV28) -> #N/A | CW29: 芸術性の得点 | CZ29: =SUM(CZ24:CZ28) -> #N/A
A31: 技術性の得点 | D31: =D22 -> 0 | E31: 技術性の得点 | H31: =H22 -> 0 | I31: 技術性の得点 | L31: =L22 -> 0 | M31: 技術性の得点 | P31: =P22 -> 0 | Q31: 技術性の得点 | T31: =T22 -> 0 | V31: 技術性の得点 | Y31: =Y22 -> 0 | Z31: 技術性の得点 | AC31: =AC22 -> 0 | AD31: 技術性の得点 | AG31: =AG22 -> 0 | AH31: 技術性の得点 | AK31: =AK22 -> 0 | AL31: 技術性の得点 | AO31: =AO22 -> 0 | AQ31: 技術性の得点 | AT31: =AT22 -> 0 | AU31: 技術性の得点 | AX31: =AX22 -> 0 | AY31: 技術性の得点 | BB31: =BB22 -> 0 | BC31: 技術性の得点 | BF31: =BF22 -> 0 | BG31: 技術性の得点 | BJ31: =BJ22 -> 0 | BL31: 技術性の得点 | BO31: =BO22 -> 0 | BP31: 技術性の得点 | BS31: =BS22 -> 0 | BT31: 技術性の得点 | BW31: =BW22 -> 0 | BX31: 技術性の得点 | CA31: =CA22 -> 0 | CB31: 技術性の得点 | CE31: =CE22 -> 0 | CG31: 技術性の得点 | CJ31: =CJ22 -> 0 | CK31: 技術性の得点 | CN31: =CN22 -> 0 | CO31: 技術性の得点 | CR31: =CR22 -> 0 | CS31: 技術性の得点 | CV31: =CV22 -> 0 | CW31: 技術性の得点 | CZ31: =CZ22 -> 0
A32: 技術採点を％で表したもの | D32: =ROUND(D31/2,3) -> 0 | E32: 技術採点を％で表したもの | H32: =ROUND(H31/2,3) -> 0 | I32: 技術採点を％で表したもの | L32: =ROUND(L31/2,3) -> 0 | M32: 技術採点を％で表したもの | P32: =ROUND(P31/2,3) -> 0 | Q32: 技術採点を％で表したもの | T32: =ROUND(T31/2,3) -> 0 | V32: 技術採点を％で表したもの | Y32: =ROUND(Y31/2,3) -> 0 | Z32: 技術採点を％で表したもの | AC32: =ROUND(AC31/2,3) -> 0 | AD32: 技術採点を％で表したもの | AG32: =ROUND(AG31/2,3) -> 0 | AH32: 技術採点を％で表したもの | AK32: =ROUND(AK31/2,3) -> 0 | AL32: 技術採点を％で表したもの | AO32: =ROUND(AO31/2,3) -> 0 | AQ32: 技術採点を％で表したもの | AT32: =ROUND(AT31/2,3) -> 0 | AU32: 技術採点を％で表したもの | AX32: =ROUND(AX31/2,3) -> 0 | AY32: 技術採点を％で表したもの | BB32: =ROUND(BB31/2,3) -> 0 | BC32: 技術採点を％で表したもの | BF32: =ROUND(BF31/2,3) -> 0 | BG32: 技術採点を％で表したもの | BJ32: =ROUND(BJ31/2,3) -> 0 | BL32: 技術採点を％で表したもの | BO32: =ROUND(BO31/2,3) -> 0 | BP32: 技術採点を％で表したもの | BS32: =ROUND(BS31/2,3) -> 0 | BT32: 技術採点を％で表したもの | BW32: =ROUND(BW31/2,3) -> 0 | BX32: 技術採点を％で表したもの | CA32: =ROUND(CA31/2,3) -> 0 | CB32: 技術採点を％で表したもの | CE32: =ROUND(CE31/2,3) -> 0 | CG32: 技術採点を％で表したもの | CJ32: =ROUND(CJ31/2,3) -> 0 | CK32: 技術採点を％で表したもの | CN32: =ROUND(CN31/2,3) -> 0 | CO32: 技術採点を％で表したもの | CR32: =ROUND(CR31/2,3) -> 0 | CS32: 技術採点を％で表したもの | CV32: =ROUND(CV31/2,3) -> 0 | CW32: 技術採点を％で表したもの | CZ32: =ROUND(CZ31/2,3) -> 0
A33: ペナルティ - 技術的過失 | E33: ペナルティ - 技術的過失 | I33: ペナルティ - 技術的過失 | M33: ペナルティ - 技術的過失 | Q33: ペナルティ - 技術的過失 | V33: ペナルティ - 技術的過失 | Z33: ペナルティ - 技術的過失 | AD33: ペナルティ - 技術的過失 | AH33: ペナルティ - 技術的過失 | AL33: ペナルティ - 技術的過失 | AQ33: ペナルティ - 技術的過失 | AU33: ペナルティ - 技術的過失 | AY33: ペナルティ - 技術的過失 | BC33: ペナルティ - 技術的過失 | BG33: ペナルティ - 技術的過失 | BL33: ペナルティ - 技術的過失 | BP33: ペナルティ - 技術的過失 | BT33: ペナルティ - 技術的過失 | BX33: ペナルティ - 技術的過失 | CB33: ペナルティ - 技術的過失 | CG33: ペナルティ - 技術的過失 | CK33: ペナルティ - 技術的過失 | CO33: ペナルティ - 技術的過失 | CS33: ペナルティ - 技術的過失 | CW33: ペナルティ - 技術的過失
A34: 技術採点 得点率（最終） | D34: =D32+D33 -> 0 | E34: 技術採点 得点率（最終） | H34: =H32+H33 -> 0 | I34: 技術採点 得点率（最終） | L34: =L32+L33 -> 0 | M34: 技術採点 得点率（最終） | P34: =P32+P33 -> 0 | Q34: 技術採点 得点率（最終） | T34: =T32+T33 -> 0 | V34: 技術採点 得点率（最終） | Y34: =Y32+Y33 -> 0 | Z34: 技術採点 得点率（最終） | AC34: =AC32+AC33 -> 0 | AD34: 技術採点 得点率（最終） | AG34: =AG32+AG33 -> 0 | AH34: 技術採点 得点率（最終） | AK34: =AK32+AK33 -> 0 | AL34: 技術採点 得点率（最終） | AO34: =AO32+AO33 -> 0 | AQ34: 技術採点 得点率（最終） | AT34: =AT32+AT33 -> 0 | AU34: 技術採点 得点率（最終） | AX34: =AX32+AX33 -> 0 | AY34: 技術採点 得点率（最終） | BB34: =BB32+BB33 -> 0 | BC34: 技術採点 得点率（最終） | BF34: =BF32+BF33 -> 0 | BG34: 技術採点 得点率（最終） | BJ34: =BJ32+BJ33 -> 0 | BL34: 技術採点 得点率（最終） | BO34: =BO32+BO33 -> 0 | BP34: 技術採点 得点率（最終） | BS34: =BS32+BS33 -> 0 | BT34: 技術採点 得点率（最終） | BW34: =BW32+BW33 -> 0 | BX34: 技術採点 得点率（最終） | CA34: =CA32+CA33 -> 0 | CB34: 技術採点 得点率（最終） | CE34: =CE32+CE33 -> 0 | CG34: 技術採点 得点率（最終） | CJ34: =CJ32+CJ33 -> 0 | CK34: 技術採点 得点率（最終） | CN34: =CN32+CN33 -> 0 | CO34: 技術採点 得点率（最終） | CR34: =CR32+CR33 -> 0 | CS34: 技術採点 得点率（最終） | CV34: =CV32+CV33 -> 0 | CW34: 技術採点 得点率（最終） | CZ34: =CZ32+CZ33 -> 0
A35: 芸術性の得点 | D35: =D29 -> #N/A | E35: 芸術性の得点 | H35: =H29 -> #N/A | I35: 芸術性の得点 | L35: =L29 -> #N/A | M35: 芸術性の得点 | P35: =P29 -> #N/A | Q35: 芸術性の得点 | T35: =T29 -> #N/A | V35: 芸術性の得点 | Y35: =Y29 -> #N/A | Z35: 芸術性の得点 | AC35: =AC29 -> #N/A | AD35: 芸術性の得点 | AG35: =AG29 -> #N/A | AH35: 芸術性の得点 | AK35: =AK29 -> #N/A | AL35: 芸術性の得点 | AO35: =AO29 -> #N/A | AQ35: 芸術性の得点 | AT35: =AT29 -> #N/A | AU35: 芸術性の得点 | AX35: =AX29 -> #N/A | AY35: 芸術性の得点 | BB35: =BB29 -> #N/A | BC35: 芸術性の得点 | BF35: =BF29 -> #N/A | BG35: 芸術性の得点 | BJ35: =BJ29 -> #N/A | BL35: 芸術性の得点 | BO35: =BO29 -> #N/A | BP35: 芸術性の得点 | BS35: =BS29 -> #N/A | BT35: 芸術性の得点 | BW35: =BW29 -> #N/A | BX35: 芸術性の得点 | CA35: =CA29 -> #N/A | CB35: 芸術性の得点 | CE35: =CE29 -> #N/A | CG35: 芸術性の得点 | CJ35: =CJ29 -> #N/A | CK35: 芸術性の得点 | CN35: =CN29 -> #N/A | CO35: 芸術性の得点 | CR35: =CR29 -> #N/A | CS35: 芸術性の得点 | CV35: =CV29 -> #N/A | CW35: 芸術性の得点 | CZ35: =CZ29 -> #N/A
A36: 芸術採点を％で表したもの | D36: =ROUND(D35/2,3) -> #N/A | E36: 芸術採点を％で表したもの | H36: =ROUND(H35/2,3) -> #N/A | I36: 芸術採点を％で表したもの | L36: =ROUND(L35/2,3) -> #N/A | M36: 芸術採点を％で表したもの | P36: =ROUND(P35/2,3) -> #N/A | Q36: 芸術採点を％で表したもの | T36: =ROUND(T35/2,3) -> #N/A | V36: 芸術採点を％で表したもの | Y36: =ROUND(Y35/2,3) -> #N/A | Z36: 芸術採点を％で表したもの | AC36: =ROUND(AC35/2,3) -> #N/A | AD36: 芸術採点を％で表したもの | AG36: =ROUND(AG35/2,3) -> #N/A | AH36: 芸術採点を％で表したもの | AK36: =ROUND(AK35/2,3) -> #N/A | AL36: 芸術採点を％で表したもの | AO36: =ROUND(AO35/2,3) -> #N/A | AQ36: 芸術採点を％で表したもの | AT36: =ROUND(AT35/2,3) -> #N/A | AU36: 芸術採点を％で表したもの | AX36: =ROUND(AX35/2,3) -> #N/A | AY36: 芸術採点を％で表したもの | BB36: =ROUND(BB35/2,3) -> #N/A | BC36: 芸術採点を％で表したもの | BF36: =ROUND(BF35/2,3) -> #N/A | BG36: 芸術採点を％で表したもの | BJ36: =ROUND(BJ35/2,3) -> #N/A | BL36: 芸術採点を％で表したもの | BO36: =ROUND(BO35/2,3) -> #N/A | BP36: 芸術採点を％で表したもの | BS36: =ROUND(BS35/2,3) -> #N/A | BT36: 芸術採点を％で表したもの | BW36: =ROUND(BW35/2,3) -> #N/A | BX36: 芸術採点を％で表したもの | CA36: =ROUND(CA35/2,3) -> #N/A | CB36: 芸術採点を％で表したもの | CE36: =ROUND(CE35/2,3) -> #N/A | CG36: 芸術採点を％で表したもの | CJ36: =ROUND(CJ35/2,3) -> #N/A | CK36: 芸術採点を％で表したもの | CN36: =ROUND(CN35/2,3) -> #N/A | CO36: 芸術採点を％で表したもの | CR36: =ROUND(CR35/2,3) -> #N/A | CS36: 芸術採点を％で表したもの | CV36: =ROUND(CV35/2,3) -> #N/A | CW36: 芸術採点を％で表したもの | CZ36: =ROUND(CZ35/2,3) -> #N/A
A37: 時間減点 | E37: 時間減点 | I37: 時間減点 | M37: 時間減点 | Q37: 時間減点 | V37: 時間減点 | Z37: 時間減点 | AD37: 時間減点 | AH37: 時間減点 | AL37: 時間減点 | AQ37: 時間減点 | AU37: 時間減点 | AY37: 時間減点 | BC37: 時間減点 | BG37: 時間減点 | BL37: 時間減点 | BP37: 時間減点 | BT37: 時間減点 | BX37: 時間減点 | CB37: 時間減点 | CG37: 時間減点 | CK37: 時間減点 | CO37: 時間減点 | CS37: 時間減点 | CW37: 時間減点
A38: 芸術採点 得点率（最終） | D38: =D36+D37 -> #N/A | E38: 芸術採点 得点率（最終） | H38: =H36+H37 -> #N/A | I38: 芸術採点 得点率（最終） | L38: =L36+L37 -> #N/A | M38: 芸術採点 得点率（最終） | P38: =P36+P37 -> #N/A | Q38: 芸術採点 得点率（最終） | T38: =T36+T37 -> #N/A | V38: 芸術採点 得点率（最終） | Y38: =Y36+Y37 -> #N/A | Z38: 芸術採点 得点率（最終） | AC38: =AC36+AC37 -> #N/A | AD38: 芸術採点 得点率（最終） | AG38: =AG36+AG37 -> #N/A | AH38: 芸術採点 得点率（最終） | AK38: =AK36+AK37 -> #N/A | AL38: 芸術採点 得点率（最終） | AO38: =AO36+AO37 -> #N/A | AQ38: 芸術採点 得点率（最終） | AT38: =AT36+AT37 -> #N/A | AU38: 芸術採点 得点率（最終） | AX38: =AX36+AX37 -> #N/A | AY38: 芸術採点 得点率（最終） | BB38: =BB36+BB37 -> #N/A | BC38: 芸術採点 得点率（最終） | BF38: =BF36+BF37 -> #N/A | BG38: 芸術採点 得点率（最終） | BJ38: =BJ36+BJ37 -> #N/A | BL38: 芸術採点 得点率（最終） | BO38: =BO36+BO37 -> #N/A | BP38: 芸術採点 得点率（最終） | BS38: =BS36+BS37 -> #N/A | BT38: 芸術採点 得点率（最終） | BW38: =BW36+BW37 -> #N/A | BX38: 芸術採点 得点率（最終） | CA38: =CA36+CA37 -> #N/A | CB38: 芸術採点 得点率（最終） | CE38: =CE36+CE37 -> #N/A | CG38: 芸術採点 得点率（最終） | CJ38: =CJ36+CJ37 -> #N/A | CK38: 芸術採点 得点率（最終） | CN38: =CN36+CN37 -> #N/A | CO38: 芸術採点 得点率（最終） | CR38: =CR36+CR37 -> #N/A | CS38: 芸術採点 得点率（最終） | CV38: =CV36+CV37 -> #N/A | CW38: 芸術採点 得点率（最終） | CZ38: =CZ36+CZ37 -> #N/A
A39: 最終得点率 | D39: =ROUND((D34+D38)/2,3) -> #N/A | E39: 最終得点率 | H39: =ROUND((H34+H38)/2,3) -> #N/A | I39: 最終得点率 | L39: =ROUND((L34+L38)/2,3) -> #N/A | M39: 最終得点率 | P39: =ROUND((P34+P38)/2,3) -> #N/A | Q39: 最終得点率 | T39: =ROUND((T34+T38)/2,3) -> #N/A | V39: 最終得点率 | Y39: =ROUND((Y34+Y38)/2,3) -> #N/A | Z39: 最終得点率 | AC39: =ROUND((AC34+AC38)/2,3) -> #N/A | AD39: 最終得点率 | AG39: =ROUND((AG34+AG38)/2,3) -> #N/A | AH39: 最終得点率 | AK39: =ROUND((AK34+AK38)/2,3) -> #N/A | AL39: 最終得点率 | AO39: =ROUND((AO34+AO38)/2,3) -> #N/A | AQ39: 最終得点率 | AT39: =ROUND((AT34+AT38)/2,3) -> #N/A | AU39: 最終得点率 | AX39: =ROUND((AX34+AX38)/2,3) -> #N/A | AY39: 最終得点率 | BB39: =ROUND((BB34+BB38)/2,3) -> #N/A | BC39: 最終得点率 | BF39: =ROUND((BF34+BF38)/2,3) -> #N/A | BG39: 最終得点率 | BJ39: =ROUND((BJ34+BJ38)/2,3) -> #N/A | BL39: 最終得点率 | BO39: =ROUND((BO34+BO38)/2,3) -> #N/A | BP39: 最終得点率 | BS39: =ROUND((BS34+BS38)/2,3) -> #N/A | BT39: 最終得点率 | BW39: =ROUND((BW34+BW38)/2,3) -> #N/A | BX39: 最終得点率 | CA39: =ROUND((CA34+CA38)/2,3) -> #N/A | CB39: 最終得点率 | CE39: =ROUND((CE34+CE38)/2,3) -> #N/A | CG39: 最終得点率 | CJ39: =ROUND((CJ34+CJ38)/2,3) -> #N/A | CK39: 最終得点率 | CN39: =ROUND((CN34+CN38)/2,3) -> #N/A | CO39: 最終得点率 | CR39: =ROUND((CR34+CR38)/2,3) -> #N/A | CS39: 最終得点率 | CV39: =ROUND((CV34+CV38)/2,3) -> #N/A | CW39: 最終得点率 | CZ39: =ROUND((CZ34+CZ38)/2,3) -> #N/A
A40: 技術得点率 | B40: =ROUND((D34+H34+L34+P34+T34)/$AB$1,3) -> #DIV/0! | V40: 技術得点率 | W40: =ROUND((Y34+AC34+AG34+AK34+AO34)/$AB$1,3) -> #DIV/0! | AQ40: 技術得点率 | AR40: =ROUND((AT34+AX34+BB34+BF34+BJ34)/$AB$1,3) -> #DIV/0! | BL40: 技術得点率 | BM40: =ROUND((BO34+BS34+BW34+CA34+CE34)/$AB$1,3) -> #DIV/0! | CG40: 技術得点率 | CH40: =ROUND((CJ34+CN34+CR34+CV34+CZ34)/$AB$1,3) -> #DIV/0!
A41: 芸術得点率 | B41: =ROUND((D38+H38+L38+P38+T38)/$AB$1,3) -> #N/A | V41: 芸術得点率 | W41: =ROUND((Y38+AC38+AG38+AK38+AO38)/$AB$1,3) -> #N/A | AQ41: 芸術得点率 | AR41: =ROUND((AT38+AX38+BB38+BF38+BJ38)/$AB$1,3) -> #N/A | BL41: 芸術得点率 | BM41: =ROUND((BO38+BS38+BW38+CA38+CE38)/$AB$1,3) -> #N/A | CG41: 芸術得点率 | CH41: =ROUND((CJ38+CN38+CR38+CV38+CZ38)/$AB$1,3) -> #N/A
A42: 最終結果 | B42: =IF(T3="",ROUND((D39+H39+L39+P39+T39)/$AB$1,3),T3) -> #N/A | V42: 最終結果 | W42: =IF(AO3="",ROUND((Y39+AC39+AG39+AK39+AO39)/$AB$1,3),AO3) -> #N/A | AQ42: 最終結果 | AR42: =IF(BJ3="",ROUND((AT39+AX39+BB39+BF39+BJ39)/$AB$1,3),BJ3) -> #N/A | BL42: 最終結果 | BM42: =IF(CE3="",ROUND((BO39+BS39+BW39+CA39+CE39)/$AB$1,3),CE3) -> #N/A | CG42: 最終結果 | CH42: =IF(CZ3="",ROUND((CJ39+CN39+CR39+CV39+CZ39)/$AB$1,3),CZ3) -> #N/A
A44: 出番 | B44: =①出番表!$B19 -> 6 | D44: 選手 | E44: =①出番表!$C19 -> 0 | H44: =①出番表!$D19 -> 0 | I44: 馬 | J44: =①出番表!$E19 -> 0 | M44: =①出番表!$F19 -> 0 | N44: 所属 | O44: =①出番表!$G19 -> 0 | S44: 強制処理 | V44: 出番 | W44: =①出番表!$B20 -> 7 | Y44: 選手 | Z44: =①出番表!$C20 -> 0 | AC44: =①出番表!$D20 -> 0 | AD44: 馬 | AE44: =①出番表!$E20 -> 0 | AH44: =①出番表!$F20 -> 0 | AI44: 所属 | AJ44: =①出番表!$G20 -> 0 | AN44: 強制処理 | AQ44: 出番 | AR44: =①出番表!$B21 -> 8 | AT44: 選手 | AU44: =①出番表!$C21 -> 0 | AX44: =①出番表!$D21 -> 0 | AY44: 馬 | AZ44: =①出番表!$E21 -> 0 | BC44: =①出番表!$F21 -> 0 | BD44: 所属 | BE44: =①出番表!$G21 -> 0 | BI44: 強制処理 | BL44: 出番 | BM44: =①出番表!$B22 -> 9 | BO44: 選手 | BP44: =①出番表!$C22 -> 0 | BS44: =①出番表!$D22 -> 0 | BT44: 馬 | BU44: =①出番表!$E22 -> 0 | BX44: =①出番表!$F22 -> 0 | BY44: 所属 | BZ44: =①出番表!$G22 -> 0 | CD44: 強制処理 | CG44: 出番 | CH44: =①出番表!$B23 -> 10 | CJ44: 選手 | CK44: =①出番表!$C23 -> 0 | CN44: =①出番表!$D23 -> 0 | CO44: 馬 | CP44: =①出番表!$E23 -> 0 | CS44: =①出番表!$F23 -> 0 | CT44: 所属 | CU44: =①出番表!$G23 -> 0 | CY44: 強制処理
...

Sheet ③コピペ用
B2: 大会登録No. | C2: =IF(①出番表!C2="","",①出番表!C2) | E2: 開催日： | F2: =IF(①出番表!F2="","",①出番表!F2) | P2: 主任審判員署名：
B3: 大会名： | C3: =IF(①出番表!C3="","",①出番表!C3) | Q3: 公式発表時刻：
B4: 第 | C4: =IF(①出番表!C4="","",①出番表!C4) | D4: 競技 | E4: 競技名： | F4: =IF(①出番表!F4="","",①出番表!F4)
B5: 認定競技No. | C5: =IF(①出番表!C5="","",①出番表!C5) | E5: クラス： | F5: =IF(①出番表!F5="","",①出番表!F5)
A6: E： | B6: 会員番号 | C6: =IF(①出番表!C6="","",①出番表!C6) | D6: 審判名 | E6: =IF(①出番表!E6="","",①出番表!E6)
A7: H： | B7: 会員番号 | C7: =IF(①出番表!C7="","",①出番表!C7) | D7: 審判名 | E7: =IF(①出番表!E7="","",①出番表!E7)
